Workbook
Name Assumptions: #REF!
Name Current_month: #REF!
Name CurrentFY: 'US Chart'!$Z$4
Name FY_ratios: '[1]States by Mo'!$A$3:$BE$53
Name FY_ratios: '[1]States by Mo'!$A$3:$BE$53
Name FY_ratios: '[1]States by Mo'!$A$3:$BE$53
Name FY_ratios: '[1]States by Mo'!$A$3:$BE$53
Name FY_ratios: '[1]States by Mo'!$A$3:$BE$53
Name FY_ratios: '[1]States by Mo'!$A$3:$BE$53
Name FY_ratios: '[1]States by Mo'!$A$3:$BE$53
Name FY_ratios: '[1]States by Mo'!$A$3:$BE$53
Name FY_ratios: '[1]States by Mo'!$A$3:$BE$53
Name FY_ratios: '[1]States by Mo'!$A$3:$BE$53
Name FY_ratios: '[1]States by Mo'!$A$3:$BE$53
Name FY_ratios: '[1]States by Mo'!$A$3:$BE$53
Name FY_ratios: '[1]States by Mo'!$A$3:$BE$53
Name FY_ratios: '[1]States by Mo'!$A$3:$BE$53
Name FY_ratios: '[1]States by Mo'!$A$3:$BE$53
Name FY_ratios: '[1]States by Mo'!$A$3:$BE$53
Name FY_ratios: '[1]States by Mo'!$A$3:$BE$53
Name FY_ratios: '[1]States by Mo'!$A$3:$BE$53
Name FY_ratios: '[1]States by Mo'!$A$3:$BE$53
Name FY_ratios: '[1]States by Mo'!$A$3:$BE$53
Name FY_ratios: '[1]States by Mo'!$A$3:$BE$53
Name FY_ratios: '[1]States by Mo'!$A$3:$BE$53
Name FY_ratios: '[1]States by Mo'!$A$3:$BE$53
Name FY_ratios: '[1]States by Mo'!$A$3:$BE$53
Name FY_ratios: '[1]States by Mo'!$A$3:$BE$53
Name FY_ratios: '[1]States by Mo'!$A$3:$BE$53
Name FY_ratios: 'States by Mo'!$A$3:$AE$53
Name StateAbbrev: #REF!
Name StateNames: [1]tables!$A$2:$F$51
Name StateNames: [1]tables!$A$2:$F$51
Name StateNames: [1]tables!$A$2:$F$51
Name StateNames: [1]tables!$A$2:$F$51
Name StateNames: [1]tables!$A$2:$F$51
Name StateNames: [1]tables!$A$2:$F$51
Name StateNames: [1]tables!$A$2:$F$51
Name StateNames: [1]tables!$A$2:$F$51
Name StateNames: [1]tables!$A$2:$F$51
Name StateNames: [1]tables!$A$2:$F$51
Name StateNames: [1]tables!$A$2:$F$51
Name StateNames: [1]tables!$A$2:$F$51
Name StateNames: [1]tables!$A$2:$F$51
Name StateNames: [1]tables!$A$2:$F$51
Name StateNames: [1]tables!$A$2:$F$51
Name StateNames: [1]tables!$A$2:$F$51
Name StateNames: [1]tables!$A$2:$F$51
Name StateNames: [1]tables!$A$2:$F$51
Name StateNames: [1]tables!$A$2:$F$51
Name StateNames: [1]tables!$A$2:$F$51
Name StateNames: [1]tables!$A$2:$F$51
Name StateNames: [1]tables!$A$2:$F$51
Name StateNames: [1]tables!$A$2:$F$51
Name StateNames: [1]tables!$A$2:$F$51
Name StateNames: [1]tables!$A$2:$F$51
Name StateNames: [1]tables!$A$2:$F$51
Name StateNames: #REF!

Sheet Sep'24
A1: Run Date: 09/30/2024 As of: 09/30/2024 | B1: 09/30/2024
A2: State Name | B2: Amount Of Open Grants | C2: Total Expended from Open Grants | D2: Total Unexpended from Open Grants | E2: Amount Expended Last 12 Months | F2: Most Recent Grant Amount | G2: Ratio Unexpended To Grant | H2: Ratio Expended Last 12 Months to Grant | I2: Avg monthly expenditure last 12 mos | J2: Months remaining to goal | K2: Projected bal 60 days before end of PY | L2: Monthly spending to reach 2x goal | M2: Monthly spending to reach 2.5x goal | N2: PY Start | O2: Current Pgm Yr start | P2: latest month's expenditure | Q2: Most Recent Grant Appeared in LOCCS
A3: WEST VIRGINIA | B3: 7.0869638e+08 | C3: 6.2875351e+08 | D3: 79942874 | E3: 12484071 | F3: 13833071 | G3: 5.78 | H3: 0.9 | I3: 1040339.2 | J3: 7 | K3: 72660499 | L3: 7468104.6 | M3: 6480028.1 | N3: 43647 | O3: 45474 | P3: 1231311.4 | Q3: #VALUE!
A4: NORTH CAROLINA | B4: 1.7885959e+09 | C4: 1.5240829e+09 | D4: 2.6451301e+08 | E4: 33178923 | F4: 46272979 | G4: 5.72 | H4: 0.72 | I4: 2764910.3 | J4: 1 | K4: 2.617481e+08 | L4: 1.7196705e+08 | M4: 1.4883056e+08 | N4: 43831 | O4: 45292 | P4: 4675534.7 | Q4: #VALUE!
A5: ILLINOIS | B5: 1.3362735e+09 | C5: 1.1776839e+09 | D5: 1.5858957e+08 | E5: 14799242 | F5: 29074134 | G5: 5.45 | H5: 0.51 | I5: 1233270.1 | J5: 1 | K5: 1.573563e+08 | L5: 1.004413e+08 | M5: 85904236 | N5: 43831 | O5: 45292 | P5: 2168333.7 | Q5: #VALUE!
A6: MICHIGAN | B6: 1.4692429e+09 | C6: 1.2924988e+09 | D6: 176744084 | E6: 27511655 | F6: 33073641 | G6: 5.34 | H6: 0.83 | I6: 2292637.9 | J6: 7 | K6: 1.6069562e+08 | L6: 15799543 | M6: 13437140 | N6: 43647 | O6: 45474 | P6: 13456.84 | Q6: #VALUE!
A7: FLORIDA | B7: 1.1151974e+09 | C7: 9.8117465e+08 | D7: 1.3402274e+08 | E7: 11409245 | F7: 26165562 | G7: 5.12 | H7: 0.44 | I7: 950770.4 | J7: 7 | K7: 1.2736735e+08 | L7: 11670231 | M7: 9801262.7 | N7: 43647 | O7: 45474 | P7: 3850321.3 | Q7: #VALUE!
A8: MONTANA | B8: 265120500 | C8: 2.3427549e+08 | D8: 30845006 | E8: 6128786.5 | F8: 6172506 | G8: 5 | H8: 0.99 | I8: 510732.21 | J8: 4 | K8: 28802077 | L8: 4624998.5 | M8: 3853435.2 | N8: 43922 | O8: 45383 | P8: 706655.34 | Q8: #VALUE!
A9: RHODE ISLAND | B9: 2.031847e+08 | C9: 1.7582358e+08 | D9: 27361116 | E9: 3949500.4 | F9: 5655134 | G9: 4.84 | H9: 0.7 | I9: 329125.03 | J9: 7 | K9: 25057240 | L9: 2292978.2 | M9: 1889040.1 | N9: 43647 | O9: 45474 | P9: 0 | Q9: #VALUE!
A10: WYOMING | B10: 1.2089976e+08 | C10: 1.0416541e+08 | D10: 16734355 | E10: 1619676.2 | F10: 3521015 | G10: 4.75 | H10: 0.46 | I10: 134973.01 | J10: 1 | K10: 16599382 | L10: 9692325 | M10: 7931817.5 | N10: 43831 | O10: 45292 | P10: 136272.31 | Q10: #VALUE!
A11: MINNESOTA | B11: 853256279 | C11: 7.6731957e+08 | D11: 85936711 | E11: 15828135 | F11: 18836467 | G11: 4.56 | H11: 0.84 | I11: 1319011.3 | J11: 0 | K11: 85936711 | L11: NA | M11: NA | N11: 43739 | O11: 45200 | P11: 2419131.9 | Q11: #VALUE!
A12: NEW MEXICO | B12: 493558716 | C12: 4.431757e+08 | D12: 50383011 | E12: 8356828.4 | F12: 11038481 | G12: 4.56 | H12: 0.76 | I12: 696402.37 | J12: 1 | K12: 49686609 | L12: 28306049 | M12: 22786809 | N12: 43831 | O12: 45292 | P12: 586068.56 | Q12: #VALUE!
A13: NORTH DAKOTA | B13: 187480557 | C13: 1.7149918e+08 | D13: 15981373 | E13: 2392918.6 | F13: 3515583 | G13: 4.55 | H13: 0.68 | I13: 199409.88 | J13: 7 | K13: 14585504 | L13: 1278601.1 | M13: 1027488 | N13: 43647 | O13: 45474 | P13: 18908.99 | Q13: #VALUE!
A14: SOUTH CAROLINA | B14: 1.0224308e+09 | C14: 9.372201e+08 | D14: 85210694 | E14: 25397119 | F14: 19809810 | G14: 4.3 | H14: 1.28 | I14: 2116426.6 | J14: 4 | K14: 76744987 | L14: 11397768 | M14: 8921542.1 | N14: 43922 | O14: 45383 | P14: 3961347 | Q14: #VALUE!
A15: NEBRASKA | B15: 5.0056523e+08 | C15: 4.5900829e+08 | D15: 41556939 | E15: 10428671 | F15: 10539100 | G15: 3.94 | H15: 0.99 | I15: 869055.94 | J15: 7 | K15: 35473548 | L15: 2925534.2 | M15: 2172741.3 | N15: 43647 | O15: 45474 | P15: 844824.48 | Q15: #VALUE!
A16: ALASKA | B16: 104394118 | C16: 94466110 | D16: 9928008.4 | E16: 2347883 | F16: 2677355 | G16: 3.71 | H16: 0.88 | I16: 195656.92 | J16: 7 | K16: 8558410 | L16: 653328.34 | M16: 462088.7 | N16: 43647 | O16: 45474 | P16: 0 | Q16: #VALUE!
A17: CONNECTICUT | B17: 5.2832884e+08 | C17: 4.7805292e+08 | D17: 50275918 | E17: 13415556 | F17: 13880022 | G17: 3.62 | H17: 0.97 | I17: 1117963 | J17: 7 | K17: 42450177 | L17: 3216553.4 | M17: 2225123.3 | N17: 43647 | O17: 45474 | P17: 0 | Q17: #VALUE!
A18: PUERTO RICO | B18: 1922975437 | C18: 1.8467395e+09 | D18: 76235971 | E18: 22621037 | F18: 22385506 | G18: 3.41 | H18: 1.01 | I18: 1885086.4 | J18: 7 | K18: 63040366 | L18: 4494994.2 | M18: 2896029.4 | N18: 43647 | O18: 45474 | P18: 2817337 | Q18: #VALUE!
A19: ARKANSAS | B19: 7.8298357e+08 | C19: 7.2279085e+08 | D19: 60192716 | E19: 15977182 | F19: 17807834 | G19: 3.38 | H19: 0.9 | I19: 1331431.9 | J19: 7 | K19: 50872692 | L19: 3511006.8 | M19: 2239018.6 | N19: 43647 | O19: 45474 | P19: 2560213.9 | Q19: #VALUE!
A20: KENTUCKY | B20: 1.1417867e+09 | C20: 1.0544022e+09 | D20: 87384457 | E20: 20979795 | F20: 26492151 | G20: 3.3 | H20: 0.79 | I20: 1748316.3 | J20: 7 | K20: 75146243 | L20: 4914307.9 | M20: 3022011.4 | N20: 43647 | O20: 45474 | P20: 1059929.4 | Q20: #VALUE!
A21: CALIFORNIA | B21: 1.4083628e+09 | C21: 1.3067854e+09 | D21: 1.0157741e+08 | E21: 22527005 | F21: 31050303 | G21: 3.27 | H21: 0.73 | I21: 1877250.4 | J21: 7 | K21: 88436658 | L21: 5639543.6 | M21: 3421664.8 | N21: 43647 | O21: 45474 | P21: 1447501.1 | Q21: #VALUE!
A22: VIRGINIA | B22: 775111638 | C22: 7.1413663e+08 | D22: 60975010 | E22: 13459865 | F22: 18806749 | G22: 3.24 | H22: 0.72 | I22: 1121655.4 | J22: 7 | K22: 53123422 | L22: 3337358.9 | M22: 1994019.7 | N22: 43647 | O22: 45474 | P22: 823577.25 | Q22: #VALUE!
A23: COLORADO | B23: 3.833284e+08 | C23: 3.5315967e+08 | D23: 30168735 | E23: 7480405.9 | F23: 9345978 | G23: 3.23 | H23: 0.8 | I23: 623367.16 | J23: 4 | K23: 27675266 | L23: 2869194.7 | M23: 1700947.4 | N23: 43556 | O23: 45383 | P23: 47027.25 | Q23: #VALUE!
... A25: NEW JERSEY | B25: 2.9382075e+08 | C25: 2.7214101e+08 | D25: 21679739 | E25: 7645510.3 | F25: 6746804 | G25: 3.21 | H25: 1.13 | I25: 637125.86 | J25: 7 | K25: 17219858 | L25: 1169447.3 | M25: 687532.72 | N25: 43647 | O25: 45474 | P25: 136673.75 | Q25: #VALUE!
A26: TEXAS | B26: 2.8793131e+09 | C26: 2.6597199e+09 | D26: 2.1959317e+08 | E26: 74357252 | F26: 70613641 | G26: 3.11 | H26: 1.05 | I26: 6196437.6 | J26: 9 | K26: 1.6382523e+08 | L26: 8707320.8 | M26: on track | N26: 44075 | O26: 45536 | P26: 5331111.3 | Q26: #VALUE!
A27: WASHINGTON | B27: 522049097 | C27: 4.8206064e+08 | D27: 39988460 | E27: 14538293 | F27: 13105608 | G27: 3.05 | H27: 1.11 | I27: 1211524.4 | J27: 7 | K27: 31507789 | L27: 1968177.7 | M27: on track | N27: 43647 | O27: 45474 | P27: 1008162.1 | Q27: #VALUE!
A28: OREGON | B28: 5.4540968e+08 | C28: 5.1000588e+08 | D28: 35403799 | E28: 17092623 | F28: 11656242 | G28: 3.04 | H28: 1.47 | I28: 1424385.2 | J28: 1 | K28: 33979414 | L28: 12091315 | M28: 6263194 | N28: 43831 | O28: 45292 | P28: 1482961 | Q28: #VALUE!
A29: MASSACHUSETTS | B29: 1.394383e+09 | C29: 1.2885711e+09 | D29: 1.0581189e+08 | E29: 29710959 | F29: 34869850 | G29: 3.03 | H29: 0.85 | I29: 2475913.2 | J29: 4 | K29: 95908241 | L29: 9018048.6 | M29: 4659317.3 | N29: 43922 | O29: 45383 | P29: 1348955.1 | Q29: #VALUE!
A30: MISSOURI | B30: 987264872 | C30: 9.1875168e+08 | D30: 68513194 | E30: 32899484 | F30: 23383549 | G30: 2.93 | H30: 1.41 | I30: 2741623.7 | J30: 4 | K30: 57546700 | L30: 5436524.1 | M30: on track | N30: 43922 | O30: 45383 | P30: 2155033.5 | Q30: #VALUE!
A31: IDAHO | B31: 3.4288781e+08 | C31: 3.1904546e+08 | D31: 23842348 | E31: 8780125 | F31: 8236180 | G31: 2.89 | H31: 1.07 | I31: 731677.08 | J31: 4 | K31: 20915639 | L31: 1842496.9 | M31: 812974.44 | N31: 43556 | O31: 45383 | P31: 843728.94 | Q31: #VALUE!
A32: NEW HAMPSHIRE | B32: 346058940 | C32: 3.1908439e+08 | D32: 26974549 | E32: 6147972.9 | F32: 9353201 | G32: 2.88 | H32: 0.66 | I32: 512331.07 | J32: 1 | K32: 26462218 | L32: 8268146.9 | M32: 3591546.4 | N32: 43831 | O32: 45292 | P32: 502016.83 | Q32: #VALUE!
A33: SOUTH DAKOTA | B33: 248558577 | C33: 2.3236501e+08 | D33: 16193571 | E33: 6077557.4 | F33: 5790145 | G33: 2.8 | H33: 1.05 | I33: 506463.12 | J33: 1 | K33: 15687108 | L33: 4613280.7 | M33: 1718208.2 | N33: 43831 | O33: 45292 | P33: 315290.81 | Q33: #VALUE!
A34: OKLAHOMA | B34: 6.8538868e+08 | C34: 6.4704953e+08 | D34: 38339143 | E34: 12917658 | F34: 13963452 | G34: 2.75 | H34: 0.93 | I34: 1076471.5 | J34: 4 | K34: 34033257 | L34: 2603059.8 | M34: on track | N34: 43922 | O34: 45383 | P34: 1171982.1 | Q34: #VALUE!
A35: INDIANA | B35: 1.3097388e+09 | C35: 1.2258425e+09 | D35: 83896312 | E35: 26870230 | F35: 30738746 | G35: 2.73 | H35: 0.87 | I35: 2239185.8 | J35: 7 | K35: 68222011 | L35: 3202688.5 | M35: on track | N35: 43647 | O35: 45474 | P35: 3672983.2 | Q35: #VALUE!
A36: PENNSYLVANIA | B36: 1.9602849e+09 | C36: 1.853032e+09 | D36: 107252912 | E36: 39141049 | F36: 41120349 | G36: 2.61 | H36: 0.95 | I36: 3261754.1 | J36: 1 | K36: 1.0399116e+08 | L36: 25012214 | M36: 4452039.5 | N36: 43831 | O36: 45292 | P36: 3823581.9 | Q36: #VALUE!
A37: MARYLAND | B37: 3.060766e+08 | C37: 2.8518252e+08 | D37: 20894078 | E37: 7972947 | F37: 8165077 | G37: 2.56 | H37: 0.98 | I37: 664412.25 | J37: 7 | K37: 16243192 | L37: on track | M37: on track | N37: 43647 | O37: 45474 | P37: 1232673.1 | Q37: #VALUE!
A38: NEW YORK | B38: 1.1813216e+09 | C38: 1.0612705e+09 | D38: 1.2005103e+08 | E38: 62845543 | F38: 47769843 | G38: 2.51 | H38: 1.32 | I38: 5237128.6 | J38: 1 | K38: 1.148139e+08 | L38: 24511344 | M38: on track | N38: 43831 | O38: 45292 | P38: 1704624.3 | Q38: #VALUE!
A39: WISCONSIN | B39: 1082941284 | C39: 1.0166018e+09 | D39: 66339488 | E39: 29244093 | F39: 27168342 | G39: 2.44 | H39: 1.08 | I39: 2437007.8 | J39: 4 | K39: 56591457 | L39: 3000701.1 | M39: on track | N39: 43922 | O39: 45383 | P39: 4710333.7 | Q39: #VALUE!
A40: IOWA | B40: 1035563531 | C40: 9.7681856e+08 | D40: 58744967 | E40: 17722598 | F40: 24645105 | G40: 2.38 | H40: 0.72 | I40: 1476883.2 | J40: 1 | K40: 57268084 | L40: 9454757.5 | M40: on track | N40: 43831 | O40: 45292 | P40: 1918506.5 | Q40: #VALUE!
A41: MISSISSIPPI | B41: 1.2153834e+09 | C41: 1.1575421e+09 | D41: 57841247 | E41: 17384484 | F41: 24335266 | G41: 2.38 | H41: 0.71 | I41: 1448707 | J41: 7 | K41: 47700299 | L41: on track | M41: on track | N41: 43647 | O41: 45474 | P41: 711445.55 | Q41: #VALUE!
...

Sheet Oct'24
A1: Run Date: 10/31/2024 As of: 10/31/2024 | B1: 10/31/2024
A2: State Name | B2: Amount Of Open Grants | C2: Total Expended from Open Grants | D2: Total Unexpended from Open Grants | E2: Amount Expended Last 12 Months | F2: Most Recent Grant Amount | G2: Ratio Unexpended To Grant | H2: Ratio Expended Last 12 Months to Grant | I2: Avg monthly expenditure last 12 mos | J2: Months remaining to goal | K2: Projected bal 60 days before end of PY | L2: Monthly spending to reach 2x goal | M2: Monthly spending to reach 2.5x goal | N2: PY Start | O2: Current Pgm Yr start | P2: latest month's expenditure | Q2: Most Recent Grant Appeared in LOCCS
A3: NORTH CAROLINA | B3: 1.7885959e+09 | C3: 1.5253097e+09 | D3: 2.6328623e+08 | E3: 31752416 | F3: 46272979 | G3: 5.69 | H3: 0.69 | I3: 2646034.6 | J3: 0 | K3: 2.6328623e+08 | L3: NA | M3: NA | N3: 43831 | O3: 45292 | P3: 1226782.6 | Q3: #VALUE!
A4: WEST VIRGINIA | B4: 7.0869638e+08 | C4: 6.3042532e+08 | D4: 78271065 | E4: 12892506 | F4: 13833071 | G4: 5.66 | H4: 0.93 | I4: 1074375.5 | J4: 6 | K4: 71824812 | L4: 8434153.8 | M4: 7281397.9 | N4: 43647 | O4: 45474 | P4: 1671809.1 | Q4: #VALUE!
A5: ILLINOIS | B5: 1.3362735e+09 | C5: 1.1792066e+09 | D5: 1.5706685e+08 | E5: 14735379 | F5: 29074134 | G5: 5.4 | H5: 0.51 | I5: 1227948.2 | J5: 0 | K5: 1.5706685e+08 | L5: NA | M5: NA | N5: 43831 | O5: 45292 | P5: 1522720.3 | Q5: #VALUE!
A6: MICHIGAN | B6: 1.4692429e+09 | C6: 1.2928143e+09 | D6: 1.764286e+08 | E6: 26572837 | F6: 33073641 | G6: 5.33 | H6: 0.8 | I6: 2214403.1 | J6: 6 | K6: 1.6314218e+08 | L6: 18380220 | M6: 15624083 | N6: 43647 | O6: 45474 | P6: 315481.41 | Q6: #VALUE!
A7: FLORIDA | B7: 1.1151974e+09 | C7: 9.8144284e+08 | D7: 1.3375456e+08 | E7: 11466931 | F7: 26165562 | G7: 5.11 | H7: 0.44 | I7: 955577.58 | J7: 6 | K7: 1.2802109e+08 | L7: 13570573 | M7: 11390109 | N7: 43647 | O7: 45474 | P7: 268184.97 | Q7: #VALUE!
A8: RHODE ISLAND | B8: 2.031847e+08 | C8: 1.7582358e+08 | D8: 27361116 | E8: 3709939.1 | F8: 5655134 | G8: 4.84 | H8: 0.66 | I8: 309161.59 | J8: 6 | K8: 25506146 | L8: 2675141.3 | M8: 2203880.1 | N8: 43647 | O8: 45474 | P8: 0 | Q8: #VALUE!
A9: MONTANA | B9: 265120500 | C9: 2.3580232e+08 | D9: 29318177 | E9: 7056270.2 | F9: 6172506 | G9: 4.75 | H9: 1.14 | I9: 588022.52 | J9: 3 | K9: 27554109 | L9: 5657721.7 | M9: 4628970.7 | N9: 43922 | O9: 45383 | P9: 1526828.9 | Q9: #VALUE!
A10: WYOMING | B10: 1.2089976e+08 | C10: 1.0430625e+08 | D10: 16593515 | E10: 1742257.8 | F10: 3521015 | G10: 4.71 | H10: 0.49 | I10: 145188.15 | J10: 0 | K10: 16593515 | L10: NA | M10: NA | N10: 43831 | O10: 45292 | P10: 140840.22 | Q10: #VALUE!
A11: MINNESOTA | B11: 853256279 | C11: 7.6828901e+08 | D11: 84967273 | E11: 15206881 | F11: 18836467 | G11: 4.51 | H11: 0.81 | I11: 1267240.1 | J11: 9 | K11: 73562113 | L11: 5254926.6 | M11: 4208456.2 | N11: 43739 | O11: 45566 | P11: 969437.15 | Q11: #VALUE!
A12: NEW MEXICO | B12: 493558716 | C12: 4.4375147e+08 | D12: 49807248 | E12: 7839250.8 | F12: 11038481 | G12: 4.51 | H12: 0.71 | I12: 653270.9 | J12: 0 | K12: 49807248 | L12: NA | M12: NA | N12: 43831 | O12: 45292 | P12: 575763.83 | Q12: #VALUE!
A13: NORTH DAKOTA | B13: 187480557 | C13: 1.7179008e+08 | D13: 15690476 | E13: 2325112.4 | F13: 3515583 | G13: 4.46 | H13: 0.66 | I13: 193759.37 | J13: 6 | K13: 14527919 | L13: 1443218.3 | M13: 1150253 | N13: 43647 | O13: 45474 | P13: 290897.87 | Q13: #VALUE!
A14: PUERTO RICO | B14: 1945106991 | C14: 1.8476627e+09 | D14: 97444274 | E14: 22609317 | F14: 22131554 | G14: 4.4 | H14: 1.02 | I14: 1884109.8 | J14: 6 | K14: 86139616 | L14: 8863527.7 | M14: 7019231.5 | N14: 43647 | O14: 45474 | P14: 923250.9 | Q14: #VALUE!
A15: KENTUCKY | B15: 1.1681423e+09 | C15: 1.0555139e+09 | D15: 1.1262842e+08 | E15: 20113332 | F15: 26355588 | G15: 4.27 | H15: 0.76 | I15: 1676111 | J15: 6 | K15: 1.0257175e+08 | L15: 9986207.2 | M15: 7789908.2 | N15: 43647 | O15: 45474 | P15: 1111626 | Q15: #VALUE!
A16: SOUTH CAROLINA | B16: 1.0224308e+09 | C16: 9.3984841e+08 | D16: 82582385 | E16: 25079972 | F16: 19809810 | G16: 4.17 | H16: 1.27 | I16: 2089997.7 | J16: 3 | K16: 76312392 | L16: 14320922 | M16: 11019287 | N16: 43922 | O16: 45383 | P16: 2628309 | Q16: #VALUE!
A17: VIRGINIA | B17: 794219275 | C17: 7.1541054e+08 | D17: 78808732 | E17: 13849790 | F17: 19107637 | G17: 4.12 | H17: 0.72 | I17: 1154149.2 | J17: 6 | K17: 71883837 | L17: 6765576.3 | M17: 5173273.2 | N17: 43647 | O17: 45474 | P17: 1273915.2 | Q17: #VALUE!
A18: NEBRASKA | B18: 5.0056523e+08 | C18: 4.5983238e+08 | D18: 40732845 | E18: 9836438.8 | F18: 10539100 | G18: 3.86 | H18: 0.93 | I18: 819703.23 | J18: 6 | K18: 35814625 | L18: 3275774.1 | M18: 2397515.8 | N18: 43647 | O18: 45474 | P18: 824094.71 | Q18: #VALUE!
A19: ALASKA | B19: 104394118 | C19: 94466110 | D19: 9928008.4 | E19: 2166757.3 | F19: 2677355 | G19: 3.71 | H19: 0.81 | I19: 180563.11 | J19: 6 | K19: 8844629.7 | L19: 762216.4 | M19: 539103.48 | N19: 43647 | O19: 45474 | P19: 0 | Q19: #VALUE!
A20: PENNSYLVANIA | B20: 2.0010648e+09 | C20: 1.8585821e+09 | D20: 1.4248278e+08 | E20: 40085228 | F20: 40779947 | G20: 3.49 | H20: 0.98 | I20: 3340435.6 | J20: 0 | K20: 1.4248278e+08 | L20: NA | M20: NA | N20: 43831 | O20: 45292 | P20: 5550082.3 | Q20: #VALUE!
A21: NEW YORK | B21: 1.2287777e+09 | C21: 1.0649215e+09 | D21: 1.6385614e+08 | E21: 61641272 | F21: 47456120 | G21: 3.45 | H21: 1.3 | I21: 5136772.6 | J21: 0 | K21: 1.6385614e+08 | L21: NA | M21: NA | N21: 43831 | O21: 45292 | P21: 3651010.7 | Q21: #VALUE!
A22: CONNECTICUT | B22: 5.2832884e+08 | C22: 4.8214359e+08 | D22: 46185250 | E22: 17506224 | F22: 13880022 | G22: 3.33 | H22: 1.26 | I22: 1458852 | J22: 6 | K22: 37432138 | L22: 3070867.6 | M22: 1914199.1 | N22: 43647 | O22: 45474 | P22: 4090668.3 | Q22: #VALUE!
A23: ARKANSAS | B23: 7.8298357e+08 | C23: 7.2389581e+08 | D23: 59087757 | E23: 15524085 | F23: 17807834 | G23: 3.32 | H23: 0.87 | I23: 1293673.8 | J23: 6 | K23: 51325714 | L23: 3912014.8 | M23: 2428028.6 | N23: 43647 | O23: 45474 | P23: 1104958.7 | Q23: #VALUE!
A24: CALIFORNIA | B24: 1.4083628e+09 | C24: 1.308131e+09 | D24: 1.0023183e+08 | E24: 19858330 | F24: 31050303 | G24: 3.23 | H24: 0.64 | I24: 1654860.8 | J24: 6 | K24: 90302669 | L24: 6355204.7 | M24: 3767679.5 | N24: 43647 | O24: 45474 | P24: 1345577 | Q24: #VALUE!
A25: NEW JERSEY | B25: 2.9382075e+08 | C25: 2.7264593e+08 | D25: 21174817 | E25: 7114763.5 | F25: 6746804 | G25: 3.14 | H25: 1.05 | I25: 592896.96 | J25: 6 | K25: 17617436 | L25: 1280201.6 | M25: 717967.89 | N25: 43647 | O25: 45474 | P25: 504921.75 | Q25: #VALUE!
A26: TENNESSEE | B26: 1154905413 | C26: 1.0696747e+09 | D26: 85230734 | E26: 26351038 | F26: 27571438 | G26: 3.09 | H26: 0.96 | I26: 2195919.8 | J26: 6 | K26: 72055216 | L26: 5014643.1 | M26: 2717023.2 | N26: 43647 | O26: 45474 | P26: 3578198.5 | Q26: #VALUE!
A27: TEXAS | B27: 2.8793131e+09 | C27: 2.6676289e+09 | D27: 2.116842e+08 | E27: 73796206 | F27: 70613641 | G27: 3 | H27: 1.05 | I27: 6149683.8 | J27: 8 | K27: 1.6248673e+08 | L27: 8807114.8 | M27: on track | N27: 44075 | O27: 45536 | P27: 7908969.1 | Q27: #VALUE!
A28: MASSACHUSETTS | B28: 1.394383e+09 | C28: 1.2917608e+09 | D28: 1.0262221e+08 | E28: 29992022 | F28: 34869850 | G28: 2.94 | H28: 0.86 | I28: 2499335.1 | J28: 3 | K28: 95124207 | L28: 10960838 | M28: 5149195.8 | N28: 43922 | O28: 45383 | P28: 3189681.7 | Q28: #VALUE!
A29: WASHINGTON | B29: 522049097 | C29: 4.835797e+08 | D29: 38469402 | E29: 15386184 | F29: 13105608 | G29: 2.94 | H29: 1.17 | I29: 1282182 | J29: 6 | K29: 30776309 | L29: 2043030.9 | M29: on track | N29: 43647 | O29: 45474 | P29: 1519058.2 | Q29: #VALUE!
A30: OREGON | B30: 5.4540968e+08 | C30: 5.1207322e+08 | D30: 33336455 | E30: 17320143 | F30: 11656242 | G30: 2.86 | H30: 1.49 | I30: 1443345.2 | J30: 0 | K30: 33336455 | L30: NA | M30: NA | N30: 43831 | O30: 45292 | P30: 2067344 | Q30: #VALUE!
A31: COLORADO | B31: 3.833284e+08 | C31: 3.5666091e+08 | D31: 26667488 | E31: 10134196 | F31: 9345978 | G31: 2.85 | H31: 1.08 | I31: 844516.34 | J31: 3 | K31: 24133939 | L31: 2658510.7 | M31: 1100847.7 | N31: 43556 | O31: 45383 | P31: 3501246.6 | Q31: #VALUE!
A32: NEW HAMPSHIRE | B32: 346058940 | C32: 3.1953208e+08 | D32: 26526865 | E32: 5654529.9 | F32: 9353201 | G32: 2.84 | H32: 0.6 | I32: 471210.83 | J32: 0 | K32: 26526865 | L32: NA | M32: NA | N32: 43831 | O32: 45292 | P32: 447684.14 | Q32: #VALUE!
A33: LOUISIANA | B33: 1205115490 | C33: 1.1416042e+09 | D33: 63511308 | E33: 23645626 | F33: 22499042 | G33: 2.82 | H33: 1.05 | I33: 1970468.8 | J33: 3 | K33: 57599902 | L33: 6171074.7 | M33: 2421234.3 | N33: 43922 | O33: 45383 | P33: 1877755.2 | Q33: #VALUE!
A34: MISSOURI | B34: 987264872 | C34: 9.2180495e+08 | D34: 65459923 | E34: 34448267 | F34: 23383549 | G34: 2.8 | H34: 1.47 | I34: 2870688.9 | J34: 3 | K34: 56847856 | L34: 6230941.6 | M34: on track | N34: 43922 | O34: 45383 | P34: 3053271.7 | Q34: #VALUE!
A35: SOUTH DAKOTA | B35: 248558577 | C35: 2.3236501e+08 | D35: 16193571 | E35: 6077557.4 | F35: 5790145 | G35: 2.8 | H35: 1.05 | I35: 506463.12 | J35: 0 | K35: 16193571 | L35: NA | M35: NA | N35: 43831 | O35: 45292 | P35: 0 | Q35: #VALUE!
A36: IDAHO | B36: 3.4288781e+08 | C36: 3.1990134e+08 | D36: 22986466 | E36: 9630258.4 | F36: 8236180 | G36: 2.79 | H36: 1.17 | I36: 802521.53 | J36: 3 | K36: 20578902 | L36: 2171368.8 | M36: on track | N36: 43556 | O36: 45383 | P36: 855881.43 | Q36: #VALUE!
A37: INDIANA | B37: 1.3097388e+09 | C37: 1.2272665e+09 | D37: 82472306 | E37: 26222076 | F37: 30738746 | G37: 2.68 | H37: 0.85 | I37: 2185173 | J37: 6 | K37: 69361267 | L37: 3499135.6 | M37: on track | N37: 43647 | O37: 45474 | P37: 1424006.1 | Q37: #VALUE!
A38: MARYLAND | B38: 3.060766e+08 | C38: 2.8523807e+08 | D38: 20838525 | E38: 7999661.9 | F38: 8165077 | G38: 2.55 | H38: 0.98 | I38: 666638.49 | J38: 6 | K38: 16838694 | L38: 751395.11 | M38: on track | N38: 43647 | O38: 45474 | P38: 55552.88 | Q38: #VALUE!
A39: OKLAHOMA | B39: 6.8538868e+08 | C39: 6.5086826e+08 | D39: 34520421 | E39: 14922374 | F39: 13963452 | G39: 2.47 | H39: 1.07 | I39: 1243531.1 | J39: 3 | K39: 30789827 | L39: 2197838.9 | M39: on track | N39: 43922 | O39: 45383 | P39: 3818722.5 | Q39: #VALUE!
A40: OHIO | B40: 1.9401106e+09 | C40: 1.8326756e+09 | D40: 1.0743499e+08 | E40: 44255456 | F40: 45492764 | G40: 2.36 | H40: 0.97 | I40: 3687954.7 | J40: 6 | K40: 85307263 | L40: on track | M40: on track | N40: 43647 | O40: 45474 | P40: 3670687.4 | Q40: #VALUE!
...

Sheet Nov'24
A1: Run Date: 11/29/2024 As of: 11/30/2024 | B1: 11/30/2024
A2: State Name | B2: Amount Of Open Grants | C2: Total Expended from Open Grants | D2: Total Unexpended from Open Grants | E2: Amount Expended Last 12 Months | F2: Most Recent Grant Amount | G2: Ratio Unexpended To Grant | H2: Ratio Expended Last 12 Months to Grant | I2: Avg monthly expenditure last 12 mos | J2: Months remaining to goal | K2: Projected bal 60 days before end of PY | L2: Monthly spending to reach 2x goal | M2: Monthly spending to reach 2.5x goal | N2: PY Start | O2: Current Pgm Yr start | P2: latest month's expenditure | Q2: Most Recent Grant Appeared in LOCCS
A3: NORTH CAROLINA | B3: 1.7885959e+09 | C3: 1.5275929e+09 | D3: 2.6100304e+08 | E3: 32489874 | F3: 46272979 | G3: 5.64 | H3: 0.7 | I3: 2707489.5 | J3: -1 | K3: NA | L3: NA | M3: NA | N3: 43831 | O3: 45292 | P3: 2283189.2 | Q3: #VALUE!
A4: WEST VIRGINIA | B4: 7.0869638e+08 | C4: 6.3075194e+08 | D4: 77944438 | E4: 11886994 | F4: 13833071 | G4: 5.63 | H4: 0.86 | I4: 990582.8 | J4: 5 | K4: 72991524 | L4: 10055659 | M4: 8672352.2 | N4: 43647 | O4: 45474 | P4: 326626.56 | Q4: #VALUE!
A5: ILLINOIS | B5: 1.3362735e+09 | C5: 1.1812082e+09 | D5: 1.550653e+08 | E5: 15932480 | F5: 29074134 | G5: 5.33 | H5: 0.55 | I5: 1327706.7 | J5: -1 | K5: NA | L5: NA | M5: NA | N5: 43831 | O5: 45292 | P5: 2001553 | Q5: #VALUE!
A6: MICHIGAN | B6: 1.4692429e+09 | C6: 1.2928143e+09 | D6: 1.764286e+08 | E6: 25581179 | F6: 33073641 | G6: 5.33 | H6: 0.77 | I6: 2131764.9 | J6: 5 | K6: 1.6576978e+08 | L6: 22056264 | M6: 18748900 | N6: 43647 | O6: 45474 | P6: 0 | Q6: #VALUE!
A7: FLORIDA | B7: 1.1151974e+09 | C7: 9.8195697e+08 | D7: 1.3324043e+08 | E7: 11640638 | F7: 26165562 | G7: 5.09 | H7: 0.44 | I7: 970053.18 | J7: 5 | K7: 1.2839016e+08 | L7: 16181861 | M7: 13565305 | N7: 43647 | O7: 45474 | P7: 514130.6 | Q7: #VALUE!
A8: RHODE ISLAND | B8: 2.031847e+08 | C8: 1.7583043e+08 | D8: 27354266 | E8: 3549033.7 | F8: 5655134 | G8: 4.84 | H8: 0.63 | I8: 295752.81 | J8: 5 | K8: 25875502 | L8: 3208799.5 | M8: 2643286.1 | N8: 43647 | O8: 45474 | P8: 6850 | Q8: #VALUE!
A9: WYOMING | B9: 1.2089976e+08 | C9: 1.0432447e+08 | D9: 16575287 | E9: 1714342.8 | F9: 3521015 | G9: 4.71 | H9: 0.49 | I9: 142861.9 | J9: -1 | K9: NA | L9: NA | M9: NA | N9: 43831 | O9: 45292 | P9: 18227.91 | Q9: #VALUE!
A10: MONTANA | B10: 265120500 | C10: 2.3681039e+08 | D10: 28310111 | E10: 7683445 | F10: 6172506 | G10: 4.59 | H10: 1.24 | I10: 640287.09 | J10: 2 | K10: 27029536 | L10: 7982549.3 | M10: 6439422.8 | N10: 43922 | O10: 45383 | P10: 1008066.4 | Q10: #VALUE!
A11: NEW MEXICO | B11: 493558716 | C11: 4.4375147e+08 | D11: 49807248 | E11: 7067870.9 | F11: 11038481 | G11: 4.51 | H11: 0.64 | I11: 588989.24 | J11: -1 | K11: NA | L11: NA | M11: NA | N11: 43831 | O11: 45292 | P11: 0 | Q11: #VALUE!
A12: NORTH DAKOTA | B12: 187480557 | C12: 1.7179008e+08 | D12: 15690476 | E12: 2593395.5 | F12: 3515583 | G12: 4.46 | H12: 0.74 | I12: 216116.29 | J12: 5 | K12: 14609894 | L12: 1731861.9 | M12: 1380303.6 | N12: 43647 | O12: 45474 | P12: 0 | Q12: #VALUE!
A13: PUERTO RICO | B13: 1945106991 | C13: 1849230098 | D13: 95876893 | E13: 21667468 | F13: 22131554 | G13: 4.33 | H13: 0.98 | I13: 1805622.3 | J13: 5 | K13: 86848782 | L13: 10322757 | M13: 8109601.6 | N13: 43647 | O13: 45474 | P13: 1567381.2 | Q13: #VALUE!
A14: MINNESOTA | B14: 853256279 | C14: 7.7208633e+08 | D14: 81169951 | E14: 18022465 | F14: 18836467 | G14: 4.31 | H14: 0.96 | I14: 1501872.1 | J14: 8 | K14: 69154974 | L14: 5437127.1 | M14: 4259847.9 | N14: 43739 | O14: 45566 | P14: 3797322.8 | Q14: #VALUE!
A15: CALIFORNIA | B15: 1.4384287e+09 | C15: 1.3100183e+09 | D15: 1.2841048e+08 | E15: 19145367 | F15: 30065955 | G15: 4.27 | H15: 0.64 | I15: 1595447.3 | J15: 5 | K15: 1.2043324e+08 | L15: 13655714 | M15: 10649118 | N15: 43647 | O15: 45474 | P15: 1887311.7 | Q15: #VALUE!
A16: KENTUCKY | B16: 1.1681423e+09 | C16: 1.0575452e+09 | D16: 1.1059704e+08 | E16: 21486113 | F16: 26355588 | G16: 4.2 | H16: 0.82 | I16: 1790509.4 | J16: 5 | K16: 1.016445e+08 | L16: 11577174 | M16: 8941614.8 | N16: 43647 | O16: 45474 | P16: 2031375 | Q16: #VALUE!
A17: NEW JERSEY | B17: 3.0055106e+08 | C17: 2.7291787e+08 | D17: 27633196 | E17: 7327715 | F17: 6730317 | G17: 4.11 | H17: 1.09 | I17: 610642.92 | J17: 5 | K17: 24579982 | L17: 2834512.4 | M17: 2161480.7 | N17: 43647 | O17: 45474 | P17: 271938.1 | Q17: #VALUE!
A18: SOUTH CAROLINA | B18: 1.0224308e+09 | C18: 9.4127366e+08 | D18: 81157129 | E18: 25447127 | F18: 19809810 | G18: 4.1 | H18: 1.28 | I18: 2120593.9 | J18: 2 | K18: 76915941 | L18: 20768754 | M18: 15816302 | N18: 43922 | O18: 45383 | P18: 1425256 | Q18: #VALUE!
A19: VIRGINIA | B19: 794219275 | C19: 7.167784e+08 | D19: 77440874 | E19: 14502220 | F19: 19107637 | G19: 4.05 | H19: 0.76 | I19: 1208518.3 | J19: 5 | K19: 71398283 | L19: 7845120 | M19: 5934356.3 | N19: 43647 | O19: 45474 | P19: 1367857.7 | Q19: #VALUE!
A20: NEBRASKA | B20: 5.0056523e+08 | C20: 4.6000134e+08 | D20: 40563891 | E20: 9020263.8 | F20: 10539100 | G20: 3.85 | H20: 0.86 | I20: 751688.65 | J20: 5 | K20: 36805448 | L20: 3897138.2 | M20: 2843228.2 | N20: 43647 | O20: 45474 | P20: 168953.32 | Q20: #VALUE!
A21: SOUTH DAKOTA | B21: 254239457 | C21: 2.3276262e+08 | D21: 21476835 | E21: 6475172.9 | F21: 5680880 | G21: 3.78 | H21: 1.14 | I21: 539597.74 | J21: -1 | K21: NA | L21: NA | M21: NA | N21: 43831 | O21: 45292 | P21: 397615.47 | Q21: #VALUE!
A22: ALASKA | B22: 104394118 | C22: 94818684 | D22: 9575434.1 | E22: 2519331.7 | F22: 2677355 | G22: 3.58 | H22: 0.94 | I22: 209944.31 | J22: 5 | K22: 8525712.5 | L22: 844144.81 | M22: 576409.31 | N22: 43647 | O22: 45474 | P22: 352574.34 | Q22: #VALUE!
A23: MARYLAND | B23: 3.1444639e+08 | C23: 2.8556488e+08 | D23: 28881507 | E23: 7632323.8 | F23: 8369791 | G23: 3.45 | H23: 0.91 | I23: 636026.98 | J23: 5 | K23: 25701372 | L23: 2428384.9 | M23: 1591405.8 | N23: 43647 | O23: 45474 | P23: 326809.07 | Q23: #VALUE!
A24: PENNSYLVANIA | B24: 2.0010648e+09 | C24: 1.862787e+09 | D24: 1.3827783e+08 | E24: 39996699 | F24: 40779947 | G24: 3.39 | H24: 0.98 | I24: 3333058.2 | J24: -1 | K24: NA | L24: NA | M24: NA | N24: 43831 | O24: 45292 | P24: 4204951.3 | Q24: #VALUE!
A25: IOWA | B25: 1059732308 | C25: 9.7901674e+08 | D25: 80715565 | E25: 16985928 | F25: 24168777 | G25: 3.34 | H25: 0.7 | I25: 1415494 | J25: -1 | K25: NA | L25: NA | M25: NA | N25: 43831 | O25: 45292 | P25: 1302438 | Q25: #VALUE!
A26: CONNECTICUT | B26: 5.2832884e+08 | C26: 4.8214359e+08 | D26: 46185250 | E26: 16146298 | F26: 13880022 | G26: 3.33 | H26: 1.16 | I26: 1345524.9 | J26: 5 | K26: 39457625 | L26: 3685041.1 | M26: 2297038.9 | N26: 43647 | O26: 45474 | P26: 0 | Q26: #VALUE!
A27: NEW YORK | B27: 1.2287777e+09 | C27: 1.0730932e+09 | D27: 1.5568443e+08 | E27: 64484828 | F27: 47456120 | G27: 3.28 | H27: 1.36 | I27: 5373735.7 | J27: -1 | K27: NA | L27: NA | M27: NA | N27: 43831 | O27: 45292 | P27: 8171712.7 | Q27: #VALUE!
A28: ARKANSAS | B28: 7.8298357e+08 | C28: 7.2795075e+08 | D28: 55032824 | E28: 19226769 | F28: 17807834 | G28: 3.09 | H28: 1.08 | I28: 1602230.8 | J28: 5 | K28: 47021670 | L28: 3883431.2 | M28: 2102647.8 | N28: 43647 | O28: 45474 | P28: 4054932.8 | Q28: #VALUE!
A29: KANSAS | B29: 675052951 | C29: 6.2969976e+08 | D29: 45353187 | E29: 12148679 | F29: 14786581 | G29: 3.07 | H29: 0.82 | I29: 1012389.9 | J29: -1 | K29: NA | L29: NA | M29: NA | N29: 43466 | O29: 45292 | P29: 981646 | Q29: #VALUE!
A30: TENNESSEE | B30: 1154905413 | C30: 1.0716888e+09 | D30: 83216617 | E30: 26051944 | F30: 27571438 | G30: 3.02 | H30: 0.94 | I30: 2170995.3 | J30: 5 | K30: 72361640 | L30: 5614748.1 | M30: 2857604.3 | N30: 43647 | O30: 45474 | P30: 2014117.7 | Q30: #VALUE!
A31: TEXAS | B31: 2.8793131e+09 | C31: 2.6722641e+09 | D31: 2.0704903e+08 | E31: 74830894 | F31: 70613641 | G31: 2.93 | H31: 1.06 | I31: 6235907.8 | J31: 7 | K31: 1.6339767e+08 | L31: 9403106.8 | M31: on track | N31: 44075 | O31: 45536 | P31: 4635171.2 | Q31: #VALUE!
A32: MASSACHUSETTS | B32: 1.394383e+09 | C32: 1.2955247e+09 | D32: 98858312 | E32: 33747783 | F32: 34869850 | G32: 2.84 | H32: 0.97 | I32: 2812315.3 | J32: 2 | K32: 93233682 | L32: 14559306 | M32: 5841843.5 | N32: 43922 | O32: 45383 | P32: 3763900.4 | Q32: #VALUE!
A33: COLORADO | B33: 3.833284e+08 | C33: 3.5695577e+08 | D33: 26372633 | E33: 9937172.9 | F33: 9345978 | G33: 2.82 | H33: 1.06 | I33: 828097.74 | J33: 2 | K33: 24716437 | L33: 3840338.5 | M33: 1503844 | N33: 43556 | O33: 45383 | P33: 294855.17 | Q33: #VALUE!
A34: OREGON | B34: 5.4540968e+08 | C34: 5.1252216e+08 | D34: 32887522 | E34: 16843844 | F34: 11656242 | G34: 2.82 | H34: 1.45 | I34: 1403653.7 | J34: -1 | K34: NA | L34: NA | M34: NA | N34: 43831 | O34: 45292 | P34: 448933 | Q34: #VALUE!
A35: WASHINGTON | B35: 522049097 | C35: 4.8516056e+08 | D35: 36888541 | E35: 15534583 | F35: 13105608 | G35: 2.81 | H35: 1.19 | I35: 1294548.6 | J35: 5 | K35: 30415798 | L35: 2135465.1 | M35: on track | N35: 43647 | O35: 45474 | P35: 1580860.2 | Q35: #VALUE!
A36: NEW HAMPSHIRE | B36: 346058940 | C36: 3.1996611e+08 | D36: 26092832 | E36: 5120678.1 | F36: 9353201 | G36: 2.79 | H36: 0.55 | I36: 426723.17 | J36: -1 | K36: NA | L36: NA | M36: NA | N36: 43831 | O36: 45292 | P36: 434032.51 | Q36: #VALUE!
A37: LOUISIANA | B37: 1205115490 | C37: 1.1434968e+09 | D37: 61618671 | E37: 23212921 | F37: 22499042 | G37: 2.74 | H37: 1.03 | I37: 1934410.1 | J37: 2 | K37: 57749851 | L37: 8310293.4 | M37: 2685532.9 | N37: 43922 | O37: 45383 | P37: 1892637.3 | Q37: #VALUE!
A38: IDAHO | B38: 3.4288781e+08 | C38: 3.2051849e+08 | D38: 22369317 | E38: 8043746.4 | F38: 8236180 | G38: 2.72 | H38: 0.98 | I38: 670312.2 | J38: 2 | K38: 21028693 | L38: 2948478.7 | M38: 889433.74 | N38: 43556 | O38: 45383 | P38: 617148.87 | Q38: #VALUE!
A39: VERMONT | B39: 277600986 | C39: 2.5742512e+08 | D39: 20175868 | E39: 7154562.6 | F39: 7461397 | G39: 2.7 | H39: 0.96 | I39: 596213.55 | J39: 5 | K39: 17194801 | L39: 1050614.9 | M39: on track | N39: 43647 | O39: 45474 | P39: 355905.5 | Q39: #VALUE!
A40: INDIANA | B40: 1.3097388e+09 | C40: 1.2272665e+09 | D40: 82472306 | E40: 24359097 | F40: 30738746 | G40: 2.68 | H40: 0.79 | I40: 2029924.7 | J40: 5 | K40: 72322682 | L40: 4198962.7 | M40: on track | N40: 43647 | O40: 45474 | P40: 0 | Q40: #VALUE!
...

Sheet Dec'24
A1: Run Date: 12/31/2024 As of: 12/31/2024 | B1: 12/31/2024
A2: State Name | B2: Amount Of Open Grants | C2: Total Expended from Open Grants | D2: Total Unexpended from Open Grants | E2: Amount Expended Last 12 Months | F2: Most Recent Grant Amount | G2: Ratio Unexpended To Grant | H2: Ratio Expended Last 12 Months to Grant | I2: Avg monthly expenditure last 12 mos | J2: Months remaining to goal | K2: Projected bal 60 days before end of PY | L2: Monthly spending to reach 2x goal | M2: Monthly spending to reach 2.5x goal | N2: PY Start | O2: Current Pgm Yr start | P2: latest month's expenditure | Q2: Most Recent Grant Appeared in LOCCS
A3: FLORIDA | B3: 1.1399759e+09 | C3: 9.8303484e+08 | D3: 1.5694109e+08 | E3: 12157403 | F3: 24778539 | G3: 6.33 | H3: 0.49 | I3: 1013116.9 | J3: 4 | K3: 1.5288863e+08 | L3: 26846004 | M3: 23748687 | N3: 43647 | O3: 45474 | P3: 1077873.8 | Q3: #VALUE!
A4: NORTH CAROLINA | B4: 1.7885959e+09 | C4: 1.5296791e+09 | D4: 2.5891676e+08 | E4: 32440780 | F4: 46272979 | G4: 5.6 | H4: 0.7 | I4: 2703398.3 | J4: -2 | K4: NA | L4: NA | M4: NA | N4: 43831 | O4: 45292 | P4: 2086279.5 | Q4: #VALUE!
A5: WEST VIRGINIA | B5: 7.0869638e+08 | C5: 6.3131451e+08 | D5: 77381875 | E5: 11546517 | F5: 13833071 | G5: 5.59 | H5: 0.83 | I5: 962209.73 | J5: 4 | K5: 73533036 | L5: 12428933 | M5: 10699799 | N5: 43647 | O5: 45474 | P5: 562563.17 | Q5: #VALUE!
A6: MICHIGAN | B6: 1.4692429e+09 | C6: 1.293453e+09 | D6: 1.7578983e+08 | E6: 22190418 | F6: 33073641 | G6: 5.32 | H6: 0.67 | I6: 1849201.5 | J6: 4 | K6: 1.6839302e+08 | L6: 27410637 | M6: 23276431 | N6: 43647 | O6: 45474 | P6: 638774.58 | Q6: #VALUE!
A7: ILLINOIS | B7: 1.3362735e+09 | C7: 1.1842813e+09 | D7: 1.5199221e+08 | E7: 16622442 | F7: 29074134 | G7: 5.23 | H7: 0.57 | I7: 1385203.5 | J7: -2 | K7: NA | L7: NA | M7: NA | N7: 43831 | O7: 45292 | P7: 3073090.6 | Q7: #VALUE!
A8: RHODE ISLAND | B8: 2.031847e+08 | C8: 1.7588959e+08 | D8: 27295105 | E8: 3608194.3 | F8: 5655134 | G8: 4.83 | H8: 0.64 | I8: 300682.86 | J8: 4 | K8: 26092373 | L8: 3996209.2 | M8: 3289317.5 | N8: 43647 | O8: 45474 | P8: 59160.64 | Q8: #VALUE!
A9: WYOMING | B9: 1.2089976e+08 | C9: 1.0437572e+08 | D9: 16524036 | E9: 1721907.1 | F9: 3521015 | G9: 4.69 | H9: 0.49 | I9: 143492.26 | J9: -2 | K9: NA | L9: NA | M9: NA | N9: 43831 | O9: 45292 | P9: 51250.44 | Q9: #VALUE!
A10: NEW MEXICO | B10: 493558716 | C10: 4.4411081e+08 | D10: 49447907 | E10: 6911370.1 | F10: 11038481 | G10: 4.48 | H10: 0.63 | I10: 575947.51 | J10: -2 | K10: NA | L10: NA | M10: NA | N10: 43831 | O10: 45292 | P10: 359340.67 | Q10: #VALUE!
A11: MONTANA | B11: 265120500 | C11: 2.3757086e+08 | D11: 27549644 | E11: 7241054.5 | F11: 6172506 | G11: 4.46 | H11: 1.17 | I11: 603421.21 | J11: 1 | K11: 26946223 | L11: 15204632 | M11: 12118379 | N11: 43922 | O11: 45383 | P11: 760466.6 | Q11: #VALUE!
A12: NORTH DAKOTA | B12: 187480557 | C12: 1.7236038e+08 | D12: 15120175 | E12: 2357646 | F12: 3515583 | G12: 4.3 | H12: 0.67 | I12: 196470.5 | J12: 4 | K12: 14334293 | L12: 2022252.2 | M12: 1582804.3 | N12: 43647 | O12: 45474 | P12: 570300.83 | Q12: #VALUE!
A13: PUERTO RICO | B13: 1945106991 | C13: 1.8507766e+09 | D13: 94330416 | E13: 20953922 | F13: 22131554 | G13: 4.26 | H13: 0.95 | I13: 1746160.2 | J13: 4 | K13: 87345775 | L13: 12516827 | M13: 9750382.7 | N13: 43647 | O13: 45474 | P13: 1546477.1 | Q13: #VALUE!
A14: MINNESOTA | B14: 853256279 | C14: 7.7379098e+08 | D14: 79465300 | E14: 18598805 | F14: 18836467 | G14: 4.22 | H14: 0.99 | I14: 1549900.4 | J14: 7 | K14: 68615997 | L14: 5970338 | M14: 4624876.1 | N14: 43739 | O14: 45566 | P14: 1704650.7 | Q14: #VALUE!
A15: KENTUCKY | B15: 1.1681423e+09 | C15: 1.0589485e+09 | D15: 1.0919375e+08 | E15: 21317796 | F15: 26355588 | G15: 4.14 | H15: 0.81 | I15: 1776483 | J15: 4 | K15: 1.0208782e+08 | L15: 14120644 | M15: 10826195 | N15: 43647 | O15: 45474 | P15: 1403294 | Q15: #VALUE!
A16: NEW JERSEY | B16: 3.0055106e+08 | C16: 2.7291787e+08 | D16: 27633196 | E16: 7084809.2 | F16: 6730317 | G16: 4.11 | H16: 1.05 | I16: 590400.77 | J16: 4 | K16: 25271593 | L16: 3543140.6 | M16: 2701850.9 | N16: 43647 | O16: 45474 | P16: 0 | Q16: #VALUE!
A17: CALIFORNIA | B17: 1.4384287e+09 | C17: 1.3159346e+09 | D17: 1.2249416e+08 | E17: 24089054 | F17: 30065955 | G17: 4.07 | H17: 0.8 | I17: 2007421.1 | J17: 4 | K17: 1.1446447e+08 | L17: 15590562 | M17: 11832317 | N17: 43647 | O17: 45474 | P17: 5916321 | Q17: #VALUE!
A18: SOUTH CAROLINA | B18: 1.0224308e+09 | C18: 9.434945e+08 | D18: 78936290 | E18: 25779463 | F18: 19809810 | G18: 3.98 | H18: 1.3 | I18: 2148288.6 | J18: 1 | K18: 76788002 | L18: 39316670 | M18: 29411765 | N18: 43922 | O18: 45383 | P18: 2220838.4 | Q18: #VALUE!
A19: VIRGINIA | B19: 794219275 | C19: 7.1809058e+08 | D19: 76128699 | E19: 14400498 | F19: 19107637 | G19: 3.98 | H19: 0.75 | I19: 1200041.5 | J19: 4 | K19: 71328533 | L19: 9478356.2 | M19: 7089901.6 | N19: 43647 | O19: 45474 | P19: 1312175.2 | Q19: #VALUE!
A20: NEBRASKA | B20: 5.0056523e+08 | C20: 4.6033178e+08 | D20: 40233452 | E20: 7662908.3 | F20: 10539100 | G20: 3.82 | H20: 0.73 | I20: 638575.69 | J20: 4 | K20: 37679149 | L20: 4788813 | M20: 3471425.5 | N20: 43647 | O20: 45474 | P20: 330439.22 | Q20: #VALUE!
A21: SOUTH DAKOTA | B21: 254239457 | C21: 2.3376886e+08 | D21: 20470593 | E21: 5394428.2 | F21: 5680880 | G21: 3.6 | H21: 0.95 | I21: 449535.68 | J21: -2 | K21: NA | L21: NA | M21: NA | N21: 43831 | O21: 45292 | P21: 1006242.3 | Q21: #VALUE!
A22: COLORADO | B22: 3.9263422e+08 | C22: 3.5935177e+08 | D22: 33282450 | E22: 11876754 | F22: 9305817 | G22: 3.58 | H22: 1.28 | I22: 989729.49 | J22: 1 | K22: 32292720 | L22: 14670816 | M22: 10017907 | N22: 43556 | O22: 45383 | P22: 2396000 | Q22: #VALUE!
A23: ALASKA | B23: 104394118 | C23: 95077626 | D23: 9316492.2 | E23: 2733257 | F23: 2677355 | G23: 3.48 | H23: 1.02 | I23: 227771.42 | J23: 4 | K23: 8405406.5 | L23: 990445.55 | M23: 655776.18 | N23: 43647 | O23: 45474 | P23: 258941.86 | Q23: #VALUE!
A24: MARYLAND | B24: 3.1444639e+08 | C24: 2.8618365e+08 | D24: 28262736 | E24: 6913202.8 | F24: 8369791 | G24: 3.38 | H24: 0.83 | I24: 576100.23 | J24: 4 | K24: 25958335 | L24: 2880788.4 | M24: 1834564.5 | N24: 43647 | O24: 45474 | P24: 618771.1 | Q24: #VALUE!
A25: PENNSYLVANIA | B25: 2.0010648e+09 | C25: 1.8664788e+09 | D25: 1.3458604e+08 | E25: 38374732 | F25: 40779947 | G25: 3.3 | H25: 0.94 | I25: 3197894.4 | J25: -2 | K25: NA | L25: NA | M25: NA | N25: 43831 | O25: 45292 | P25: 3691790 | Q25: #VALUE!
A26: IOWA | B26: 1059732308 | C26: 9.8076802e+08 | D26: 78964292 | E26: 15970820 | F26: 24168777 | G26: 3.27 | H26: 0.66 | I26: 1330901.7 | J26: -2 | K26: NA | L26: NA | M26: NA | N26: 43831 | O26: 45292 | P26: 1751273.9 | Q26: #VALUE!
A27: GEORGIA | B27: 1.6422976e+09 | C27: 1.5114132e+09 | D27: 1.3088435e+08 | E27: 37641437 | F27: 40984884 | G27: 3.19 | H27: 0.92 | I27: 3136786.4 | J27: 4 | K27: 1.183372e+08 | L27: 12228645 | M27: 7105534.6 | N27: 43647 | O27: 45474 | P27: 2802355.3 | Q27: #VALUE!
A28: NEW YORK | B28: 1.2287777e+09 | C28: 1.0772793e+09 | D28: 1.5149836e+08 | E28: 62360130 | F28: 47456120 | G28: 3.19 | H28: 1.31 | I28: 5196677.5 | J28: -2 | K28: NA | L28: NA | M28: NA | N28: 43831 | O28: 45292 | P28: 4186070.8 | Q28: #VALUE!
A29: CONNECTICUT | B29: 5.2832884e+08 | C29: 4.8501836e+08 | D29: 43310479 | E29: 16537762 | F29: 13880022 | G29: 3.12 | H29: 1.19 | I29: 1378146.9 | J29: 4 | K29: 37797891 | L29: 3887608.7 | M29: 2152606 | N29: 43647 | O29: 45474 | P29: 2874770.6 | Q29: #VALUE!
A30: ARKANSAS | B30: 7.8298357e+08 | C30: 7.2927072e+08 | D30: 53712848 | E30: 18878315 | F30: 17807834 | G30: 3.02 | H30: 1.06 | I30: 1573192.9 | J30: 4 | K30: 47420077 | L30: 4524295 | M30: 2298315.8 | N30: 43647 | O30: 45474 | P30: 1319975.9 | Q30: #VALUE!
A31: KANSAS | B31: 675052951 | C31: 6.304997e+08 | D31: 44553254 | E31: 11552281 | F31: 14786581 | G31: 3.01 | H31: 0.78 | I31: 962690.04 | J31: -2 | K31: NA | L31: NA | M31: NA | N31: 43466 | O31: 45292 | P31: 799933.11 | Q31: #VALUE!
A32: TENNESSEE | B32: 1154905413 | C32: 1.0743509e+09 | D32: 80554467 | E32: 26117963 | F32: 27571438 | G32: 2.92 | H32: 0.95 | I32: 2176496.9 | J32: 4 | K32: 71848479 | L32: 6352897.7 | M32: 2906468 | N32: 43647 | O32: 45474 | P32: 2662149.9 | Q32: #VALUE!
A33: TEXAS | B33: 2.8793131e+09 | C33: 2.6790777e+09 | D33: 2.0023543e+08 | E33: 75793836 | F33: 70613641 | G33: 2.84 | H33: 1.07 | I33: 6316153 | J33: 6 | K33: 1.6233852e+08 | L33: 9834692.1 | M33: on track | N33: 44075 | O33: 45536 | P33: 6813594.9 | Q33: #VALUE!
A34: OREGON | B34: 5.4540968e+08 | C34: 5.1277223e+08 | D34: 32637454 | E34: 16089319 | F34: 11656242 | G34: 2.8 | H34: 1.38 | I34: 1340776.6 | J34: -2 | K34: NA | L34: NA | M34: NA | N34: 43831 | O34: 45292 | P34: 250068 | Q34: #VALUE!
A35: WASHINGTON | B35: 522049097 | C35: 4.8625048e+08 | D35: 35798613 | E35: 15471134 | F35: 13105608 | G35: 2.73 | H35: 1.18 | I35: 1289261.1 | J35: 4 | K35: 30641569 | L35: 2396849.3 | M35: on track | N35: 43647 | O35: 45474 | P35: 1089928.1 | Q35: #VALUE!
A36: MASSACHUSETTS | B36: 1.394383e+09 | C36: 1.2995877e+09 | D36: 94795286 | E36: 35342722 | F36: 34869850 | G36: 2.72 | H36: 1.01 | I36: 2945226.8 | J36: 1 | K36: 91850059 | L36: 25055586 | M36: 7620661.2 | N36: 43922 | O36: 45383 | P36: 4063026 | Q36: #VALUE!
A37: NEW HAMPSHIRE | B37: 346058940 | C37: 3.2059016e+08 | D37: 25468781 | E37: 5236865.9 | F37: 9353201 | G37: 2.72 | H37: 0.56 | I37: 436405.49 | J37: -2 | K37: NA | L37: NA | M37: NA | N37: 43831 | O37: 45292 | P37: 624051.34 | Q37: #VALUE!
A38: VERMONT | B38: 277600986 | C38: 2.5774554e+08 | D38: 19855446 | E38: 7266567.6 | F38: 7461397 | G38: 2.66 | H38: 0.97 | I38: 605547.3 | J38: 4 | K38: 17433257 | L38: 1233163.1 | M38: on track | N38: 43647 | O38: 45474 | P38: 320422 | Q38: #VALUE!
A39: LOUISIANA | B39: 1205115490 | C39: 1.1461152e+09 | D39: 59000262 | E39: 23563682 | F39: 22499042 | G39: 2.62 | H39: 1.05 | I39: 1963640.2 | J39: 1 | K39: 57036622 | L39: 14002178 | M39: 2752657.3 | N39: 43922 | O39: 45383 | P39: 2618408.4 | Q39: #VALUE!
A40: INDIANA | B40: 1.3097388e+09 | C40: 1.22968e+09 | D40: 80058792 | E40: 24041015 | F40: 30738746 | G40: 2.6 | H40: 0.78 | I40: 2003417.9 | J40: 4 | K40: 72045120 | L40: 4645325 | M40: on track | N40: 43647 | O40: 45474 | P40: 2413513.8 | Q40: #VALUE!
...

Sheet Jan'25
A1: Run Date: 01/31/2025 As of: 01/31/2025 | B1: 01/31/2025
A2: State Name | B2: Amount Of Open Grants | C2: Total Expended from Open Grants | D2: Total Unexpended from Open Grants | E2: Amount Expended Last 12 Months | F2: Most Recent Grant Amount | G2: Ratio Unexpended To Grant | H2: Ratio Expended Last 12 Months to Grant | I2: Avg monthly expenditure last 12 mos | J2: Months remaining to goal | K2: Projected bal 60 days before end of PY | L2: Monthly spending to reach 2x goal | M2: Monthly spending to reach 2.5x goal | N2: PY Start | O2: Current Pgm Yr start | P2: latest month's expenditure | Q2: Most Recent Grant Appeared in LOCCS
A3: FLORIDA | B3: 1.1399759e+09 | C3: 9.8394322e+08 | D3: 1.5603271e+08 | E3: 12550788 | F3: 24778539 | G3: 6.3 | H3: 0.51 | I3: 1045899 | J3: 3 | K3: 1.5289502e+08 | L3: 35491879 | M3: 31362122 | N3: 43647 | O3: 45474 | P3: 908378.79 | Q3: #VALUE!
A4: NORTH CAROLINA | B4: 1.7885959e+09 | C4: 1.5339913e+09 | D4: 2.5460458e+08 | E4: 36177712 | F4: 46272979 | G4: 5.5 | H4: 0.78 | I4: 3014809.3 | J4: 9 | K4: 2.274713e+08 | L4: 18006514 | M4: 15435793 | N4: 43831 | O4: 45658 | P4: 4312173.6 | Q4: #VALUE!
A5: WEST VIRGINIA | B5: 7.0869638e+08 | C5: 6.3263413e+08 | D5: 76062255 | E5: 12776851 | F5: 13833071 | G5: 5.5 | H5: 0.92 | I5: 1064737.6 | J5: 3 | K5: 72868043 | L5: 16132038 | M5: 13826526 | N5: 43647 | O5: 45474 | P5: 1319619.8 | Q5: #VALUE!
A6: MICHIGAN | B6: 1.4692429e+09 | C6: 1.2949838e+09 | D6: 1.7425912e+08 | E6: 22897368 | F6: 33073641 | G6: 5.27 | H6: 0.69 | I6: 1908114 | J6: 3 | K6: 1.6853477e+08 | L6: 36037278 | M6: 30525004 | N6: 43647 | O6: 45474 | P6: 1530712.1 | Q6: #VALUE!
A7: ILLINOIS | B7: 1.3362735e+09 | C7: 1.1866492e+09 | D7: 1.4962428e+08 | E7: 17653909 | F7: 29074134 | G7: 5.15 | H7: 0.61 | I7: 1471159.1 | J7: 9 | K7: 1.3638385e+08 | L7: 10164001 | M7: 8548771.4 | N7: 43831 | O7: 45658 | P7: 2367929.2 | Q7: #VALUE!
A8: WYOMING | B8: 1.2089976e+08 | C8: 1.0439487e+08 | D8: 16504890 | E8: 1734856.3 | F8: 3521015 | G8: 4.69 | H8: 0.49 | I8: 144571.36 | J8: 9 | K8: 15203748 | L8: 1051428.9 | M8: 855816.98 | N8: 43831 | O8: 45658 | P8: 19146.12 | Q8: #VALUE!
A9: NEW MEXICO | B9: 493558716 | C9: 4.457378e+08 | D9: 47820912 | E9: 7447571.6 | F9: 11038481 | G9: 4.33 | H9: 0.67 | I9: 620630.96 | J9: 9 | K9: 42235234 | L9: 2860438.9 | M9: 2247190 | N9: 43831 | O9: 45658 | P9: 1626994.6 | Q9: #VALUE!
A10: MONTANA | B10: 265120500 | C10: 2.39025e+08 | D10: 26095499 | E10: 8403165.1 | F10: 6172506 | G10: 4.23 | H10: 1.36 | I10: 700263.76 | J10: 0 | K10: 26095499 | L10: NA | M10: NA | N10: 43922 | O10: 45383 | P10: 1454145 | Q10: #VALUE!
A11: RHODE ISLAND | B11: 2.031847e+08 | C11: 1.7927226e+08 | D11: 23912438 | E11: 5819624.7 | F11: 5655134 | G11: 4.23 | H11: 1.03 | I11: 484968.73 | J11: 3 | K11: 22457532 | L11: 4200723.4 | M11: 3258201.1 | N11: 43647 | O11: 45474 | P11: 3382666.7 | Q11: #VALUE!
A12: PUERTO RICO | B12: 1945106991 | C12: 1.8518711e+09 | D12: 93235935 | E12: 20297039 | F12: 22131554 | G12: 4.21 | H12: 0.92 | I12: 1691419.9 | J12: 3 | K12: 88161676 | L12: 16324276 | M12: 12635683 | N12: 43647 | O12: 45474 | P12: 1094480.6 | Q12: #VALUE!
A13: NORTH DAKOTA | B13: 187480557 | C13: 1.7274247e+08 | D13: 14738084 | E13: 2644509.1 | F13: 3515583 | G13: 4.19 | H13: 0.75 | I13: 220375.76 | J13: 3 | K13: 14076957 | L13: 2568972.6 | M13: 1983042.1 | N13: 43647 | O13: 45474 | P13: 382090.83 | Q13: #VALUE!
A14: MINNESOTA | B14: 853256279 | C14: 7.7475594e+08 | D14: 78500338 | E14: 17887753 | F14: 18836467 | G14: 4.17 | H14: 0.95 | I14: 1490646.1 | J14: 6 | K14: 69556461 | L14: 6804567.3 | M14: 5234861.7 | N14: 43739 | O14: 45566 | P14: 964962.11 | Q14: #VALUE!
A15: KENTUCKY | B15: 1.1681423e+09 | C15: 1.0599188e+09 | D15: 1.0822351e+08 | E15: 20407921 | F15: 26355588 | G15: 4.11 | H15: 0.77 | I15: 1700660.1 | J15: 3 | K15: 1.0312153e+08 | L15: 18504112 | M15: 14111514 | N15: 43647 | O15: 45474 | P15: 970239.53 | Q15: #VALUE!
A16: CALIFORNIA | B16: 1.4384287e+09 | C16: 1.3170298e+09 | D16: 1.2139892e+08 | E16: 24030535 | F16: 30065955 | G16: 4.04 | H16: 0.8 | I16: 2002544.6 | J16: 3 | K16: 1.1539129e+08 | L16: 20422338 | M16: 15411345 | N16: 43647 | O16: 45474 | P16: 1095234 | Q16: #VALUE!
A17: ARKANSAS | B17: 8.0046432e+08 | C17: 7.3085378e+08 | D17: 69610546 | E17: 19414315 | F17: 17480755 | G17: 3.98 | H17: 1.11 | I17: 1617859.6 | J17: 3 | K17: 64756967 | L17: 11549679 | M17: 8636219.5 | N17: 43647 | O17: 45474 | P17: 1583057.3 | Q17: #VALUE!
A18: VIRGINIA | B18: 794219275 | C18: 7.1910634e+08 | D18: 75112933 | E18: 14651672 | F18: 19107637 | G18: 3.93 | H18: 0.77 | I18: 1220972.7 | J18: 3 | K18: 71450015 | L18: 12299220 | M18: 9114613.4 | N18: 43647 | O18: 45474 | P18: 1015766.1 | Q18: #VALUE!
A19: SOUTH CAROLINA | B19: 1.0224308e+09 | C19: 9.4592261e+08 | D19: 76508186 | E19: 26613520 | F19: 19809810 | G19: 3.86 | H19: 1.34 | I19: 2217793.4 | J19: 0 | K19: 76508186 | L19: NA | M19: NA | N19: 43922 | O19: 45383 | P19: 2428104 | Q19: #VALUE!
A20: NEBRASKA | B20: 5.0056523e+08 | C20: 4.6063477e+08 | D20: 39930457 | E20: 6940799.4 | F20: 10539100 | G20: 3.79 | H20: 0.66 | I20: 578399.95 | J20: 3 | K20: 38195257 | L20: 6284085.7 | M20: 4527569 | N20: 43647 | O20: 45474 | P20: 302995.04 | Q20: #VALUE!
A21: NEW JERSEY | B21: 3.0055106e+08 | C21: 2.7566058e+08 | D21: 24890484 | E21: 9827521.8 | F21: 6730317 | G21: 3.7 | H21: 1.46 | I21: 818960.15 | J21: 3 | K21: 22433603 | L21: 3809949.9 | M21: 2688230.4 | N21: 43647 | O21: 45474 | P21: 2742712.6 | Q21: #VALUE!
A22: MISSOURI | B22: 1010324720 | C22: 9.2872906e+08 | D22: 81595663 | E22: 31588884 | F22: 23059848 | G22: 3.54 | H22: 1.37 | I22: 2632407 | J22: 0 | K22: 81595663 | L22: NA | M22: NA | N22: 43922 | O22: 45383 | P22: 1275963.5 | Q22: #VALUE!
A23: ALASKA | B23: 104394118 | C23: 95118643 | D23: 9275474.8 | E23: 2193623 | F23: 2677355 | G23: 3.46 | H23: 0.82 | I23: 182801.92 | J23: 3 | K23: 8727069 | L23: 1306921.6 | M23: 860695.77 | N23: 43647 | O23: 45474 | P23: 41017.41 | Q23: #VALUE!
A24: SOUTH DAKOTA | B24: 254239457 | C24: 2.3510985e+08 | D24: 19129607 | E24: 6606225 | F24: 5680880 | G24: 3.37 | H24: 1.16 | I24: 550518.75 | J24: 9 | K24: 14174938 | L24: 863094.12 | M24: on track | N24: 43831 | O24: 45658 | P24: 1340985.9 | Q24: #VALUE!
A25: PENNSYLVANIA | B25: 2.0010648e+09 | C25: 1.8699513e+09 | D25: 1.3111355e+08 | E25: 38707310 | F25: 40779947 | G25: 3.22 | H25: 0.95 | I25: 3225609.2 | J25: 9 | K25: 1.0208307e+08 | L25: 5505961.8 | M25: 3240409.2 | N25: 43831 | O25: 45658 | P25: 3472485 | Q25: #VALUE!
A26: IOWA | B26: 1059732308 | C26: 9.8252369e+08 | D26: 77208616 | E26: 16659892 | F26: 24168777 | G26: 3.19 | H26: 0.69 | I26: 1388324.3 | J26: 9 | K26: 64713697 | L26: 3207895.7 | M26: 1865185.9 | N26: 43831 | O26: 45658 | P26: 1755676 | Q26: #VALUE!
A27: CONNECTICUT | B27: 5.2832884e+08 | C27: 4.8501836e+08 | D27: 43310479 | E27: 16537762 | F27: 13880022 | G27: 3.12 | H27: 1.19 | I27: 1378146.9 | J27: 3 | K27: 39176038 | L27: 5183478.3 | M27: 2870141.3 | N27: 43647 | O27: 45474 | P27: 0 | Q27: #VALUE!
A28: MISSISSIPPI | B28: 1.2394723e+09 | C28: 1.1645828e+09 | D28: 74889558 | E28: 20356558 | F28: 24088947 | G28: 3.11 | H28: 0.85 | I28: 1696379.9 | J28: 3 | K28: 69800418 | L28: 8903887.8 | M28: 4889063.3 | N28: 43647 | O28: 45474 | P28: 2130167.8 | Q28: #VALUE!
A29: GEORGIA | B29: 1.6422976e+09 | C29: 1.5152176e+09 | D29: 1.2707997e+08 | E29: 36808060 | F29: 40984884 | G29: 3.1 | H29: 0.9 | I29: 3067338.3 | J29: 3 | K29: 1.1787795e+08 | L29: 15036733 | M29: 8205919.5 | N29: 43647 | O29: 45474 | P29: 3804379.8 | Q29: #VALUE!
A30: NEW YORK | B30: 1.2287777e+09 | C30: 1.0814856e+09 | D30: 1.4729205e+08 | E30: 61678306 | F30: 47456120 | G30: 3.1 | H30: 1.3 | I30: 5139858.8 | J30: 9 | K30: 1.0103332e+08 | L30: 5819979.1 | M30: on track | N30: 43831 | O30: 45658 | P30: 4206304.5 | Q30: #VALUE!
A31: MARYLAND | B31: 3.1444639e+08 | C31: 2.8869006e+08 | D31: 25756328 | E31: 9199043.1 | F31: 8369791 | G31: 3.08 | H31: 1.1 | I31: 766586.92 | J31: 3 | K31: 23456567 | L31: 3005581.9 | M31: 1610616.7 | N31: 43647 | O31: 45474 | P31: 2506407.8 | Q31: #VALUE!
A32: COLORADO | B32: 3.9263422e+08 | C32: 3.6545555e+08 | D32: 27178664 | E32: 17950540 | F32: 9305817 | G32: 2.92 | H32: 1.93 | I32: 1495878.3 | J32: 0 | K32: 27178664 | L32: NA | M32: NA | N32: 43556 | O32: 45383 | P32: 6103785.9 | Q32: #VALUE!
A33: KANSAS | B33: 675052951 | C33: 6.322166e+08 | D33: 42836355 | E33: 11654970 | F33: 14786581 | G33: 2.9 | H33: 0.79 | I33: 971247.47 | J33: 9 | K33: 34095128 | L33: 1473688.1 | M33: on track | N33: 43466 | O33: 45658 | P33: 1716899.5 | Q33: #VALUE!
A34: TENNESSEE | B34: 1154905413 | C34: 1.0757811e+09 | D34: 79124316 | E34: 26014248 | F34: 27571438 | G34: 2.87 | H34: 0.94 | I34: 2167854 | J34: 3 | K34: 72620754 | L34: 7993813.2 | M34: 3398573.5 | N34: 43647 | O34: 45474 | P34: 1430151.3 | Q34: #VALUE!
A35: NEW HAMPSHIRE | B35: 346058940 | C35: 3.209948e+08 | D35: 25064143 | E35: 5177066.1 | F35: 9353201 | G35: 2.68 | H35: 0.55 | I35: 431422.17 | J35: 9 | K35: 21181343 | L35: 706415.63 | M35: on track | N35: 43831 | O35: 45658 | P35: 404638.23 | Q35: #VALUE!
A36: OREGON | B36: 5.4540968e+08 | C36: 5.1412324e+08 | D36: 31286441 | E36: 16200466 | F36: 11656242 | G36: 2.68 | H36: 1.39 | I36: 1350038.8 | J36: 9 | K36: 19136092 | L36: on track | M36: on track | N36: 43831 | O36: 45658 | P36: 1351013 | Q36: #VALUE!
A37: MASSACHUSETTS | B37: 1.394383e+09 | C37: 1.3019674e+09 | D37: 92415543 | E37: 34514845 | F37: 34869850 | G37: 2.65 | H37: 0.99 | I37: 2876237.1 | J37: 0 | K37: 92415543 | L37: NA | M37: NA | N37: 43922 | O37: 45383 | P37: 2379743.1 | Q37: #VALUE!
A38: TEXAS | B38: 2.8793131e+09 | C38: 2.6920095e+09 | D38: 1.8730361e+08 | E38: 82436699 | F38: 70613641 | G38: 2.65 | H38: 1.17 | I38: 6869724.9 | J38: 5 | K38: 1.5295498e+08 | L38: 9215265.2 | M38: on track | N38: 44075 | O38: 45536 | P38: 12931826 | Q38: #VALUE!
A39: WASHINGTON | B39: 522049097 | C39: 4.8741652e+08 | D39: 34632575 | E39: 15926522 | F39: 13105608 | G39: 2.64 | H39: 1.22 | I39: 1327210.2 | J39: 3 | K39: 30650945 | L39: 2807119.8 | M39: on track | N39: 43647 | O39: 45474 | P39: 1166037.8 | Q39: #VALUE!
A40: VERMONT | B40: 277600986 | C40: 2.5796022e+08 | D40: 19640762 | E40: 7363055.6 | F40: 7461397 | G40: 2.63 | H40: 0.99 | I40: 613587.96 | J40: 3 | K40: 17799999 | L40: 1572656.1 | M40: on track | N40: 43647 | O40: 45474 | P40: 214684 | Q40: #VALUE!
...

Sheet Feb'25
A1: Run Date: 02/28/2025 As of: 02/28/2025 | B1: 02/28/2025
A2: State Name | B2: Amount Of Open Grants | C2: Total Expended from Open Grants | D2: Total Unexpended from Open Grants | E2: Amount Expended Last 12 Months | F2: Most Recent Grant Amount | G2: Ratio Unexpended To Grant | H2: Ratio Expended Last 12 Months to Grant | I2: Avg monthly expenditure last 12 mos | J2: Months remaining to goal | K2: Projected bal 60 days before end of PY | L2: Monthly spending to reach 2x goal | M2: Monthly spending to reach 2.5x goal | N2: PY Start | O2: Current Pgm Yr start | P2: latest month's expenditure | Q2: Most Recent Grant Appeared in LOCCS
A3: FLORIDA | B3: 1.1399759e+09 | C3: 9.8507826e+08 | D3: 1.5489767e+08 | E3: 13352802 | F3: 24778539 | G3: 6.25 | H3: 0.54 | I3: 1112733.5 | J3: 2 | K3: 1.5267221e+08 | L3: 52670298 | M3: 46475663 | N3: 43647 | O3: 45474 | P3: 1135041.2 | Q3: #VALUE!
A4: WEST VIRGINIA | B4: 7.0869638e+08 | C4: 6.3280978e+08 | D4: 75886603 | E4: 11810594 | F4: 13833071 | G4: 5.49 | H4: 0.85 | I4: 984216.21 | J4: 2 | K4: 73918171 | L4: 24110231 | M4: 20651963 | N4: 43647 | O4: 45474 | P4: 175652.13 | Q4: #VALUE!
A5: NORTH CAROLINA | B5: 1.7885959e+09 | C5: 1.5361087e+09 | D5: 2.5248715e+08 | E5: 35700151 | F5: 46272979 | G5: 5.46 | H5: 0.77 | I5: 2975012.6 | J5: 8 | K5: 2.2868705e+08 | L5: 19992649 | M5: 17100587 | N5: 43831 | O5: 45658 | P5: 2117437.4 | Q5: #VALUE!
A6: MICHIGAN | B6: 1.4692429e+09 | C6: 1.2955397e+09 | D6: 173703193 | E6: 18117853 | F6: 33073641 | G6: 5.25 | H6: 0.55 | I6: 1509821.1 | J6: 2 | K6: 1.7068355e+08 | L6: 53777956 | M6: 45509545 | N6: 43647 | O6: 45474 | P6: 555922.87 | Q6: #VALUE!
A7: ILLINOIS | B7: 1.3362735e+09 | C7: 1.1887091e+09 | D7: 1.475644e+08 | E7: 18706923 | F7: 29074134 | G7: 5.08 | H7: 0.64 | I7: 1558910.3 | J7: 8 | K7: 1.3509312e+08 | L7: 11177016 | M7: 9359883.1 | N7: 43831 | O7: 45658 | P7: 2059878 | Q7: #VALUE!
A8: WYOMING | B8: 1.2089976e+08 | C8: 1.0442023e+08 | D8: 16479530 | E8: 1752823.2 | F8: 3521015 | G8: 4.68 | H8: 0.5 | I8: 146068.6 | J8: 8 | K8: 15310981 | L8: 1179687.5 | M8: 959624.06 | N8: 43831 | O8: 45658 | P8: 25360.32 | Q8: #VALUE!
A9: NEW MEXICO | B9: 493558716 | C9: 4.457378e+08 | D9: 47820912 | E9: 6955540 | F9: 11038481 | G9: 4.33 | H9: 0.63 | I9: 579628.33 | J9: 8 | K9: 43183886 | L9: 3217993.8 | M9: 2528088.7 | N9: 43831 | O9: 45658 | P9: 0 | Q9: #VALUE!
A10: MINNESOTA | B10: 853256279 | C10: 7.7476048e+08 | D10: 78495798 | E10: 17940835 | F10: 18836467 | G10: 4.17 | H10: 0.95 | I10: 1495069.6 | J10: 5 | K10: 71020450 | L10: 8164572.9 | M10: 6280926.2 | N10: 43739 | O10: 45566 | P10: 4539.48 | Q10: #VALUE!
A11: MONTANA | B11: 265120500 | C11: 2.3946629e+08 | D11: 25654210 | E11: 8415397.7 | F11: 6172506 | G11: 4.16 | H11: 1.36 | I11: 701283.14 | J11: 0 | K11: 25654210 | L11: NA | M11: NA | N11: 43922 | O11: 45383 | P11: 441289.27 | Q11: #VALUE!
A12: RHODE ISLAND | B12: 2.031847e+08 | C12: 1.7965526e+08 | D12: 23529435 | E12: 6298022.6 | F12: 5655134 | G12: 4.16 | H12: 1.11 | I12: 524835.22 | J12: 2 | K12: 22479765 | L12: 6109583.5 | M12: 4695800 | N12: 43647 | O12: 45474 | P12: 383003.13 | Q12: #VALUE!
A13: PUERTO RICO | B13: 1945106991 | C13: 1.8535726e+09 | D13: 91534437 | E13: 21724266 | F13: 22131554 | G13: 4.14 | H13: 0.98 | I13: 1810355.5 | J13: 2 | K13: 87913726 | L13: 23635665 | M13: 18102776 | N13: 43647 | O13: 45474 | P13: 1701498.1 | Q13: #VALUE!
A14: NORTH DAKOTA | B14: 187480557 | C14: 1.7324424e+08 | D14: 14236319 | E14: 2906394.3 | F14: 3515583 | G14: 4.05 | H14: 0.83 | I14: 242199.52 | J14: 2 | K14: 13751920 | L14: 3602576.3 | M14: 2723680.5 | N14: 43647 | O14: 45474 | P14: 501765.35 | Q14: #VALUE!
A15: KENTUCKY | B15: 1.1681423e+09 | C15: 1.0622e+09 | D15: 1.0594229e+08 | E15: 19650400 | F15: 26355588 | G15: 4.02 | H15: 0.75 | I15: 1637533.3 | J15: 2 | K15: 1.0266722e+08 | L15: 26615555 | M15: 20026658 | N15: 43647 | O15: 45474 | P15: 2281225 | Q15: #VALUE!
A16: CALIFORNIA | B16: 1.4384287e+09 | C16: 1.3190028e+09 | D16: 1.1942597e+08 | E16: 25078653 | F16: 30065955 | G16: 3.97 | H16: 0.83 | I16: 2089887.8 | J16: 2 | K16: 1.1524619e+08 | L16: 29647028 | M16: 22130540 | N16: 43647 | O16: 45474 | P16: 1972955.7 | Q16: #VALUE!
A17: ARKANSAS | B17: 8.0046432e+08 | C17: 7.3199651e+08 | D17: 68467812 | E17: 19580684 | F17: 17480755 | G17: 3.92 | H17: 1.12 | I17: 1631723.7 | J17: 2 | K17: 65204365 | L17: 16753151 | M17: 12382962 | N17: 43647 | O17: 45474 | P17: 1142733.8 | Q17: #VALUE!
A18: VIRGINIA | B18: 794219275 | C18: 7.2003182e+08 | D18: 74187456 | E18: 14606987 | F18: 19107637 | G18: 3.88 | H18: 0.76 | I18: 1217248.9 | J18: 2 | K18: 71752959 | L18: 17986091 | M18: 13209182 | N18: 43647 | O18: 45474 | P18: 925476.32 | Q18: #VALUE!
A19: SOUTH CAROLINA | B19: 1.0224308e+09 | C19: 9.4748333e+08 | D19: 74947465 | E19: 25472915 | F19: 19809810 | G19: 3.78 | H19: 1.29 | I19: 2122742.9 | J19: 0 | K19: 74947465 | L19: NA | M19: NA | N19: 43922 | O19: 45383 | P19: 1560720.8 | Q19: #VALUE!
A20: NEBRASKA | B20: 5.0056523e+08 | C20: 4.608862e+08 | D20: 39679028 | E20: 6394968 | F20: 10539100 | G20: 3.76 | H20: 0.61 | I20: 532914 | J20: 2 | K20: 38613200 | L20: 9300414 | M20: 6665639 | N20: 43647 | O20: 45474 | P20: 251429.02 | Q20: #VALUE!
A21: NEW JERSEY | B21: 3.0055106e+08 | C21: 2.7615102e+08 | D21: 24400048 | E21: 9974924.4 | F21: 6730317 | G21: 3.63 | H21: 1.48 | I21: 831243.7 | J21: 2 | K21: 22737561 | L21: 5469707 | M21: 3787127.8 | N21: 43647 | O21: 45474 | P21: 490435.59 | Q21: #VALUE!
A22: ALASKA | B22: 104394118 | C22: 95218268 | D22: 9175850.4 | E22: 2293247.4 | F22: 2677355 | G22: 3.43 | H22: 0.86 | I22: 191103.95 | J22: 2 | K22: 8793642.5 | L22: 1910570.2 | M22: 1241231.5 | N22: 43647 | O22: 45474 | P22: 99624.39 | Q22: #VALUE!
