Workbook
Name Assumptions: #REF!
Name Current_month: #REF!
Name CurrentFY: 'US Chart'!$Z$4
Name FY_ratios: '[1]States by Mo'!$A$3:$BE$53
Name FY_ratios: '[1]States by Mo'!$A$3:$BE$53
Name FY_ratios: '[1]States by Mo'!$A$3:$BE$53
Name FY_ratios: '[1]States by Mo'!$A$3:$BE$53
Name FY_ratios: '[1]States by Mo'!$A$3:$BE$53
Name FY_ratios: '[1]States by Mo'!$A$3:$BE$53
Name FY_ratios: '[1]States by Mo'!$A$3:$BE$53
Name FY_ratios: '[1]States by Mo'!$A$3:$BE$53
Name FY_ratios: '[1]States by Mo'!$A$3:$BE$53
Name FY_ratios: '[1]States by Mo'!$A$3:$BE$53
Name FY_ratios: '[1]States by Mo'!$A$3:$BE$53
Name FY_ratios: '[1]States by Mo'!$A$3:$BE$53
Name FY_ratios: '[1]States by Mo'!$A$3:$BE$53
Name FY_ratios: '[1]States by Mo'!$A$3:$BE$53
Name FY_ratios: '[1]States by Mo'!$A$3:$BE$53
Name FY_ratios: '[1]States by Mo'!$A$3:$BE$53
Name FY_ratios: '[1]States by Mo'!$A$3:$BE$53
Name FY_ratios: '[1]States by Mo'!$A$3:$BE$53
Name FY_ratios: '[1]States by Mo'!$A$3:$BE$53
Name FY_ratios: '[1]States by Mo'!$A$3:$BE$53
Name FY_ratios: '[1]States by Mo'!$A$3:$BE$53
Name FY_ratios: '[1]States by Mo'!$A$3:$BE$53
Name FY_ratios: '[1]States by Mo'!$A$3:$BE$53
Name FY_ratios: '[1]States by Mo'!$A$3:$BE$53
Name FY_ratios: '[1]States by Mo'!$A$3:$BE$53
Name FY_ratios: '[1]States by Mo'!$A$3:$BE$53
Name FY_ratios: 'States by Mo'!$A$3:$AE$53
Name StateAbbrev: #REF!
Name StateNames: [1]tables!$A$2:$F$51
Name StateNames: [1]tables!$A$2:$F$51
Name StateNames: [1]tables!$A$2:$F$51
Name StateNames: [1]tables!$A$2:$F$51
Name StateNames: [1]tables!$A$2:$F$51
Name StateNames: [1]tables!$A$2:$F$51
Name StateNames: [1]tables!$A$2:$F$51
Name StateNames: [1]tables!$A$2:$F$51
Name StateNames: [1]tables!$A$2:$F$51
Name StateNames: [1]tables!$A$2:$F$51
Name StateNames: [1]tables!$A$2:$F$51
Name StateNames: [1]tables!$A$2:$F$51
Name StateNames: [1]tables!$A$2:$F$51
Name StateNames: [1]tables!$A$2:$F$51
Name StateNames: [1]tables!$A$2:$F$51
Name StateNames: [1]tables!$A$2:$F$51
Name StateNames: [1]tables!$A$2:$F$51
Name StateNames: [1]tables!$A$2:$F$51
Name StateNames: [1]tables!$A$2:$F$51
Name StateNames: [1]tables!$A$2:$F$51
Name StateNames: [1]tables!$A$2:$F$51
Name StateNames: [1]tables!$A$2:$F$51
Name StateNames: [1]tables!$A$2:$F$51
Name StateNames: [1]tables!$A$2:$F$51
Name StateNames: [1]tables!$A$2:$F$51
Name StateNames: [1]tables!$A$2:$F$51
Name StateNames: #REF!

Sheet Sep'24
A1: Run Date: 09/30/2024 As of: 09/30/2024 | B1: 09/30/2024
A2: State Name | B2: Amount Of Open Grants | C2: Total Expended from Open Grants | D2: Total Unexpended from Open Grants | E2: Amount Expended Last 12 Months | F2: Most Recent Grant Amount | G2: Ratio Unexpended To Grant | H2: Ratio Expended Last 12 Months to Grant | I2: Avg monthly expenditure last 12 mos | J2: Months remaining to goal | K2: Projected bal 60 days before end of PY | L2: Monthly spending to reach 2x goal | M2: Monthly spending to reach 2.5x goal | N2: PY Start | O2: Current Pgm Yr start | P2: latest month's expenditure | Q2: Most Recent Grant Appeared in LOCCS
A3: WEST VIRGINIA | B3: 7.0869638e+08 | C3: 6.2875351e+08 | D3: 79942874 | E3: 12484071 | F3: 13833071 | G3: 5.78 | H3: 0.9 | I3: 1040339.2 | J3: 7 | K3: 72660499 | L3: 7468104.6 | M3: 6480028.1 | N3: 43647 | O3: 45474 | P3: 1231311.4 | Q3: #VALUE!
A4: NORTH CAROLINA | B4: 1.7885959e+09 | C4: 1.5240829e+09 | D4: 2.6451301e+08 | E4: 33178923 | F4: 46272979 | G4: 5.72 | H4: 0.72 | I4: 2764910.3 | J4: 1 | K4: 2.617481e+08 | L4: 1.7196705e+08 | M4: 1.4883056e+08 | N4: 43831 | O4: 45292 | P4: 4675534.7 | Q4: #VALUE!
A5: ILLINOIS | B5: 1.3362735e+09 | C5: 1.1776839e+09 | D5: 1.5858957e+08 | E5: 14799242 | F5: 29074134 | G5: 5.45 | H5: 0.51 | I5: 1233270.1 | J5: 1 | K5: 1.573563e+08 | L5: 1.004413e+08 | M5: 85904236 | N5: 43831 | O5: 45292 | P5: 2168333.7 | Q5: #VALUE!
A6: MICHIGAN | B6: 1.4692429e+09 | C6: 1.2924988e+09 | D6: 176744084 | E6: 27511655 | F6: 33073641 | G6: 5.34 | H6: 0.83 | I6: 2292637.9 | J6: 7 | K6: 1.6069562e+08 | L6: 15799543 | M6: 13437140 | N6: 43647 | O6: 45474 | P6: 13456.84 | Q6: #VALUE!
A7: FLORIDA | B7: 1.1151974e+09 | C7: 9.8117465e+08 | D7: 1.3402274e+08 | E7: 11409245 | F7: 26165562 | G7: 5.12 | H7: 0.44 | I7: 950770.4 | J7: 7 | K7: 1.2736735e+08 | L7: 11670231 | M7: 9801262.7 | N7: 43647 | O7: 45474 | P7: 3850321.3 | Q7: #VALUE!
A8: MONTANA | B8: 265120500 | C8: 2.3427549e+08 | D8: 30845006 | E8: 6128786.5 | F8: 6172506 | G8: 5 | H8: 0.99 | I8: 510732.21 | J8: 4 | K8: 28802077 | L8: 4624998.5 | M8: 3853435.2 | N8: 43922 | O8: 45383 | P8: 706655.34 | Q8: #VALUE!
A9: RHODE ISLAND | B9: 2.031847e+08 | C9: 1.7582358e+08 | D9: 27361116 | E9: 3949500.4 | F9: 5655134 | G9: 4.84 | H9: 0.7 | I9: 329125.03 | J9: 7 | K9: 25057240 | L9: 2292978.2 | M9: 1889040.1 | N9: 43647 | O9: 45474 | P9: 0 | Q9: #VALUE!
A10: WYOMING | B10: 1.2089976e+08 | C10: 1.0416541e+08 | D10: 16734355 | E10: 1619676.2 | F10: 3521015 | G10: 4.75 | H10: 0.46 | I10: 134973.01 | J10: 1 | K10: 16599382 | L10: 9692325 | M10: 7931817.5 | N10: 43831 | O10: 45292 | P10: 136272.31 | Q10: #VALUE!
A11: MINNESOTA | B11: 853256279 | C11: 7.6731957e+08 | D11: 85936711 | E11: 15828135 | F11: 18836467 | G11: 4.56 | H11: 0.84 | I11: 1319011.3 | J11: 0 | K11: 85936711 | L11: NA | M11: NA | N11: 43739 | O11: 45200 | P11: 2419131.9 | Q11: #VALUE!
A12: NEW MEXICO | B12: 493558716 | C12: 4.431757e+08 | D12: 50383011 | E12: 8356828.4 | F12: 11038481 | G12: 4.56 | H12: 0.76 | I12: 696402.37 | J12: 1 | K12: 49686609 | L12: 28306049 | M12: 22786809 | N12: 43831 | O12: 45292 | P12: 586068.56 | Q12: #VALUE!
A13: NORTH DAKOTA | B13: 187480557 | C13: 1.7149918e+08 | D13: 15981373 | E13: 2392918.6 | F13: 3515583 | G13: 4.55 | H13: 0.68 | I13: 199409.88 | J13: 7 | K13: 14585504 | L13: 1278601.1 | M13: 1027488 | N13: 43647 | O13: 45474 | P13: 18908.99 | Q13: #VALUE!
A14: SOUTH CAROLINA | B14: 1.0224308e+09 | C14: 9.372201e+08 | D14: 85210694 | E14: 25397119 | F14: 19809810 | G14: 4.3 | H14: 1.28 | I14: 2116426.6 | J14: 4 | K14: 76744987 | L14: 11397768 | M14: 8921542.1 | N14: 43922 | O14: 45383 | P14: 3961347 | Q14: #VALUE!
A15: NEBRASKA | B15: 5.0056523e+08 | C15: 4.5900829e+08 | D15: 41556939 | E15: 10428671 | F15: 10539100 | G15: 3.94 | H15: 0.99 | I15: 869055.94 | J15: 7 | K15: 35473548 | L15: 2925534.2 | M15: 2172741.3 | N15: 43647 | O15: 45474 | P15: 844824.48 | Q15: #VALUE!
A16: ALASKA | B16: 104394118 | C16: 94466110 | D16: 9928008.4 | E16: 2347883 | F16: 2677355 | G16: 3.71 | H16: 0.88 | I16: 195656.92 | J16: 7 | K16: 8558410 | L16: 653328.34 | M16: 462088.7 | N16: 43647 | O16: 45474 | P16: 0 | Q16: #VALUE!
A17: CONNECTICUT | B17: 5.2832884e+08 | C17: 4.7805292e+08 | D17: 50275918 | E17: 13415556 | F17: 13880022 | G17: 3.62 | H17: 0.97 | I17: 1117963 | J17: 7 | K17: 42450177 | L17: 3216553.4 | M17: 2225123.3 | N17: 43647 | O17: 45474 | P17: 0 | Q17: #VALUE!
A18: PUERTO RICO | B18: 1922975437 | C18: 1.8467395e+09 | D18: 76235971 | E18: 22621037 | F18: 22385506 | G18: 3.41 | H18: 1.01 | I18: 1885086.4 | J18: 7 | K18: 63040366 | L18: 4494994.2 | M18: 2896029.4 | N18: 43647 | O18: 45474 | P18: 2817337 | Q18: #VALUE!
A19: ARKANSAS | B19: 7.8298357e+08 | C19: 7.2279085e+08 | D19: 60192716 | E19: 15977182 | F19: 17807834 | G19: 3.38 | H19: 0.9 | I19: 1331431.9 | J19: 7 | K19: 50872692 | L19: 3511006.8 | M19: 2239018.6 | N19: 43647 | O19: 45474 | P19: 2560213.9 | Q19: #VALUE!
A20: KENTUCKY | B20: 1.1417867e+09 | C20: 1.0544022e+09 | D20: 87384457 | E20: 20979795 | F20: 26492151 | G20: 3.3 | H20: 0.79 | I20: 1748316.3 | J20: 7 | K20: 75146243 | L20: 4914307.9 | M20: 3022011.4 | N20: 43647 | O20: 45474 | P20: 1059929.4 | Q20: #VALUE!
A21: CALIFORNIA | B21: 1.4083628e+09 | C21: 1.3067854e+09 | D21: 1.0157741e+08 | E21: 22527005 | F21: 31050303 | G21: 3.27 | H21: 0.73 | I21: 1877250.4 | J21: 7 | K21: 88436658 | L21: 5639543.6 | M21: 3421664.8 | N21: 43647 | O21: 45474 | P21: 1447501.1 | Q21: #VALUE!
A22: VIRGINIA | B22: 775111638 | C22: 7.1413663e+08 | D22: 60975010 | E22: 13459865 | F22: 18806749 | G22: 3.24 | H22: 0.72 | I22: 1121655.4 | J22: 7 | K22: 53123422 | L22: 3337358.9 | M22: 1994019.7 | N22: 43647 | O22: 45474 | P22: 823577.25 | Q22: #VALUE!
A23: COLORADO | B23: 3.833284e+08 | C23: 3.5315967e+08 | D23: 30168735 | E23: 7480405.9 | F23: 9345978 | G23: 3.23 | H23: 0.8 | I23: 623367.16 | J23: 4 | K23: 27675266 | L23: 2869194.7 | M23: 1700947.4 | N23: 43556 | O23: 45383 | P23: 47027.25 | Q23: #VALUE!
... A25: NEW JERSEY | B25: 2.9382075e+08 | C25: 2.7214101e+08 | D25: 21679739 | E25: 7645510.3 | F25: 6746804 | G25: 3.21 | H25: 1.13 | I25: 637125.86 | J25: 7 | K25: 17219858 | L25: 1169447.3 | M25: 687532.72 | N25: 43647 | O25: 45474 | P25: 136673.75 | Q25: #VALUE!
A26: TEXAS | B26: 2.8793131e+09 | C26: 2.6597199e+09 | D26: 2.1959317e+08 | E26: 74357252 | F26: 70613641 | G26: 3.11 | H26: 1.05 | I26: 6196437.6 | J26: 9 | K26: 1.6382523e+08 | L26: 8707320.8 | M26: on track | N26: 44075 | O26: 45536 | P26: 5331111.3 | Q26: #VALUE!
A27: WASHINGTON | B27: 522049097 | C27: 4.8206064e+08 | D27: 39988460 | E27: 14538293 | F27: 13105608 | G27: 3.05 | H27: 1.11 | I27: 1211524.4 | J27: 7 | K27: 31507789 | L27: 1968177.7 | M27: on track | N27: 43647 | O27: 45474 | P27: 1008162.1 | Q27: #VALUE!
A28: OREGON | B28: 5.4540968e+08 | C28: 5.1000588e+08 | D28: 35403799 | E28: 17092623 | F28: 11656242 | G28: 3.04 | H28: 1.47 | I28: 1424385.2 | J28: 1 | K28: 33979414 | L28: 12091315 | M28: 6263194 | N28: 43831 | O28: 45292 | P28: 1482961 | Q28: #VALUE!
A29: MASSACHUSETTS | B29: 1.394383e+09 | C29: 1.2885711e+09 | D29: 1.0581189e+08 | E29: 29710959 | F29: 34869850 | G29: 3.03 | H29: 0.85 | I29: 2475913.2 | J29: 4 | K29: 95908241 | L29: 9018048.6 | M29: 4659317.3 | N29: 43922 | O29: 45383 | P29: 1348955.1 | Q29: #VALUE!
A30: MISSOURI | B30: 987264872 | C30: 9.1875168e+08 | D30: 68513194 | E30: 32899484 | F30: 23383549 | G30: 2.93 | H30: 1.41 | I30: 2741623.7 | J30: 4 | K30: 57546700 | L30: 5436524.1 | M30: on track | N30: 43922 | O30: 45383 | P30: 2155033.5 | Q30: #VALUE!
A31: IDAHO | B31: 3.4288781e+08 | C31: 3.1904546e+08 | D31: 23842348 | E31: 8780125 | F31: 8236180 | G31: 2.89 | H31: 1.07 | I31: 731677.08 | J31: 4 | K31: 20915639 | L31: 1842496.9 | M31: 812974.44 | N31: 43556 | O31: 45383 | P31: 843728.94 | Q31: #VALUE!
A32: NEW HAMPSHIRE | B32: 346058940 | C32: 3.1908439e+08 | D32: 26974549 | E32: 6147972.9 | F32: 9353201 | G32: 2.88 | H32: 0.66 | I32: 512331.07 | J32: 1 | K32: 26462218 | L32: 8268146.9 | M32: 3591546.4 | N32: 43831 | O32: 45292 | P32: 502016.83 | Q32: #VALUE!
A33: SOUTH DAKOTA | B33: 248558577 | C33: 2.3236501e+08 | D33: 16193571 | E33: 6077557.4 | F33: 5790145 | G33: 2.8 | H33: 1.05 | I33: 506463.12 | J33: 1 | K33: 15687108 | L33: 4613280.7 | M33: 1718208.2 | N33: 43831 | O33: 45292 | P33: 315290.81 | Q33: #VALUE!
A34: OKLAHOMA | B34: 6.8538868e+08 | C34: 6.4704953e+08 | D34: 38339143 | E34: 12917658 | F34: 13963452 | G34: 2.75 | H34: 0.93 | I34: 1076471.5 | J34: 4 | K34: 34033257 | L34: 2603059.8 | M34: on track | N34: 43922 | O34: 45383 | P34: 1171982.1 | Q34: #VALUE!
A35: INDIANA | B35: 1.3097388e+09 | C35: 1.2258425e+09 | D35: 83896312 | E35: 26870230 | F35: 30738746 | G35: 2.73 | H35: 0.87 | I35: 2239185.8 | J35: 7 | K35: 68222011 | L35: 3202688.5 | M35: on track | N35: 43647 | O35: 45474 | P35: 3672983.2 | Q35: #VALUE!
A36: PENNSYLVANIA | B36: 1.9602849e+09 | C36: 1.853032e+09 | D36: 107252912 | E36: 39141049 | F36: 41120349 | G36: 2.61 | H36: 0.95 | I36: 3261754.1 | J36: 1 | K36: 1.0399116e+08 | L36: 25012214 | M36: 4452039.5 | N36: 43831 | O36: 45292 | P36: 3823581.9 | Q36: #VALUE!
A37: MARYLAND | B37: 3.060766e+08 | C37: 2.8518252e+08 | D37: 20894078 | E37: 7972947 | F37: 8165077 | G37: 2.56 | H37: 0.98 | I37: 664412.25 | J37: 7 | K37: 16243192 | L37: on track | M37: on track | N37: 43647 | O37: 45474 | P37: 1232673.1 | Q37: #VALUE!
A38: NEW YORK | B38: 1.1813216e+09 | C38: 1.0612705e+09 | D38: 1.2005103e+08 | E38: 62845543 | F38: 47769843 | G38: 2.51 | H38: 1.32 | I38: 5237128.6 | J38: 1 | K38: 1.148139e+08 | L38: 24511344 | M38: on track | N38: 43831 | O38: 45292 | P38: 1704624.3 | Q38: #VALUE!
A39: WISCONSIN | B39: 1082941284 | C39: 1.0166018e+09 | D39: 66339488 | E39: 29244093 | F39: 27168342 | G39: 2.44 | H39: 1.08 | I39: 2437007.8 | J39: 4 | K39: 56591457 | L39: 3000701.1 | M39: on track | N39: 43922 | O39: 45383 | P39: 4710333.7 | Q39: #VALUE!
A40: IOWA | B40: 1035563531 | C40: 9.7681856e+08 | D40: 58744967 | E40: 17722598 | F40: 24645105 | G40: 2.38 | H40: 0.72 | I40: 1476883.2 | J40: 1 | K40: 57268084 | L40: 9454757.5 | M40: on track | N40: 43831 | O40: 45292 | P40: 1918506.5 | Q40: #VALUE!
A41: MISSISSIPPI | B41: 1.2153834e+09 | C41: 1.1575421e+09 | D41: 57841247 | E41: 17384484 | F41: 24335266 | G41: 2.38 | H41: 0.71 | I41: 1448707 | J41: 7 | K41: 47700299 | L41: on track | M41: on track | N41: 43647 | O41: 45474 | P41: 711445.55 | Q41: #VALUE!
A42: MAINE | B42: 497245980 | C42: 4.6946799e+08 | D42: 27777993 | E42: 11530031 | F42: 11808636 | G42: 2.35 | H42: 0.98 | I42: 960835.9 | J42: 1 | K42: 26817158 | L42: 4160721.4 | M42: on track | N42: 43831 | O42: 45292 | P42: 952417.55 | Q42: #VALUE!
A43: GEORGIA | B43: 1.6013127e+09 | C43: 1.5047198e+09 | D43: 96592902 | E43: 39459147 | F43: 41389514 | G43: 2.33 | H43: 0.95 | I43: 3288262.2 | J43: 7 | K43: 73575066 | L43: on track | M43: on track | N43: 43647 | O43: 45474 | P43: 1575239.9 | Q43: #VALUE!
A44: KANSAS | B44: 660266370 | C44: 6.2799895e+08 | D44: 32267415 | E44: 11642951 | F44: 14821600 | G44: 2.18 | H44: 0.79 | I44: 970245.91 | J44: 1 | K44: 31297169 | L44: 2624215.1 | M44: on track | N44: 43466 | O44: 45292 | P44: 1145735.1 | Q44: #VALUE!
A45: UTAH | B45: 238203233 | C45: 2.264478e+08 | D45: 11755435 | E45: 5633398.1 | F45: 5501208 | G45: 2.14 | H45: 1.02 | I45: 469449.84 | J45: 7 | K45: 8469286.2 | L45: on track | M45: on track | N45: 43647 | O45: 45474 | P45: 0 | Q45: #VALUE!
A46: NEVADA | B46: 95802497 | C46: 89816669 | D46: 5985828.1 | E46: 4560319.3 | F46: 2895399 | G46: 2.07 | H46: 1.58 | I46: 380026.61 | J46: 7 | K46: 3325641.8 | L46: on track | M46: on track | N46: 43647 | O46: 45474 | P46: 0 | Q46: #VALUE!
A47: ALABAMA | B47: 1.0624162e+09 | C47: 1.017067e+09 | D47: 45349209 | E47: 23415711 | F47: 23271036 | G47: 1.95 | H47: 1.01 | I47: 1951309.2 | J47: 4 | K47: 37543972 | L47: on track | M47: on track | N47: 43556 | O47: 45383 | P47: 187283.05 | Q47: #VALUE!
A48: VERMONT | B48: 270139589 | C48: 2.5604714e+08 | D48: 14092453 | E48: 6920257 | F48: 7334647 | G48: 1.92 | H48: 0.94 | I48: 576688.08 | J48: 7 | K48: 10055636 | L48: on track | M48: on track | N48: 43647 | O48: 45474 | P48: 796703 | Q48: #VALUE!
A49: LOUISIANA | B49: 1182616448 | C49: 1.1397264e+09 | D49: 42890021 | E49: 22509196 | F49: 22759065 | G49: 1.88 | H49: 0.99 | I49: 1875766.3 | J49: 4 | K49: 35386956 | L49: on track | M49: on track | N49: 43922 | O49: 45383 | P49: 4577311.5 | Q49: #VALUE!
A50: ARIZONA | B50: 379033306 | C50: 3.6453118e+08 | D50: 14502126 | E50: 9788819.9 | F50: 9905563 | G50: 1.46 | H50: 0.99 | I50: 815734.99 | J50: 7 | K50: 8791981.3 | L50: on track | M50: on track | N50: 43647 | O50: 45474 | P50: 1024548.3 | Q50: #VALUE!
A51: OHIO | B51: 1.8946178e+09 | C51: 1.8290049e+09 | D51: 65612915 | E51: 44236263 | F51: 45251402 | G51: 1.45 | H51: 0.98 | I51: 3686355.3 | J51: 7 | K51: 39808428 | L51: on track | M51: on track | N51: 43647 | O51: 45474 | P51: 5538138.9 | Q51: #VALUE!
A52: DELAWARE | B52: 72717998 | C52: 70979356 | D52: 1738641.8 | E52: 2333936.2 | F52: 2684959 | G52: 0.65 | H52: 0.87 | I52: 194494.68 | J52: 7 | K52: 377179.01 | L52: on track | M52: on track | N52: 43647 | O52: 45474 | P52: 348656.26 | Q52: #VALUE!
A53: TOTALS: | B53: 4.2557496e+10 | C53: 3.9354203e+10 | D53: 3.2032935e+09 | E53: 9.1093131e+08 | F53: 986809248 | G53: 3.25 | H53: 0.92 | I53: 75910942 | P53: 78924294
D56: Number of states with unexpended balance greater than 2.5: | G56: 36
D57: Number of states with expenditure rate less than 1: | H57: 36

Sheet Oct'24
A1: Run Date: 10/31/2024 As of: 10/31/2024 | B1: 10/31/2024
A2: State Name | B2: Amount Of Open Grants | C2: Total Expended from Open Grants | D2: Total Unexpended from Open Grants | E2: Amount Expended Last 12 Months | F2: Most Recent Grant Amount | G2: Ratio Unexpended To Grant | H2: Ratio Expended Last 12 Months to Grant | I2: Avg monthly expenditure last 12 mos | J2: Months remaining to goal | K2: Projected bal 60 days before end of PY | L2: Monthly spending to reach 2x goal | M2: Monthly spending to reach 2.5x goal | N2: PY Start | O2: Current Pgm Yr start | P2: latest month's expenditure | Q2: Most Recent Grant Appeared in LOCCS
A3: NORTH CAROLINA | B3: 1.7885959e+09 | C3: 1.5253097e+09 | D3: 2.6328623e+08 | E3: 31752416 | F3: 46272979 | G3: 5.69 | H3: 0.69 | I3: 2646034.6 | J3: 0 | K3: 2.6328623e+08 | L3: NA | M3: NA | N3: 43831 | O3: 45292 | P3: 1226782.6 | Q3: #VALUE!
A4: WEST VIRGINIA | B4: 7.0869638e+08 | C4: 6.3042532e+08 | D4: 78271065 | E4: 12892506 | F4: 13833071 | G4: 5.66 | H4: 0.93 | I4: 1074375.5 | J4: 6 | K4: 71824812 | L4: 8434153.8 | M4: 7281397.9 | N4: 43647 | O4: 45474 | P4: 1671809.1 | Q4: #VALUE!
A5: ILLINOIS | B5: 1.3362735e+09 | C5: 1.1792066e+09 | D5: 1.5706685e+08 | E5: 14735379 | F5: 29074134 | G5: 5.4 | H5: 0.51 | I5: 1227948.2 | J5: 0 | K5: 1.5706685e+08 | L5: NA | M5: NA | N5: 43831 | O5: 45292 | P5: 1522720.3 | Q5: #VALUE!
A6: MICHIGAN | B6: 1.4692429e+09 | C6: 1.2928143e+09 | D6: 1.764286e+08 | E6: 26572837 | F6: 33073641 | G6: 5.33 | H6: 0.8 | I6: 2214403.1 | J6: 6 | K6: 1.6314218e+08 | L6: 18380220 | M6: 15624083 | N6: 43647 | O6: 45474 | P6: 315481.41 | Q6: #VALUE!
A7: FLORIDA | B7: 1.1151974e+09 | C7: 9.8144284e+08 | D7: 1.3375456e+08 | E7: 11466931 | F7: 26165562 | G7: 5.11 | H7: 0.44 | I7: 955577.58 | J7: 6 | K7: 1.2802109e+08 | L7: 13570573 | M7: 11390109 | N7: 43647 | O7: 45474 | P7: 268184.97 | Q7: #VALUE!
A8: RHODE ISLAND | B8: 2.031847e+08 | C8: 1.7582358e+08 | D8: 27361116 | E8: 3709939.1 | F8: 5655134 | G8: 4.84 | H8: 0.66 | I8: 309161.59 | J8: 6 | K8: 25506146 | L8: 2675141.3 | M8: 2203880.1 | N8: 43647 | O8: 45474 | P8: 0 | Q8: #VALUE!
A9: MONTANA | B9: 265120500 | C9: 2.3580232e+08 | D9: 29318177 | E9: 7056270.2 | F9: 6172506 | G9: 4.75 | H9: 1.14 | I9: 588022.52 | J9: 3 | K9: 27554109 | L9: 5657721.7 | M9: 4628970.7 | N9: 43922 | O9: 45383 | P9: 1526828.9 | Q9: #VALUE!
A10: WYOMING | B10: 1.2089976e+08 | C10: 1.0430625e+08 | D10: 16593515 | E10: 1742257.8 | F10: 3521015 | G10: 4.71 | H10: 0.49 | I10: 145188.15 | J10: 0 | K10: 16593515 | L10: NA | M10: NA | N10: 43831 | O10: 45292 | P10: 140840.22 | Q10: #VALUE!
A11: MINNESOTA | B11: 853256279 | C11: 7.6828901e+08 | D11: 84967273 | E11: 15206881 | F11: 18836467 | G11: 4.51 | H11: 0.81 | I11: 1267240.1 | J11: 9 | K11: 73562113 | L11: 5254926.6 | M11: 4208456.2 | N11: 43739 | O11: 45566 | P11: 969437.15 | Q11: #VALUE!
A12: NEW MEXICO | B12: 493558716 | C12: 4.4375147e+08 | D12: 49807248 | E12: 7839250.8 | F12: 11038481 | G12: 4.51 | H12: 0.71 | I12: 653270.9 | J12: 0 | K12: 49807248 | L12: NA | M12: NA | N12: 43831 | O12: 45292 | P12: 575763.83 | Q12: #VALUE!
A13: NORTH DAKOTA | B13: 187480557 | C13: 1.7179008e+08 | D13: 15690476 | E13: 2325112.4 | F13: 3515583 | G13: 4.46 | H13: 0.66 | I13: 193759.37 | J13: 6 | K13: 14527919 | L13: 1443218.3 | M13: 1150253 | N13: 43647 | O13: 45474 | P13: 290897.87 | Q13: #VALUE!
A14: PUERTO RICO | B14: 1945106991 | C14: 1.8476627e+09 | D14: 97444274 | E14: 22609317 | F14: 22131554 | G14: 4.4 | H14: 1.02 | I14: 1884109.8 | J14: 6 | K14: 86139616 | L14: 8863527.7 | M14: 7019231.5 | N14: 43647 | O14: 45474 | P14: 923250.9 | Q14: #VALUE!
A15: KENTUCKY | B15: 1.1681423e+09 | C15: 1.0555139e+09 | D15: 1.1262842e+08 | E15: 20113332 | F15: 26355588 | G15: 4.27 | H15: 0.76 | I15: 1676111 | J15: 6 | K15: 1.0257175e+08 | L15: 9986207.2 | M15: 7789908.2 | N15: 43647 | O15: 45474 | P15: 1111626 | Q15: #VALUE!
A16: SOUTH CAROLINA | B16: 1.0224308e+09 | C16: 9.3984841e+08 | D16: 82582385 | E16: 25079972 | F16: 19809810 | G16: 4.17 | H16: 1.27 | I16: 2089997.7 | J16: 3 | K16: 76312392 | L16: 14320922 | M16: 11019287 | N16: 43922 | O16: 45383 | P16: 2628309 | Q16: #VALUE!
A17: VIRGINIA | B17: 794219275 | C17: 7.1541054e+08 | D17: 78808732 | E17: 13849790 | F17: 19107637 | G17: 4.12 | H17: 0.72 | I17: 1154149.2 | J17: 6 | K17: 71883837 | L17: 6765576.3 | M17: 5173273.2 | N17: 43647 | O17: 45474 | P17: 1273915.2 | Q17: #VALUE!
A18: NEBRASKA | B18: 5.0056523e+08 | C18: 4.5983238e+08 | D18: 40732845 | E18: 9836438.8 | F18: 10539100 | G18: 3.86 | H18: 0.93 | I18: 819703.23 | J18: 6 | K18: 35814625 | L18: 3275774.1 | M18: 2397515.8 | N18: 43647 | O18: 45474 | P18: 824094.71 | Q18: #VALUE!
A19: ALASKA | B19: 104394118 | C19: 94466110 | D19: 9928008.4 | E19: 2166757.3 | F19: 2677355 | G19: 3.71 | H19: 0.81 | I19: 180563.11 | J19: 6 | K19: 8844629.7 | L19: 762216.4 | M19: 539103.48 | N19: 43647 | O19: 45474 | P19: 0 | Q19: #VALUE!
A20: PENNSYLVANIA | B20: 2.0010648e+09 | C20: 1.8585821e+09 | D20: 1.4248278e+08 | E20: 40085228 | F20: 40779947 | G20: 3.49 | H20: 0.98 | I20: 3340435.6 | J20: 0 | K20: 1.4248278e+08 | L20: NA | M20: NA | N20: 43831 | O20: 45292 | P20: 5550082.3 | Q20: #VALUE!
A21: NEW YORK | B21: 1.2287777e+09 | C21: 1.0649215e+09 | D21: 1.6385614e+08 | E21: 61641272 | F21: 47456120 | G21: 3.45 | H21: 1.3 | I21: 5136772.6 | J21: 0 | K21: 1.6385614e+08 | L21: NA | M21: NA | N21: 43831 | O21: 45292 | P21: 3651010.7 | Q21: #VALUE!
A22: CONNECTICUT | B22: 5.2832884e+08 | C22: 4.8214359e+08 | D22: 46185250 | E22: 17506224 | F22: 13880022 | G22: 3.33 | H22: 1.26 | I22: 1458852 | J22: 6 | K22: 37432138 | L22: 3070867.6 | M22: 1914199.1 | N22: 43647 | O22: 45474 | P22: 4090668.3 | Q22: #VALUE!
A23: ARKANSAS | B23: 7.8298357e+08 | C23: 7.2389581e+08 | D23: 59087757 | E23: 15524085 | F23: 17807834 | G23: 3.32 | H23: 0.87 | I23: 1293673.8 | J23: 6 | K23: 51325714 | L23: 3912014.8 | M23: 2428028.6 | N23: 43647 | O23: 45474 | P23: 1104958.7 | Q23: #VALUE!
A24: CALIFORNIA | B24: 1.4083628e+09 | C24: 1.308131e+09 | D24: 1.0023183e+08 | E24: 19858330 | F24: 31050303 | G24: 3.23 | H24: 0.64 | I24: 1654860.8 | J24: 6 | K24: 90302669 | L24: 6355204.7 | M24: 3767679.5 | N24: 43647 | O24: 45474 | P24: 1345577 | Q24: #VALUE!
A25: NEW JERSEY | B25: 2.9382075e+08 | C25: 2.7264593e+08 | D25: 21174817 | E25: 7114763.5 | F25: 6746804 | G25: 3.14 | H25: 1.05 | I25: 592896.96 | J25: 6 | K25: 17617436 | L25: 1280201.6 | M25: 717967.89 | N25: 43647 | O25: 45474 | P25: 504921.75 | Q25: #VALUE!
A26: TENNESSEE | B26: 1154905413 | C26: 1.0696747e+09 | D26: 85230734 | E26: 26351038 | F26: 27571438 | G26: 3.09 | H26: 0.96 | I26: 2195919.8 | J26: 6 | K26: 72055216 | L26: 5014643.1 | M26: 2717023.2 | N26: 43647 | O26: 45474 | P26: 3578198.5 | Q26: #VALUE!
A27: TEXAS | B27: 2.8793131e+09 | C27: 2.6676289e+09 | D27: 2.116842e+08 | E27: 73796206 | F27: 70613641 | G27: 3 | H27: 1.05 | I27: 6149683.8 | J27: 8 | K27: 1.6248673e+08 | L27: 8807114.8 | M27: on track | N27: 44075 | O27: 45536 | P27: 7908969.1 | Q27: #VALUE!
A28: MASSACHUSETTS | B28: 1.394383e+09 | C28: 1.2917608e+09 | D28: 1.0262221e+08 | E28: 29992022 | F28: 34869850 | G28: 2.94 | H28: 0.86 | I28: 2499335.1 | J28: 3 | K28: 95124207 | L28: 10960838 | M28: 5149195.8 | N28: 43922 | O28: 45383 | P28: 3189681.7 | Q28: #VALUE!
A29: WASHINGTON | B29: 522049097 | C29: 4.835797e+08 | D29: 38469402 | E29: 15386184 | F29: 13105608 | G29: 2.94 | H29: 1.17 | I29: 1282182 | J29: 6 | K29: 30776309 | L29: 2043030.9 | M29: on track | N29: 43647 | O29: 45474 | P29: 1519058.2 | Q29: #VALUE!
A30: OREGON | B30: 5.4540968e+08 | C30: 5.1207322e+08 | D30: 33336455 | E30: 17320143 | F30: 11656242 | G30: 2.86 | H30: 1.49 | I30: 1443345.2 | J30: 0 | K30: 33336455 | L30: NA | M30: NA | N30: 43831 | O30: 45292 | P30: 2067344 | Q30: #VALUE!
A31: COLORADO | B31: 3.833284e+08 | C31: 3.5666091e+08 | D31: 26667488 | E31: 10134196 | F31: 9345978 | G31: 2.85 | H31: 1.08 | I31: 844516.34 | J31: 3 | K31: 24133939 | L31: 2658510.7 | M31: 1100847.7 | N31: 43556 | O31: 45383 | P31: 3501246.6 | Q31: #VALUE!
A32: NEW HAMPSHIRE | B32: 346058940 | C32: 3.1953208e+08 | D32: 26526865 | E32: 5654529.9 | F32: 9353201 | G32: 2.84 | H32: 0.6 | I32: 471210.83 | J32: 0 | K32: 26526865 | L32: NA | M32: NA | N32: 43831 | O32: 45292 | P32: 447684.14 | Q32: #VALUE!
A33: LOUISIANA | B33: 1205115490 | C33: 1.1416042e+09 | D33: 63511308 | E33: 23645626 | F33: 22499042 | G33: 2.82 | H33: 1.05 | I33: 1970468.8 | J33: 3 | K33: 57599902 | L33: 6171074.7 | M33: 2421234.3 | N33: 43922 | O33: 45383 | P33: 1877755.2 | Q33: #VALUE!
A34: MISSOURI | B34: 987264872 | C34: 9.2180495e+08 | D34: 65459923 | E34: 34448267 | F34: 23383549 | G34: 2.8 | H34: 1.47 | I34: 2870688.9 | J34: 3 | K34: 56847856 | L34: 6230941.6 | M34: on track | N34: 43922 | O34: 45383 | P34: 3053271.7 | Q34: #VALUE!
A35: SOUTH DAKOTA | B35: 248558577 | C35: 2.3236501e+08 | D35: 16193571 | E35: 6077557.4 | F35: 5790145 | G35: 2.8 | H35: 1.05 | I35: 506463.12 | J35: 0 | K35: 16193571 | L35: NA | M35: NA | N35: 43831 | O35: 45292 | P35: 0 | Q35: #VALUE!
A36: IDAHO | B36: 3.4288781e+08 | C36: 3.1990134e+08 | D36: 22986466 | E36: 9630258.4 | F36: 8236180 | G36: 2.79 | H36: 1.17 | I36: 802521.53 | J36: 3 | K36: 20578902 | L36: 2171368.8 | M36: on track | N36: 43556 | O36: 45383 | P36: 855881.43 | Q36: #VALUE!
A37: INDIANA | B37: 1.3097388e+09 | C37: 1.2272665e+09 | D37: 82472306 | E37: 26222076 | F37: 30738746 | G37: 2.68 | H37: 0.85 | I37: 2185173 | J37: 6 | K37: 69361267 | L37: 3499135.6 | M37: on track | N37: 43647 | O37: 45474 | P37: 1424006.1 | Q37: #VALUE!
A38: MARYLAND | B38: 3.060766e+08 | C38: 2.8523807e+08 | D38: 20838525 | E38: 7999661.9 | F38: 8165077 | G38: 2.55 | H38: 0.98 | I38: 666638.49 | J38: 6 | K38: 16838694 | L38: 751395.11 | M38: on track | N38: 43647 | O38: 45474 | P38: 55552.88 | Q38: #VALUE!
A39: OKLAHOMA | B39: 6.8538868e+08 | C39: 6.5086826e+08 | D39: 34520421 | E39: 14922374 | F39: 13963452 | G39: 2.47 | H39: 1.07 | I39: 1243531.1 | J39: 3 | K39: 30789827 | L39: 2197838.9 | M39: on track | N39: 43922 | O39: 45383 | P39: 3818722.5 | Q39: #VALUE!
A40: OHIO | B40: 1.9401106e+09 | C40: 1.8326756e+09 | D40: 1.0743499e+08 | E40: 44255456 | F40: 45492764 | G40: 2.36 | H40: 0.97 | I40: 3687954.7 | J40: 6 | K40: 85307263 | L40: on track | M40: on track | N40: 43647 | O40: 45474 | P40: 3670687.4 | Q40: #VALUE!
A41: IOWA | B41: 1035563531 | C41: 9.777143e+08 | D41: 57849226 | E41: 17671581 | F41: 24645105 | G41: 2.35 | H41: 0.72 | I41: 1472631.8 | J41: 0 | K41: 57849226 | L41: NA | M41: on track | N41: 43831 | O41: 45292 | P41: 895741.09 | Q41: #VALUE!
A42: MAINE | B42: 497245980 | C42: 4.6997523e+08 | D42: 27270752 | E42: 11175544 | F42: 11808636 | G42: 2.31 | H42: 0.95 | I42: 931295.33 | J42: 0 | K42: 27270752 | L42: NA | M42: on track | N42: 43831 | O42: 45292 | P42: 507241.2 | Q42: #VALUE!
A43: MISSISSIPPI | B43: 1.2153834e+09 | C43: 1.1594221e+09 | D43: 55961298 | E43: 18576524 | F43: 24335266 | G43: 2.3 | H43: 0.76 | I43: 1548043.7 | J43: 6 | K43: 46673036 | L43: on track | M43: on track | N43: 43647 | O43: 45474 | P43: 1879948.9 | Q43: #VALUE!
A44: WISCONSIN | B44: 1082941284 | C44: 1.0204913e+09 | D44: 62449956 | E44: 32372207 | F44: 27168342 | G44: 2.3 | H44: 1.19 | I44: 2697683.9 | J44: 3 | K44: 54356904 | L44: 2704424 | M44: on track | N44: 43922 | O44: 45383 | P44: 3889532.2 | Q44: #VALUE!
A45: GEORGIA | B45: 1.6013127e+09 | C45: 1506560653 | D45: 94752029 | E45: 37988597 | F45: 41389514 | G45: 2.29 | H45: 0.92 | I45: 3165716.4 | J45: 6 | K45: 75757731 | L45: on track | M45: on track | N45: 43647 | O45: 45474 | P45: 1840872.8 | Q45: #VALUE!
A46: KANSAS | B46: 660266370 | C46: 6.2871812e+08 | D46: 31548252 | E46: 11371686 | F46: 14821600 | G46: 2.13 | H46: 0.77 | I46: 947640.54 | J46: 0 | K46: 31548252 | L46: NA | M46: on track | N46: 43466 | O46: 45292 | P46: 719162.62 | Q46: #VALUE!
A47: UTAH | B47: 238203233 | C47: 2.2676502e+08 | D47: 11438214 | E47: 5589616 | F47: 5501208 | G47: 2.08 | H47: 1.02 | I47: 465801.33 | J47: 6 | K47: 8643406.2 | L47: on track | M47: on track | N47: 43647 | O47: 45474 | P47: 317220.89 | Q47: #VALUE!
A48: ALABAMA | B48: 1.0624162e+09 | C48: 1.0200589e+09 | D48: 42357367 | E48: 23160194 | F48: 23271036 | G48: 1.82 | H48: 1 | I48: 1930016.2 | J48: 3 | K48: 36567318 | L48: on track | M48: on track | N48: 43556 | O48: 45383 | P48: 2991842.2 | Q48: #VALUE!
A49: VERMONT | B49: 270139589 | C49: 2.5706921e+08 | D49: 13070377 | E49: 7279574.1 | F49: 7334647 | G49: 1.78 | H49: 0.99 | I49: 606631.17 | J49: 6 | K49: 9430589.9 | L49: on track | M49: on track | N49: 43647 | O49: 45474 | P49: 1022075.6 | Q49: #VALUE!
A50: NEVADA | B50: 95802497 | C50: 91268022 | D50: 4534475.1 | E50: 4463726.4 | F50: 2895399 | G50: 1.57 | H50: 1.54 | I50: 371977.2 | J50: 6 | K50: 2302611.9 | L50: on track | M50: on track | N50: 43647 | O50: 45474 | P50: 1451353 | Q50: #VALUE!
A51: ARIZONA | B51: 379033306 | C51: 3.6542249e+08 | D51: 13610818 | E51: 9752448.7 | F51: 9905563 | G51: 1.37 | H51: 0.98 | I51: 812704.06 | J51: 6 | K51: 8734594 | L51: on track | M51: on track | N51: 43647 | O51: 45474 | P51: 891307.92 | Q51: #VALUE!
A52: DELAWARE | B52: 72717998 | C52: 71117771 | D52: 1600227.1 | E52: 2465326.2 | F52: 2684959 | G52: 0.6 | H52: 0.92 | I52: 205443.85 | J52: 6 | K52: 367563.94 | L52: on track | M52: on track | N52: 43647 | O52: 45474 | P52: 138414.73 | Q52: #VALUE!
A53: TOTALS: | B53: 4.2781319e+10 | C53: 3.9439233e+10 | D53: 3.3420862e+09 | E53: 9.1838791e+08 | F53: 986046835 | G53: 3.39 | H53: 0.93 | I53: 76532326 | P53: 85029934
D56: Number of states with unexpended balance greater than 2.5: | G56: 36
D57: Number of states with expenditure rate less than 1: | H57: 31

Sheet Nov'24
A1: Run Date: 11/29/2024 As of: 11/30/2024 | B1: 11/30/2024
A2: State Name | B2: Amount Of Open Grants | C2: Total Expended from Open Grants | D2: Total Unexpended from Open Grants | E2: Amount Expended Last 12 Months | F2: Most Recent Grant Amount | G2: Ratio Unexpended To Grant | H2: Ratio Expended Last 12 Months to Grant | I2: Avg monthly expenditure last 12 mos | J2: Months remaining to goal | K2: Projected bal 60 days before end of PY | L2: Monthly spending to reach 2x goal | M2: Monthly spending to reach 2.5x goal | N2: PY Start | O2: Current Pgm Yr start | P2: latest month's expenditure | Q2: Most Recent Grant Appeared in LOCCS
A3: NORTH CAROLINA | B3: 1.7885959e+09 | C3: 1.5275929e+09 | D3: 2.6100304e+08 | E3: 32489874 | F3: 46272979 | G3: 5.64 | H3: 0.7 | I3: 2707489.5 | J3: -1 | K3: NA | L3: NA | M3: NA | N3: 43831 | O3: 45292 | P3: 2283189.2 | Q3: #VALUE!
A4: WEST VIRGINIA | B4: 7.0869638e+08 | C4: 6.3075194e+08 | D4: 77944438 | E4: 11886994 | F4: 13833071 | G4: 5.63 | H4: 0.86 | I4: 990582.8 | J4: 5 | K4: 72991524 | L4: 10055659 | M4: 8672352.2 | N4: 43647 | O4: 45474 | P4: 326626.56 | Q4: #VALUE!
A5: ILLINOIS | B5: 1.3362735e+09 | C5: 1.1812082e+09 | D5: 1.550653e+08 | E5: 15932480 | F5: 29074134 | G5: 5.33 | H5: 0.55 | I5: 1327706.7 | J5: -1 | K5: NA | L5: NA | M5: NA | N5: 43831 | O5: 45292 | P5: 2001553 | Q5: #VALUE!
A6: MICHIGAN | B6: 1.4692429e+09 | C6: 1.2928143e+09 | D6: 1.764286e+08 | E6: 25581179 | F6: 33073641 | G6: 5.33 | H6: 0.77 | I6: 2131764.9 | J6: 5 | K6: 1.6576978e+08 | L6: 22056264 | M6: 18748900 | N6: 43647 | O6: 45474 | P6: 0 | Q6: #VALUE!
A7: FLORIDA | B7: 1.1151974e+09 | C7: 9.8195697e+08 | D7: 1.3324043e+08 | E7: 11640638 | F7: 26165562 | G7: 5.09 | H7: 0.44 | I7: 970053.18 | J7: 5 | K7: 1.2839016e+08 | L7: 16181861 | M7: 13565305 | N7: 43647 | O7: 45474 | P7: 514130.6 | Q7: #VALUE!
A8: RHODE ISLAND | B8: 2.031847e+08 | C8: 1.7583043e+08 | D8: 27354266 | E8: 3549033.7 | F8: 5655134 | G8: 4.84 | H8: 0.63 | I8: 295752.81 | J8: 5 | K8: 25875502 | L8: 3208799.5 | M8: 2643286.1 | N8: 43647 | O8: 45474 | P8: 6850 | Q8: #VALUE!
A9: WYOMING | B9: 1.2089976e+08 | C9: 1.0432447e+08 | D9: 16575287 | E9: 1714342.8 | F9: 3521015 | G9: 4.71 | H9: 0.49 | I9: 142861.9 | J9: -1 | K9: NA | L9: NA | M9: NA | N9: 43831 | O9: 45292 | P9: 18227.91 | Q9: #VALUE!
A10: MONTANA | B10: 265120500 | C10: 2.3681039e+08 | D10: 28310111 | E10: 7683445 | F10: 6172506 | G10: 4.59 | H10: 1.24 | I10: 640287.09 | J10: 2 | K10: 27029536 | L10: 7982549.3 | M10: 6439422.8 | N10: 43922 | O10: 45383 | P10: 1008066.4 | Q10: #VALUE!
A11: NEW MEXICO | B11: 493558716 | C11: 4.4375147e+08 | D11: 49807248 | E11: 7067870.9 | F11: 11038481 | G11: 4.51 | H11: 0.64 | I11: 588989.24 | J11: -1 | K11: NA | L11: NA | M11: NA | N11: 43831 | O11: 45292 | P11: 0 | Q11: #VALUE!
A12: NORTH DAKOTA | B12: 187480557 | C12: 1.7179008e+08 | D12: 15690476 | E12: 2593395.5 | F12: 3515583 | G12: 4.46 | H12: 0.74 | I12: 216116.29 | J12: 5 | K12: 14609894 | L12: 1731861.9 | M12: 1380303.6 | N12: 43647 | O12: 45474 | P12: 0 | Q12: #VALUE!
A13: PUERTO RICO | B13: 1945106991 | C13: 1849230098 | D13: 95876893 | E13: 21667468 | F13: 22131554 | G13: 4.33 | H13: 0.98 | I13: 1805622.3 | J13: 5 | K13: 86848782 | L13: 10322757 | M13: 8109601.6 | N13: 43647 | O13: 45474 | P13: 1567381.2 | Q13: #VALUE!
A14: MINNESOTA | B14: 853256279 | C14: 7.7208633e+08 | D14: 81169951 | E14: 18022465 | F14: 18836467 | G14: 4.31 | H14: 0.96 | I14: 1501872.1 | J14: 8 | K14: 69154974 | L14: 5437127.1 | M14: 4259847.9 | N14: 43739 | O14: 45566 | P14: 3797322.8 | Q14: #VALUE!
A15: CALIFORNIA | B15: 1.4384287e+09 | C15: 1.3100183e+09 | D15: 1.2841048e+08 | E15: 19145367 | F15: 30065955 | G15: 4.27 | H15: 0.64 | I15: 1595447.3 | J15: 5 | K15: 1.2043324e+08 | L15: 13655714 | M15: 10649118 | N15: 43647 | O15: 45474 | P15: 1887311.7 | Q15: #VALUE!
A16: KENTUCKY | B16: 1.1681423e+09 | C16: 1.0575452e+09 | D16: 1.1059704e+08 | E16: 21486113 | F16: 26355588 | G16: 4.2 | H16: 0.82 | I16: 1790509.4 | J16: 5 | K16: 1.016445e+08 | L16: 11577174 | M16: 8941614.8 | N16: 43647 | O16: 45474 | P16: 2031375 | Q16: #VALUE!
A17: NEW JERSEY | B17: 3.0055106e+08 | C17: 2.7291787e+08 | D17: 27633196 | E17: 7327715 | F17: 6730317 | G17: 4.11 | H17: 1.09 | I17: 610642.92 | J17: 5 | K17: 24579982 | L17: 2834512.4 | M17: 2161480.7 | N17: 43647 | O17: 45474 | P17: 271938.1 | Q17: #VALUE!
A18: SOUTH CAROLINA | B18: 1.0224308e+09 | C18: 9.4127366e+08 | D18: 81157129 | E18: 25447127 | F18: 19809810 | G18: 4.1 | H18: 1.28 | I18: 2120593.9 | J18: 2 | K18: 76915941 | L18: 20768754 | M18: 15816302 | N18: 43922 | O18: 45383 | P18: 1425256 | Q18: #VALUE!
A19: VIRGINIA | B19: 794219275 | C19: 7.167784e+08 | D19: 77440874 | E19: 14502220 | F19: 19107637 | G19: 4.05 | H19: 0.76 | I19: 1208518.3 | J19: 5 | K19: 71398283 | L19: 7845120 | M19: 5934356.3 | N19: 43647 | O19: 45474 | P19: 1367857.7 | Q19: #VALUE!
A20: NEBRASKA | B20: 5.0056523e+08 | C20: 4.6000134e+08 | D20: 40563891 | E20: 9020263.8 | F20: 10539100 | G20: 3.85 | H20: 0.86 | I20: 751688.65 | J20: 5 | K20: 36805448 | L20: 3897138.2 | M20: 2843228.2 | N20: 43647 | O20: 45474 | P20: 168953.32 | Q20: #VALUE!
A21: SOUTH DAKOTA | B21: 254239457 | C21: 2.3276262e+08 | D21: 21476835 | E21: 6475172.9 | F21: 5680880 | G21: 3.78 | H21: 1.14 | I21: 539597.74 | J21: -1 | K21: NA | L21: NA | M21: NA | N21: 43831 | O21: 45292 | P21: 397615.47 | Q21: #VALUE!
A22: ALASKA | B22: 104394118 | C22: 94818684 | D22: 9575434.1 | E22: 2519331.7 | F22: 2677355 | G22: 3.58 | H22: 0.94 | I22: 209944.31 | J22: 5 | K22: 8525712.5 | L22: 844144.81 | M22: 576409.31 | N22: 43647 | O22: 45474 | P22: 352574.34 | Q22: #VALUE!
A23: MARYLAND | B23: 3.1444639e+08 | C23: 2.8556488e+08 | D23: 28881507 | E23: 7632323.8 | F23: 8369791 | G23: 3.45 | H23: 0.91 | I23: 636026.98 | J23: 5 | K23: 25701372 | L23: 2428384.9 | M23: 1591405.8 | N23: 43647 | O23: 45474 | P23: 326809.07 | Q23: #VALUE!
A24: PENNSYLVANIA | B24: 2.0010648e+09 | C24: 1.862787e+09 | D24: 1.3827783e+08 | E24: 39996699 | F24: 40779947 | G24: 3.39 | H24: 0.98 | I24: 3333058.2 | J24: -1 | K24: NA | L24: NA | M24: NA | N24: 43831 | O24: 45292 | P24: 4204951.3 | Q24: #VALUE!
A25: IOWA | B25: 1059732308 | C25: 9.7901674e+08 | D25: 80715565 | E25: 16985928 | F25: 24168777 | G25: 3.34 | H25: 0.7 | I25: 1415494 | J25: -1 | K25: NA | L25: NA | M25: NA | N25: 43831 | O25: 45292 | P25: 1302438 | Q25: #VALUE!
A26: CONNECTICUT | B26: 5.2832884e+08 | C26: 4.8214359e+08 | D26: 46185250 | E26: 16146298 | F26: 13880022 | G26: 3.33 | H26: 1.16 | I26: 1345524.9 | J26: 5 | K26: 39457625 | L26: 3685041.1 | M26: 2297038.9 | N26: 43647 | O26: 45474 | P26: 0 | Q26: #VALUE!
A27: NEW YORK | B27: 1.2287777e+09 | C27: 1.0730932e+09 | D27: 1.5568443e+08 | E27: 64484828 | F27: 47456120 | G27: 3.28 | H27: 1.36 | I27: 5373735.7 | J27: -1 | K27: NA | L27: NA | M27: NA | N27: 43831 | O27: 45292 | P27: 8171712.7 | Q27: #VALUE!
A28: ARKANSAS | B28: 7.8298357e+08 | C28: 7.2795075e+08 | D28: 55032824 | E28: 19226769 | F28: 17807834 | G28: 3.09 | H28: 1.08 | I28: 1602230.8 | J28: 5 | K28: 47021670 | L28: 3883431.2 | M28: 2102647.8 | N28: 43647 | O28: 45474 | P28: 4054932.8 | Q28: #VALUE!
A29: KANSAS | B29: 675052951 | C29: 6.2969976e+08 | D29: 45353187 | E29: 12148679 | F29: 14786581 | G29: 3.07 | H29: 0.82 | I29: 1012389.9 | J29: -1 | K29: NA | L29: NA | M29: NA | N29: 43466 | O29: 45292 | P29: 981646 | Q29: #VALUE!
A30: TENNESSEE | B30: 1154905413 | C30: 1.0716888e+09 | D30: 83216617 | E30: 26051944 | F30: 27571438 | G30: 3.02 | H30: 0.94 | I30: 2170995.3 | J30: 5 | K30: 72361640 | L30: 5614748.1 | M30: 2857604.3 | N30: 43647 | O30: 45474 | P30: 2014117.7 | Q30: #VALUE!
A31: TEXAS | B31: 2.8793131e+09 | C31: 2.6722641e+09 | D31: 2.0704903e+08 | E31: 74830894 | F31: 70613641 | G31: 2.93 | H31: 1.06 | I31: 6235907.8 | J31: 7 | K31: 1.6339767e+08 | L31: 9403106.8 | M31: on track | N31: 44075 | O31: 45536 | P31: 4635171.2 | Q31: #VALUE!
A32: MASSACHUSETTS | B32: 1.394383e+09 | C32: 1.2955247e+09 | D32: 98858312 | E32: 33747783 | F32: 34869850 | G32: 2.84 | H32: 0.97 | I32: 2812315.3 | J32: 2 | K32: 93233682 | L32: 14559306 | M32: 5841843.5 | N32: 43922 | O32: 45383 | P32: 3763900.4 | Q32: #VALUE!
A33: COLORADO | B33: 3.833284e+08 | C33: 3.5695577e+08 | D33: 26372633 | E33: 9937172.9 | F33: 9345978 | G33: 2.82 | H33: 1.06 | I33: 828097.74 | J33: 2 | K33: 24716437 | L33: 3840338.5 | M33: 1503844 | N33: 43556 | O33: 45383 | P33: 294855.17 | Q33: #VALUE!
A34: OREGON | B34: 5.4540968e+08 | C34: 5.1252216e+08 | D34: 32887522 | E34: 16843844 | F34: 11656242 | G34: 2.82 | H34: 1.45 | I34: 1403653.7 | J34: -1 | K34: NA | L34: NA | M34: NA | N34: 43831 | O34: 45292 | P34: 448933 | Q34: #VALUE!
A35: WASHINGTON | B35: 522049097 | C35: 4.8516056e+08 | D35: 36888541 | E35: 15534583 | F35: 13105608 | G35: 2.81 | H35: 1.19 | I35: 1294548.6 | J35: 5 | K35: 30415798 | L35: 2135465.1 | M35: on track | N35: 43647 | O35: 45474 | P35: 1580860.2 | Q35: #VALUE!
A36: NEW HAMPSHIRE | B36: 346058940 | C36: 3.1996611e+08 | D36: 26092832 | E36: 5120678.1 | F36: 9353201 | G36: 2.79 | H36: 0.55 | I36: 426723.17 | J36: -1 | K36: NA | L36: NA | M36: NA | N36: 43831 | O36: 45292 | P36: 434032.51 | Q36: #VALUE!
A37: LOUISIANA | B37: 1205115490 | C37: 1.1434968e+09 | D37: 61618671 | E37: 23212921 | F37: 22499042 | G37: 2.74 | H37: 1.03 | I37: 1934410.1 | J37: 2 | K37: 57749851 | L37: 8310293.4 | M37: 2685532.9 | N37: 43922 | O37: 45383 | P37: 1892637.3 | Q37: #VALUE!
A38: IDAHO | B38: 3.4288781e+08 | C38: 3.2051849e+08 | D38: 22369317 | E38: 8043746.4 | F38: 8236180 | G38: 2.72 | H38: 0.98 | I38: 670312.2 | J38: 2 | K38: 21028693 | L38: 2948478.7 | M38: 889433.74 | N38: 43556 | O38: 45383 | P38: 617148.87 | Q38: #VALUE!
A39: VERMONT | B39: 277600986 | C39: 2.5742512e+08 | D39: 20175868 | E39: 7154562.6 | F39: 7461397 | G39: 2.7 | H39: 0.96 | I39: 596213.55 | J39: 5 | K39: 17194801 | L39: 1050614.9 | M39: on track | N39: 43647 | O39: 45474 | P39: 355905.5 | Q39: #VALUE!
A40: INDIANA | B40: 1.3097388e+09 | C40: 1.2272665e+09 | D40: 82472306 | E40: 24359097 | F40: 30738746 | G40: 2.68 | H40: 0.79 | I40: 2029924.7 | J40: 5 | K40: 72322682 | L40: 4198962.7 | M40: on track | N40: 43647 | O40: 45474 | P40: 0 | Q40: #VALUE!
A41: MISSOURI | B41: 987264872 | C41: 9.2448089e+08 | D41: 62783981 | E41: 33852965 | F41: 23383549 | G41: 2.68 | H41: 1.45 | I41: 2821080.4 | J41: 2 | K41: 57141820 | L41: 8008441.6 | M41: on track | N41: 43922 | O41: 45383 | P41: 2675941.5 | Q41: #VALUE!
A42: NEVADA | B42: 98701064 | C42: 91268022 | D42: 7433042.1 | E42: 5028431.6 | F42: 2898567 | G42: 2.56 | H42: 1.73 | I42: 419035.97 | J42: 5 | K42: 5337862.2 | L42: on track | M42: on track | N42: 43647 | O42: 45474 | P42: 0 | Q42: #VALUE!
A43: OKLAHOMA | B43: 6.8538868e+08 | C43: 6.5164642e+08 | D43: 33742253 | E43: 16208742 | F43: 13963452 | G43: 2.42 | H43: 1.16 | I43: 1350728.5 | J43: 2 | K43: 31040796 | L43: 2907674.7 | M43: on track | N43: 43922 | O43: 45383 | P43: 778167.38 | Q43: #VALUE!
A44: OHIO | B44: 1.9401106e+09 | C44: 1.8355131e+09 | D44: 1.0459746e+08 | E44: 41945430 | F44: 45492764 | G44: 2.3 | H44: 0.92 | I44: 3495452.5 | J44: 5 | K44: 87120196 | L44: on track | M44: on track | N44: 43647 | O44: 45474 | P44: 2837532.8 | Q44: #VALUE!
A45: MISSISSIPPI | B45: 1.2153834e+09 | C45: 1.1599191e+09 | D45: 55464299 | E45: 17966518 | F45: 24335266 | G45: 2.28 | H45: 0.74 | I45: 1497209.8 | J45: 5 | K45: 47978250 | L45: on track | M45: on track | N45: 43647 | O45: 45474 | P45: 496999.4 | Q45: #VALUE!
A46: GEORGIA | B46: 1.6013127e+09 | C46: 1.5086109e+09 | D46: 92701820 | E46: 37837253 | F46: 41389514 | G46: 2.24 | H46: 0.91 | I46: 3153104.4 | J46: 5 | K46: 76936297 | L46: on track | M46: on track | N46: 43647 | O46: 45474 | P46: 2050209.5 | Q46: #VALUE!
A47: ARIZONA | B47: 389160034 | C47: 3.6653661e+08 | D47: 22623421 | E47: 10078767 | F47: 10126728 | G47: 2.23 | H47: 1 | I47: 839897.26 | J47: 5 | K47: 18423935 | L47: on track | M47: on track | N47: 43647 | O47: 45474 | P47: 1114125.5 | Q47: #VALUE!
A48: MAINE | B48: 497245980 | C48: 4.7089729e+08 | D48: 26348694 | E48: 11650838 | F48: 11808636 | G48: 2.23 | H48: 0.99 | I48: 970903.19 | J48: -1 | K48: NA | L48: NA | M48: NA | N48: 43831 | O48: 45292 | P48: 922058.07 | Q48: #VALUE!
A49: WISCONSIN | B49: 1082941284 | C49: 1.0233293e+09 | D49: 59611979 | E49: 31298555 | F49: 27168342 | G49: 2.19 | H49: 1.15 | I49: 2608212.9 | J49: 2 | K49: 54395553 | L49: 2637647.3 | M49: on track | N49: 43922 | O49: 45383 | P49: 2837977.5 | Q49: #VALUE!
A50: UTAH | B50: 238203233 | C50: 2.271765e+08 | D50: 11026733 | E50: 5811347.1 | F50: 5501208 | G50: 2 | H50: 1.06 | I50: 484278.92 | J50: 5 | K50: 8605337.9 | L50: on track | M50: on track | N50: 43647 | O50: 45474 | P50: 411481.69 | Q50: #VALUE!
A51: ALABAMA | B51: 1.0624162e+09 | C51: 1.0219495e+09 | D51: 40466767 | E51: 22500782 | F51: 23271036 | G51: 1.74 | H51: 0.97 | I51: 1875065.1 | J51: 2 | K51: 36716637 | L51: on track | M51: on track | N51: 43556 | O51: 45383 | P51: 1890599.4 | Q51: #VALUE!
A52: DELAWARE | B52: 72717998 | C52: 71418185 | D52: 1299813 | E52: 2483098.8 | F52: 2684959 | G52: 0.48 | H52: 0.92 | I52: 206924.9 | J52: 5 | K52: 265188.54 | L52: on track | M52: on track | N52: 43647 | O52: 45474 | P52: 300414.03 | Q52: #VALUE!
A53: TOTALS: | B53: 4.2891608e+10 | C53: 3.9510054e+10 | D53: 3.3815534e+09 | E53: 9.2387397e+08 | F53: 984981185 | G53: 3.43 | H53: 0.94 | I53: 76989498 | P53: 70821788
D56: Number of states with unexpended balance greater than 2.5: | G56: 40
D57: Number of states with expenditure rate less than 1: | H57: 32

Sheet Dec'24
A1: Run Date: 12/31/2024 As of: 12/31/2024 | B1: 12/31/2024
A2: State Name | B2: Amount Of Open Grants | C2: Total Expended from Open Grants | D2: Total Unexpended from Open Grants | E2: Amount Expended Last 12 Months | F2: Most Recent Grant Amount | G2: Ratio Unexpended To Grant | H2: Ratio Expended Last 12 Months to Grant | I2: Avg monthly expenditure last 12 mos | J2: Months remaining to goal | K2: Projected bal 60 days before end of PY | L2: Monthly spending to reach 2x goal | M2: Monthly spending to reach 2.5x goal | N2: PY Start | O2: Current Pgm Yr start | P2: latest month's expenditure | Q2: Most Recent Grant Appeared in LOCCS
A3: FLORIDA | B3: 1.1399759e+09 | C3: 9.8303484e+08 | D3: 1.5694109e+08 | E3: 12157403 | F3: 24778539 | G3: 6.33 | H3: 0.49 | I3: 1013116.9 | J3: 4 | K3: 1.5288863e+08 | L3: 26846004 | M3: 23748687 | N3: 43647 | O3: 45474 | P3: 1077873.8 | Q3: #VALUE!
A4: NORTH CAROLINA | B4: 1.7885959e+09 | C4: 1.5296791e+09 | D4: 2.5891676e+08 | E4: 32440780 | F4: 46272979 | G4: 5.6 | H4: 0.7 | I4: 2703398.3 | J4: -2 | K4: NA | L4: NA | M4: NA | N4: 43831 | O4: 45292 | P4: 2086279.5 | Q4: #VALUE!
A5: WEST VIRGINIA | B5: 7.0869638e+08 | C5: 6.3131451e+08 | D5: 77381875 | E5: 11546517 | F5: 13833071 | G5: 5.59 | H5: 0.83 | I5: 962209.73 | J5: 4 | K5: 73533036 | L5: 12428933 | M5: 10699799 | N5: 43647 | O5: 45474 | P5: 562563.17 | Q5: #VALUE!
A6: MICHIGAN | B6: 1.4692429e+09 | C6: 1.293453e+09 | D6: 1.7578983e+08 | E6: 22190418 | F6: 33073641 | G6: 5.32 | H6: 0.67 | I6: 1849201.5 | J6: 4 | K6: 1.6839302e+08 | L6: 27410637 | M6: 23276431 | N6: 43647 | O6: 45474 | P6: 638774.58 | Q6: #VALUE!
A7: ILLINOIS | B7: 1.3362735e+09 | C7: 1.1842813e+09 | D7: 1.5199221e+08 | E7: 16622442 | F7: 29074134 | G7: 5.23 | H7: 0.57 | I7: 1385203.5 | J7: -2 | K7: NA | L7: NA | M7: NA | N7: 43831 | O7: 45292 | P7: 3073090.6 | Q7: #VALUE!
A8: RHODE ISLAND | B8: 2.031847e+08 | C8: 1.7588959e+08 | D8: 27295105 | E8: 3608194.3 | F8: 5655134 | G8: 4.83 | H8: 0.64 | I8: 300682.86 | J8: 4 | K8: 26092373 | L8: 3996209.2 | M8: 3289317.5 | N8: 43647 | O8: 45474 | P8: 59160.64 | Q8: #VALUE!
A9: WYOMING | B9: 1.2089976e+08 | C9: 1.0437572e+08 | D9: 16524036 | E9: 1721907.1 | F9: 3521015 | G9: 4.69 | H9: 0.49 | I9: 143492.26 | J9: -2 | K9: NA | L9: NA | M9: NA | N9: 43831 | O9: 45292 | P9: 51250.44 | Q9: #VALUE!
A10: NEW MEXICO | B10: 493558716 | C10: 4.4411081e+08 | D10: 49447907 | E10: 6911370.1 | F10: 11038481 | G10: 4.48 | H10: 0.63 | I10: 575947.51 | J10: -2 | K10: NA | L10: NA | M10: NA | N10: 43831 | O10: 45292 | P10: 359340.67 | Q10: #VALUE!
A11: MONTANA | B11: 265120500 | C11: 2.3757086e+08 | D11: 27549644 | E11: 7241054.5 | F11: 6172506 | G11: 4.46 | H11: 1.17 | I11: 603421.21 | J11: 1 | K11: 26946223 | L11: 15204632 | M11: 12118379 | N11: 43922 | O11: 45383 | P11: 760466.6 | Q11: #VALUE!
A12: NORTH DAKOTA | B12: 187480557 | C12: 1.7236038e+08 | D12: 15120175 | E12: 2357646 | F12: 3515583 | G12: 4.3 | H12: 0.67 | I12: 196470.5 | J12: 4 | K12: 14334293 | L12: 2022252.2 | M12: 1582804.3 | N12: 43647 | O12: 45474 | P12: 570300.83 | Q12: #VALUE!
A13: PUERTO RICO | B13: 1945106991 | C13: 1.8507766e+09 | D13: 94330416 | E13: 20953922 | F13: 22131554 | G13: 4.26 | H13: 0.95 | I13: 1746160.2 | J13: 4 | K13: 87345775 | L13: 12516827 | M13: 9750382.7 | N13: 43647 | O13: 45474 | P13: 1546477.1 | Q13: #VALUE!
A14: MINNESOTA | B14: 853256279 | C14: 7.7379098e+08 | D14: 79465300 | E14: 18598805 | F14: 18836467 | G14: 4.22 | H14: 0.99 | I14: 1549900.4 | J14: 7 | K14: 68615997 | L14: 5970338 | M14: 4624876.1 | N14: 43739 | O14: 45566 | P14: 1704650.7 | Q14: #VALUE!
A15: KENTUCKY | B15: 1.1681423e+09 | C15: 1.0589485e+09 | D15: 1.0919375e+08 | E15: 21317796 | F15: 26355588 | G15: 4.14 | H15: 0.81 | I15: 1776483 | J15: 4 | K15: 1.0208782e+08 | L15: 14120644 | M15: 10826195 | N15: 43647 | O15: 45474 | P15: 1403294 | Q15: #VALUE!
A16: NEW JERSEY | B16: 3.0055106e+08 | C16: 2.7291787e+08 | D16: 27633196 | E16: 7084809.2 | F16: 6730317 | G16: 4.11 | H16: 1.05 | I16: 590400.77 | J16: 4 | K16: 25271593 | L16: 3543140.6 | M16: 2701850.9 | N16: 43647 | O16: 45474 | P16: 0 | Q16: #VALUE!
A17: CALIFORNIA | B17: 1.4384287e+09 | C17: 1.3159346e+09 | D17: 1.2249416e+08 | E17: 24089054 | F17: 30065955 | G17: 4.07 | H17: 0.8 | I17: 2007421.1 | J17: 4 | K17: 1.1446447e+08 | L17: 15590562 | M17: 11832317 | N17: 43647 | O17: 45474 | P17: 5916321 | Q17: #VALUE!
A18: SOUTH CAROLINA | B18: 1.0224308e+09 | C18: 9.434945e+08 | D18: 78936290 | E18: 25779463 | F18: 19809810 | G18: 3.98 | H18: 1.3 | I18: 2148288.6 | J18: 1 | K18: 76788002 | L18: 39316670 | M18: 29411765 | N18: 43922 | O18: 45383 | P18: 2220838.4 | Q18: #VALUE!
A19: VIRGINIA | B19: 794219275 | C19: 7.1809058e+08 | D19: 76128699 | E19: 14400498 | F19: 19107637 | G19: 3.98 | H19: 0.75 | I19: 1200041.5 | J19: 4 | K19: 71328533 | L19: 9478356.2 | M19: 7089901.6 | N19: 43647 | O19: 45474 | P19: 1312175.2 | Q19: #VALUE!
A20: NEBRASKA | B20: 5.0056523e+08 | C20: 4.6033178e+08 | D20: 40233452 | E20: 7662908.3 | F20: 10539100 | G20: 3.82 | H20: 0.73 | I20: 638575.69 | J20: 4 | K20: 37679149 | L20: 4788813 | M20: 3471425.5 | N20: 43647 | O20: 45474 | P20: 330439.22 | Q20: #VALUE!
A21: SOUTH DAKOTA | B21: 254239457 | C21: 2.3376886e+08 | D21: 20470593 | E21: 5394428.2 | F21: 5680880 | G21: 3.6 | H21: 0.95 | I21: 449535.68 | J21: -2 | K21: NA | L21: NA | M21: NA | N21: 43831 | O21: 45292 | P21: 1006242.3 | Q21: #VALUE!
A22: COLORADO | B22: 3.9263422e+08 | C22: 3.5935177e+08 | D22: 33282450 | E22: 11876754 | F22: 9305817 | G22: 3.58 | H22: 1.28 | I22: 989729.49 | J22: 1 | K22: 32292720 | L22: 14670816 | M22: 10017907 | N22: 43556 | O22: 45383 | P22: 2396000 | Q22: #VALUE!
A23: ALASKA | B23: 104394118 | C23: 95077626 | D23: 9316492.2 | E23: 2733257 | F23: 2677355 | G23: 3.48 | H23: 1.02 | I23: 227771.42 | J23: 4 | K23: 8405406.5 | L23: 990445.55 | M23: 655776.18 | N23: 43647 | O23: 45474 | P23: 258941.86 | Q23: #VALUE!
A24: MARYLAND | B24: 3.1444639e+08 | C24: 2.8618365e+08 | D24: 28262736 | E24: 6913202.8 | F24: 8369791 | G24: 3.38 | H24: 0.83 | I24: 576100.23 | J24: 4 | K24: 25958335 | L24: 2880788.4 | M24: 1834564.5 | N24: 43647 | O24: 45474 | P24: 618771.1 | Q24: #VALUE!
A25: PENNSYLVANIA | B25: 2.0010648e+09 | C25: 1.8664788e+09 | D25: 1.3458604e+08 | E25: 38374732 | F25: 40779947 | G25: 3.3 | H25: 0.94 | I25: 3197894.4 | J25: -2 | K25: NA | L25: NA | M25: NA | N25: 43831 | O25: 45292 | P25: 3691790 | Q25: #VALUE!
A26: IOWA | B26: 1059732308 | C26: 9.8076802e+08 | D26: 78964292 | E26: 15970820 | F26: 24168777 | G26: 3.27 | H26: 0.66 | I26: 1330901.7 | J26: -2 | K26: NA | L26: NA | M26: NA | N26: 43831 | O26: 45292 | P26: 1751273.9 | Q26: #VALUE!
A27: GEORGIA | B27: 1.6422976e+09 | C27: 1.5114132e+09 | D27: 1.3088435e+08 | E27: 37641437 | F27: 40984884 | G27: 3.19 | H27: 0.92 | I27: 3136786.4 | J27: 4 | K27: 1.183372e+08 | L27: 12228645 | M27: 7105534.6 | N27: 43647 | O27: 45474 | P27: 2802355.3 | Q27: #VALUE!
A28: NEW YORK | B28: 1.2287777e+09 | C28: 1.0772793e+09 | D28: 1.5149836e+08 | E28: 62360130 | F28: 47456120 | G28: 3.19 | H28: 1.31 | I28: 5196677.5 | J28: -2 | K28: NA | L28: NA | M28: NA | N28: 43831 | O28: 45292 | P28: 4186070.8 | Q28: #VALUE!
A29: CONNECTICUT | B29: 5.2832884e+08 | C29: 4.8501836e+08 | D29: 43310479 | E29: 16537762 | F29: 13880022 | G29: 3.12 | H29: 1.19 | I29: 1378146.9 | J29: 4 | K29: 37797891 | L29: 3887608.7 | M29: 2152606 | N29: 43647 | O29: 45474 | P29: 2874770.6 | Q29: #VALUE!
A30: ARKANSAS | B30: 7.8298357e+08 | C30: 7.2927072e+08 | D30: 53712848 | E30: 18878315 | F30: 17807834 | G30: 3.02 | H30: 1.06 | I30: 1573192.9 | J30: 4 | K30: 47420077 | L30: 4524295 | M30: 2298315.8 | N30: 43647 | O30: 45474 | P30: 1319975.9 | Q30: #VALUE!
A31: KANSAS | B31: 675052951 | C31: 6.304997e+08 | D31: 44553254 | E31: 11552281 | F31: 14786581 | G31: 3.01 | H31: 0.78 | I31: 962690.04 | J31: -2 | K31: NA | L31: NA | M31: NA | N31: 43466 | O31: 45292 | P31: 799933.11 | Q31: #VALUE!
A32: TENNESSEE | B32: 1154905413 | C32: 1.0743509e+09 | D32: 80554467 | E32: 26117963 | F32: 27571438 | G32: 2.92 | H32: 0.95 | I32: 2176496.9 | J32: 4 | K32: 71848479 | L32: 6352897.7 | M32: 2906468 | N32: 43647 | O32: 45474 | P32: 2662149.9 | Q32: #VALUE!
A33: TEXAS | B33: 2.8793131e+09 | C33: 2.6790777e+09 | D33: 2.0023543e+08 | E33: 75793836 | F33: 70613641 | G33: 2.84 | H33: 1.07 | I33: 6316153 | J33: 6 | K33: 1.6233852e+08 | L33: 9834692.1 | M33: on track | N33: 44075 | O33: 45536 | P33: 6813594.9 | Q33: #VALUE!
A34: OREGON | B34: 5.4540968e+08 | C34: 5.1277223e+08 | D34: 32637454 | E34: 16089319 | F34: 11656242 | G34: 2.8 | H34: 1.38 | I34: 1340776.6 | J34: -2 | K34: NA | L34: NA | M34: NA | N34: 43831 | O34: 45292 | P34: 250068 | Q34: #VALUE!
A35: WASHINGTON | B35: 522049097 | C35: 4.8625048e+08 | D35: 35798613 | E35: 15471134 | F35: 13105608 | G35: 2.73 | H35: 1.18 | I35: 1289261.1 | J35: 4 | K35: 30641569 | L35: 2396849.3 | M35: on track | N35: 43647 | O35: 45474 | P35: 1089928.1 | Q35: #VALUE!
A36: MASSACHUSETTS | B36: 1.394383e+09 | C36: 1.2995877e+09 | D36: 94795286 | E36: 35342722 | F36: 34869850 | G36: 2.72 | H36: 1.01 | I36: 2945226.8 | J36: 1 | K36: 91850059 | L36: 25055586 | M36: 7620661.2 | N36: 43922 | O36: 45383 | P36: 4063026 | Q36: #VALUE!
A37: NEW HAMPSHIRE | B37: 346058940 | C37: 3.2059016e+08 | D37: 25468781 | E37: 5236865.9 | F37: 9353201 | G37: 2.72 | H37: 0.56 | I37: 436405.49 | J37: -2 | K37: NA | L37: NA | M37: NA | N37: 43831 | O37: 45292 | P37: 624051.34 | Q37: #VALUE!
A38: VERMONT | B38: 277600986 | C38: 2.5774554e+08 | D38: 19855446 | E38: 7266567.6 | F38: 7461397 | G38: 2.66 | H38: 0.97 | I38: 605547.3 | J38: 4 | K38: 17433257 | L38: 1233163.1 | M38: on track | N38: 43647 | O38: 45474 | P38: 320422 | Q38: #VALUE!
A39: LOUISIANA | B39: 1205115490 | C39: 1.1461152e+09 | D39: 59000262 | E39: 23563682 | F39: 22499042 | G39: 2.62 | H39: 1.05 | I39: 1963640.2 | J39: 1 | K39: 57036622 | L39: 14002178 | M39: 2752657.3 | N39: 43922 | O39: 45383 | P39: 2618408.4 | Q39: #VALUE!
A40: INDIANA | B40: 1.3097388e+09 | C40: 1.22968e+09 | D40: 80058792 | E40: 24041015 | F40: 30738746 | G40: 2.6 | H40: 0.78 | I40: 2003417.9 | J40: 4 | K40: 72045120 | L40: 4645325 | M40: on track | N40: 43647 | O40: 45474 | P40: 2413513.8 | Q40: #VALUE!
A41: MISSOURI | B41: 987264872 | C41: 9.2745309e+08 | D41: 59811779 | E41: 34963414 | F41: 23383549 | G41: 2.56 | H41: 1.5 | I41: 2913617.9 | J41: 1 | K41: 56898161 | L41: 13044681 | M41: on track | N41: 43922 | O41: 45383 | P41: 2972202.6 | Q41: #VALUE!
A42: IDAHO | B42: 3.4288781e+08 | C42: 3.2195268e+08 | D42: 20935130 | E42: 7883809.1 | F42: 8236180 | G42: 2.54 | H42: 0.96 | I42: 656984.09 | J42: 1 | K42: 20278146 | L42: 4462770 | M42: on track | N42: 43556 | O42: 45383 | P42: 1434187.5 | Q42: #VALUE!
A43: NEVADA | B43: 98701064 | C43: 91612522 | D43: 7088542.3 | E43: 4427190.3 | F43: 2898567 | G43: 2.45 | H43: 1.53 | I43: 368932.53 | J43: 4 | K43: 5612812.2 | L43: on track | M43: on track | N43: 43647 | O43: 45474 | P43: 344499.77 | Q43: #VALUE!
A44: OKLAHOMA | B44: 6.8538868e+08 | C44: 6.5314529e+08 | D44: 32243383 | E44: 14724080 | F44: 13963452 | G44: 2.31 | H44: 1.05 | I44: 1227006.7 | J44: 1 | K44: 31016376 | L44: 4316478.9 | M44: on track | N44: 43922 | O44: 45383 | P44: 1498870.5 | Q44: #VALUE!
A45: OHIO | B45: 1.9401106e+09 | C45: 1.8400335e+09 | D45: 1.0007707e+08 | E45: 40585873 | F45: 45492764 | G45: 2.2 | H45: 0.89 | I45: 3382156.1 | J45: 4 | K45: 86548446 | L45: on track | M45: on track | N45: 43647 | O45: 45474 | P45: 4520388.3 | Q45: #VALUE!
A46: MISSISSIPPI | B46: 1.2153834e+09 | C46: 1.1624526e+09 | D46: 52930778 | E46: 18677428 | F46: 24335266 | G46: 2.18 | H46: 0.77 | I46: 1556452.4 | J46: 4 | K46: 46704969 | L46: on track | M46: on track | N46: 43647 | O46: 45474 | P46: 2533520.8 | Q46: #VALUE!
A47: MAINE | B47: 497245980 | C47: 4.7164386e+08 | D47: 25602123 | E47: 11051741 | F47: 11808636 | G47: 2.17 | H47: 0.94 | I47: 920978.44 | J47: -2 | K47: NA | L47: NA | M47: NA | N47: 43831 | O47: 45292 | P47: 746571.42 | Q47: #VALUE!
A48: ARIZONA | B48: 389160034 | C48: 3.672634e+08 | D48: 21896637 | E48: 9735579.5 | F48: 10126728 | G48: 2.16 | H48: 0.96 | I48: 811298.29 | J48: 4 | K48: 18651444 | L48: on track | M48: on track | N48: 43647 | O48: 45474 | P48: 726783.61 | Q48: #VALUE!
A49: WISCONSIN | B49: 1082941284 | C49: 1.0248398e+09 | D49: 58101495 | E49: 27020741 | F49: 27168342 | G49: 2.14 | H49: 0.99 | I49: 2251728.4 | J49: 1 | K49: 55849766 | L49: 3764810.5 | M49: on track | N49: 43922 | O49: 45383 | P49: 1510484.1 | Q49: #VALUE!
A50: UTAH | B50: 238203233 | C50: 2.2797772e+08 | D50: 10225513 | E50: 6612566.7 | F50: 5501208 | G50: 1.86 | H50: 1.2 | I50: 551047.23 | J50: 4 | K50: 8021324 | L50: on track | M50: on track | N50: 43647 | O50: 45474 | P50: 801219.64 | Q50: #VALUE!
A51: ALABAMA | B51: 1.0624162e+09 | C51: 1.0237598e+09 | D51: 38656427 | E51: 21481994 | F51: 23271036 | G51: 1.66 | H51: 0.92 | I51: 1790166.1 | J51: 1 | K51: 36866260 | L51: on track | M51: on track | N51: 43556 | O51: 45383 | P51: 1810340.8 | Q51: #VALUE!
A52: DELAWARE | B52: 75470621 | C52: 71502347 | D52: 3968273.5 | E52: 2527328.8 | F52: 2752623 | G52: 1.44 | H52: 0.92 | I52: 210610.73 | J52: 4 | K52: 3125830.6 | L52: on track | M52: on track | N52: 43647 | O52: 45474 | P52: 84162.48 | Q52: #VALUE!
A53: TOTALS: | B53: 4.296943e+10 | C53: 3.9595272e+10 | D53: 3.3741575e+09 | E53: 9.1353296e+08 | F53: 983217035 | G53: 3.43 | H53: 0.93 | I53: 76127746 | P53: 85217815
D56: Number of states with unexpended balance greater than 2.5: | G56: 40
D57: Number of states with expenditure rate less than 1: | H57: 33

Sheet Jan'25
A1: Run Date: 01/31/2025 As of: 01/31/2025 | B1: 01/31/2025
A2: State Name | B2: Amount Of Open Grants | C2: Total Expended from Open Grants | D2: Total Unexpended from Open Grants | E2: Amount Expended Last 12 Months | F2: Most Recent Grant Amount | G2: Ratio Unexpended To Grant | H2: Ratio Expended Last 12 Months to Grant | I2: Avg monthly expenditure last 12 mos | J2: Months remaining to goal | K2: Projected bal 60 days before end of PY | L2: Monthly spending to reach 2x goal | M2: Monthly spending to reach 2.5x goal | N2: PY Start | O2: Current Pgm Yr start | P2: latest month's expenditure | Q2: Most Recent Grant Appeared in LOCCS
A3: FLORIDA | B3: 1.1399759e+09 | C3: 9.8394322e+08 | D3: 1.5603271e+08 | E3: 12550788 | F3: 24778539 | G3: 6.3 | H3: 0.51 | I3: 1045899 | J3: 3 | K3: 1.5289502e+08 | L3: 35491879 | M3: 31362122 | N3: 43647 | O3: 45474 | P3: 908378.79 | Q3: #VALUE!
A4: NORTH CAROLINA | B4: 1.7885959e+09 | C4: 1.5339913e+09 | D4: 2.5460458e+08 | E4: 36177712 | F4: 46272979 | G4: 5.5 | H4: 0.78 | I4: 3014809.3 | J4: 9 | K4: 2.274713e+08 | L4: 18006514 | M4: 15435793 | N4: 43831 | O4: 45658 | P4: 4312173.6 | Q4: #VALUE!
A5: WEST VIRGINIA | B5: 7.0869638e+08 | C5: 6.3263413e+08 | D5: 76062255 | E5: 12776851 | F5: 13833071 | G5: 5.5 | H5: 0.92 | I5: 1064737.6 | J5: 3 | K5: 72868043 | L5: 16132038 | M5: 13826526 | N5: 43647 | O5: 45474 | P5: 1319619.8 | Q5: #VALUE!
A6: MICHIGAN | B6: 1.4692429e+09 | C6: 1.2949838e+09 | D6: 1.7425912e+08 | E6: 22897368 | F6: 33073641 | G6: 5.27 | H6: 0.69 | I6: 1908114 | J6: 3 | K6: 1.6853477e+08 | L6: 36037278 | M6: 30525004 | N6: 43647 | O6: 45474 | P6: 1530712.1 | Q6: #VALUE!
A7: ILLINOIS | B7: 1.3362735e+09 | C7: 1.1866492e+09 | D7: 1.4962428e+08 | E7: 17653909 | F7: 29074134 | G7: 5.15 | H7: 0.61 | I7: 1471159.1 | J7: 9 | K7: 1.3638385e+08 | L7: 10164001 | M7: 8548771.4 | N7: 43831 | O7: 45658 | P7: 2367929.2 | Q7: #VALUE!
A8: WYOMING | B8: 1.2089976e+08 | C8: 1.0439487e+08 | D8: 16504890 | E8: 1734856.3 | F8: 3521015 | G8: 4.69 | H8: 0.49 | I8: 144571.36 | J8: 9 | K8: 15203748 | L8: 1051428.9 | M8: 855816.98 | N8: 43831 | O8: 45658 | P8: 19146.12 | Q8: #VALUE!
A9: NEW MEXICO | B9: 493558716 | C9: 4.457378e+08 | D9: 47820912 | E9: 7447571.6 | F9: 11038481 | G9: 4.33 | H9: 0.67 | I9: 620630.96 | J9: 9 | K9: 42235234 | L9: 2860438.9 | M9: 2247190 | N9: 43831 | O9: 45658 | P9: 1626994.6 | Q9: #VALUE!
A10: MONTANA | B10: 265120500 | C10: 2.39025e+08 | D10: 26095499 | E10: 8403165.1 | F10: 6172506 | G10: 4.23 | H10: 1.36 | I10: 700263.76 | J10: 0 | K10: 26095499 | L10: NA | M10: NA | N10: 43922 | O10: 45383 | P10: 1454145 | Q10: #VALUE!
A11: RHODE ISLAND | B11: 2.031847e+08 | C11: 1.7927226e+08 | D11: 23912438 | E11: 5819624.7 | F11: 5655134 | G11: 4.23 | H11: 1.03 | I11: 484968.73 | J11: 3 | K11: 22457532 | L11: 4200723.4 | M11: 3258201.1 | N11: 43647 | O11: 45474 | P11: 3382666.7 | Q11: #VALUE!
A12: PUERTO RICO | B12: 1945106991 | C12: 1.8518711e+09 | D12: 93235935 | E12: 20297039 | F12: 22131554 | G12: 4.21 | H12: 0.92 | I12: 1691419.9 | J12: 3 | K12: 88161676 | L12: 16324276 | M12: 12635683 | N12: 43647 | O12: 45474 | P12: 1094480.6 | Q12: #VALUE!
A13: NORTH DAKOTA | B13: 187480557 | C13: 1.7274247e+08 | D13: 14738084 | E13: 2644509.1 | F13: 3515583 | G13: 4.19 | H13: 0.75 | I13: 220375.76 | J13: 3 | K13: 14076957 | L13: 2568972.6 | M13: 1983042.1 | N13: 43647 | O13: 45474 | P13: 382090.83 | Q13: #VALUE!
A14: MINNESOTA | B14: 853256279 | C14: 7.7475594e+08 | D14: 78500338 | E14: 17887753 | F14: 18836467 | G14: 4.17 | H14: 0.95 | I14: 1490646.1 | J14: 6 | K14: 69556461 | L14: 6804567.3 | M14: 5234861.7 | N14: 43739 | O14: 45566 | P14: 964962.11 | Q14: #VALUE!
A15: KENTUCKY | B15: 1.1681423e+09 | C15: 1.0599188e+09 | D15: 1.0822351e+08 | E15: 20407921 | F15: 26355588 | G15: 4.11 | H15: 0.77 | I15: 1700660.1 | J15: 3 | K15: 1.0312153e+08 | L15: 18504112 | M15: 14111514 | N15: 43647 | O15: 45474 | P15: 970239.53 | Q15: #VALUE!
A16: CALIFORNIA | B16: 1.4384287e+09 | C16: 1.3170298e+09 | D16: 1.2139892e+08 | E16: 24030535 | F16: 30065955 | G16: 4.04 | H16: 0.8 | I16: 2002544.6 | J16: 3 | K16: 1.1539129e+08 | L16: 20422338 | M16: 15411345 | N16: 43647 | O16: 45474 | P16: 1095234 | Q16: #VALUE!
A17: ARKANSAS | B17: 8.0046432e+08 | C17: 7.3085378e+08 | D17: 69610546 | E17: 19414315 | F17: 17480755 | G17: 3.98 | H17: 1.11 | I17: 1617859.6 | J17: 3 | K17: 64756967 | L17: 11549679 | M17: 8636219.5 | N17: 43647 | O17: 45474 | P17: 1583057.3 | Q17: #VALUE!
A18: VIRGINIA | B18: 794219275 | C18: 7.1910634e+08 | D18: 75112933 | E18: 14651672 | F18: 19107637 | G18: 3.93 | H18: 0.77 | I18: 1220972.7 | J18: 3 | K18: 71450015 | L18: 12299220 | M18: 9114613.4 | N18: 43647 | O18: 45474 | P18: 1015766.1 | Q18: #VALUE!
A19: SOUTH CAROLINA | B19: 1.0224308e+09 | C19: 9.4592261e+08 | D19: 76508186 | E19: 26613520 | F19: 19809810 | G19: 3.86 | H19: 1.34 | I19: 2217793.4 | J19: 0 | K19: 76508186 | L19: NA | M19: NA | N19: 43922 | O19: 45383 | P19: 2428104 | Q19: #VALUE!
A20: NEBRASKA | B20: 5.0056523e+08 | C20: 4.6063477e+08 | D20: 39930457 | E20: 6940799.4 | F20: 10539100 | G20: 3.79 | H20: 0.66 | I20: 578399.95 | J20: 3 | K20: 38195257 | L20: 6284085.7 | M20: 4527569 | N20: 43647 | O20: 45474 | P20: 302995.04 | Q20: #VALUE!
A21: NEW JERSEY | B21: 3.0055106e+08 | C21: 2.7566058e+08 | D21: 24890484 | E21: 9827521.8 | F21: 6730317 | G21: 3.7 | H21: 1.46 | I21: 818960.15 | J21: 3 | K21: 22433603 | L21: 3809949.9 | M21: 2688230.4 | N21: 43647 | O21: 45474 | P21: 2742712.6 | Q21: #VALUE!
A22: MISSOURI | B22: 1010324720 | C22: 9.2872906e+08 | D22: 81595663 | E22: 31588884 | F22: 23059848 | G22: 3.54 | H22: 1.37 | I22: 2632407 | J22: 0 | K22: 81595663 | L22: NA | M22: NA | N22: 43922 | O22: 45383 | P22: 1275963.5 | Q22: #VALUE!
A23: ALASKA | B23: 104394118 | C23: 95118643 | D23: 9275474.8 | E23: 2193623 | F23: 2677355 | G23: 3.46 | H23: 0.82 | I23: 182801.92 | J23: 3 | K23: 8727069 | L23: 1306921.6 | M23: 860695.77 | N23: 43647 | O23: 45474 | P23: 41017.41 | Q23: #VALUE!
A24: SOUTH DAKOTA | B24: 254239457 | C24: 2.3510985e+08 | D24: 19129607 | E24: 6606225 | F24: 5680880 | G24: 3.37 | H24: 1.16 | I24: 550518.75 | J24: 9 | K24: 14174938 | L24: 863094.12 | M24: on track | N24: 43831 | O24: 45658 | P24: 1340985.9 | Q24: #VALUE!
A25: PENNSYLVANIA | B25: 2.0010648e+09 | C25: 1.8699513e+09 | D25: 1.3111355e+08 | E25: 38707310 | F25: 40779947 | G25: 3.22 | H25: 0.95 | I25: 3225609.2 | J25: 9 | K25: 1.0208307e+08 | L25: 5505961.8 | M25: 3240409.2 | N25: 43831 | O25: 45658 | P25: 3472485 | Q25: #VALUE!
A26: IOWA | B26: 1059732308 | C26: 9.8252369e+08 | D26: 77208616 | E26: 16659892 | F26: 24168777 | G26: 3.19 | H26: 0.69 | I26: 1388324.3 | J26: 9 | K26: 64713697 | L26: 3207895.7 | M26: 1865185.9 | N26: 43831 | O26: 45658 | P26: 1755676 | Q26: #VALUE!
A27: CONNECTICUT | B27: 5.2832884e+08 | C27: 4.8501836e+08 | D27: 43310479 | E27: 16537762 | F27: 13880022 | G27: 3.12 | H27: 1.19 | I27: 1378146.9 | J27: 3 | K27: 39176038 | L27: 5183478.3 | M27: 2870141.3 | N27: 43647 | O27: 45474 | P27: 0 | Q27: #VALUE!
A28: MISSISSIPPI | B28: 1.2394723e+09 | C28: 1.1645828e+09 | D28: 74889558 | E28: 20356558 | F28: 24088947 | G28: 3.11 | H28: 0.85 | I28: 1696379.9 | J28: 3 | K28: 69800418 | L28: 8903887.8 | M28: 4889063.3 | N28: 43647 | O28: 45474 | P28: 2130167.8 | Q28: #VALUE!
A29: GEORGIA | B29: 1.6422976e+09 | C29: 1.5152176e+09 | D29: 1.2707997e+08 | E29: 36808060 | F29: 40984884 | G29: 3.1 | H29: 0.9 | I29: 3067338.3 | J29: 3 | K29: 1.1787795e+08 | L29: 15036733 | M29: 8205919.5 | N29: 43647 | O29: 45474 | P29: 3804379.8 | Q29: #VALUE!
A30: NEW YORK | B30: 1.2287777e+09 | C30: 1.0814856e+09 | D30: 1.4729205e+08 | E30: 61678306 | F30: 47456120 | G30: 3.1 | H30: 1.3 | I30: 5139858.8 | J30: 9 | K30: 1.0103332e+08 | L30: 5819979.1 | M30: on track | N30: 43831 | O30: 45658 | P30: 4206304.5 | Q30: #VALUE!
A31: MARYLAND | B31: 3.1444639e+08 | C31: 2.8869006e+08 | D31: 25756328 | E31: 9199043.1 | F31: 8369791 | G31: 3.08 | H31: 1.1 | I31: 766586.92 | J31: 3 | K31: 23456567 | L31: 3005581.9 | M31: 1610616.7 | N31: 43647 | O31: 45474 | P31: 2506407.8 | Q31: #VALUE!
A32: COLORADO | B32: 3.9263422e+08 | C32: 3.6545555e+08 | D32: 27178664 | E32: 17950540 | F32: 9305817 | G32: 2.92 | H32: 1.93 | I32: 1495878.3 | J32: 0 | K32: 27178664 | L32: NA | M32: NA | N32: 43556 | O32: 45383 | P32: 6103785.9 | Q32: #VALUE!
A33: KANSAS | B33: 675052951 | C33: 6.322166e+08 | D33: 42836355 | E33: 11654970 | F33: 14786581 | G33: 2.9 | H33: 0.79 | I33: 971247.47 | J33: 9 | K33: 34095128 | L33: 1473688.1 | M33: on track | N33: 43466 | O33: 45658 | P33: 1716899.5 | Q33: #VALUE!
A34: TENNESSEE | B34: 1154905413 | C34: 1.0757811e+09 | D34: 79124316 | E34: 26014248 | F34: 27571438 | G34: 2.87 | H34: 0.94 | I34: 2167854 | J34: 3 | K34: 72620754 | L34: 7993813.2 | M34: 3398573.5 | N34: 43647 | O34: 45474 | P34: 1430151.3 | Q34: #VALUE!
A35: NEW HAMPSHIRE | B35: 346058940 | C35: 3.209948e+08 | D35: 25064143 | E35: 5177066.1 | F35: 9353201 | G35: 2.68 | H35: 0.55 | I35: 431422.17 | J35: 9 | K35: 21181343 | L35: 706415.63 | M35: on track | N35: 43831 | O35: 45658 | P35: 404638.23 | Q35: #VALUE!
A36: OREGON | B36: 5.4540968e+08 | C36: 5.1412324e+08 | D36: 31286441 | E36: 16200466 | F36: 11656242 | G36: 2.68 | H36: 1.39 | I36: 1350038.8 | J36: 9 | K36: 19136092 | L36: on track | M36: on track | N36: 43831 | O36: 45658 | P36: 1351013 | Q36: #VALUE!
A37: MASSACHUSETTS | B37: 1.394383e+09 | C37: 1.3019674e+09 | D37: 92415543 | E37: 34514845 | F37: 34869850 | G37: 2.65 | H37: 0.99 | I37: 2876237.1 | J37: 0 | K37: 92415543 | L37: NA | M37: NA | N37: 43922 | O37: 45383 | P37: 2379743.1 | Q37: #VALUE!
A38: TEXAS | B38: 2.8793131e+09 | C38: 2.6920095e+09 | D38: 1.8730361e+08 | E38: 82436699 | F38: 70613641 | G38: 2.65 | H38: 1.17 | I38: 6869724.9 | J38: 5 | K38: 1.5295498e+08 | L38: 9215265.2 | M38: on track | N38: 44075 | O38: 45536 | P38: 12931826 | Q38: #VALUE!
A39: WASHINGTON | B39: 522049097 | C39: 4.8741652e+08 | D39: 34632575 | E39: 15926522 | F39: 13105608 | G39: 2.64 | H39: 1.22 | I39: 1327210.2 | J39: 3 | K39: 30650945 | L39: 2807119.8 | M39: on track | N39: 43647 | O39: 45474 | P39: 1166037.8 | Q39: #VALUE!
A40: VERMONT | B40: 277600986 | C40: 2.5796022e+08 | D40: 19640762 | E40: 7363055.6 | F40: 7461397 | G40: 2.63 | H40: 0.99 | I40: 613587.96 | J40: 3 | K40: 17799999 | L40: 1572656.1 | M40: on track | N40: 43647 | O40: 45474 | P40: 214684 | Q40: #VALUE!
A41: ALABAMA | B41: 1.0852751e+09 | C41: 1.0254048e+09 | D41: 59870332 | E41: 20740337 | F41: 22858857 | G41: 2.62 | H41: 0.91 | I41: 1728361.4 | J41: 0 | K41: 59870332 | L41: NA | M41: NA | N41: 43556 | O41: 45383 | P41: 1644951.6 | Q41: #VALUE!
A42: INDIANA | B42: 1.3097388e+09 | C42: 1.2313126e+09 | D42: 78426205 | E42: 23399842 | F42: 30738746 | G42: 2.55 | H42: 0.76 | I42: 1949986.9 | J42: 3 | K42: 72576244 | L42: 5649571 | M42: on track | N42: 43647 | O42: 45474 | P42: 1632586.7 | Q42: #VALUE!
A43: LOUISIANA | B43: 1205115490 | C43: 1.1485074e+09 | D43: 56608097 | E43: 24517473 | F43: 22499042 | G43: 2.52 | H43: 1.09 | I43: 2043122.8 | J43: 0 | K43: 56608097 | L43: NA | M43: NA | N43: 43922 | O43: 45383 | P43: 2392165.8 | Q43: #VALUE!
A44: IDAHO | B44: 3.4288781e+08 | C44: 3.2287401e+08 | D44: 20013802 | E44: 8113068 | F44: 8236180 | G44: 2.43 | H44: 0.99 | I44: 676089 | J44: 0 | K44: 20013802 | L44: NA | M44: on track | N44: 43556 | O44: 45383 | P44: 921327.62 | Q44: #VALUE!
A45: NEVADA | B45: 98701064 | C45: 92333256 | D45: 6367808.2 | E45: 4977758.3 | F45: 2898567 | G45: 2.2 | H45: 1.72 | I45: 414813.2 | J45: 3 | K45: 5123368.6 | L45: on track | M45: on track | N45: 43647 | O45: 45474 | P45: 720734.11 | Q45: #VALUE!
A46: OKLAHOMA | B46: 6.8538868e+08 | C46: 6.5464903e+08 | D46: 30739647 | E46: 16319321 | F46: 13963452 | G46: 2.2 | H46: 1.17 | I46: 1359943.4 | J46: 0 | K46: 30739647 | L46: NA | M46: on track | N46: 43922 | O46: 45383 | P46: 1503735.6 | Q46: #VALUE!
A47: OHIO | B47: 1.9401106e+09 | C47: 1.8419637e+09 | D47: 98146912 | E47: 40908064 | F47: 45492764 | G47: 2.16 | H47: 0.9 | I47: 3409005.3 | J47: 3 | K47: 87919896 | L47: on track | M47: on track | N47: 43647 | O47: 45474 | P47: 1930158.6 | Q47: #VALUE!
A48: ARIZONA | B48: 389160034 | C48: 3.6771006e+08 | D48: 21449971 | E48: 9376774.3 | F48: 10126728 | G48: 2.12 | H48: 0.93 | I48: 781397.86 | J48: 3 | K48: 19105777 | L48: on track | M48: on track | N48: 43647 | O48: 45474 | P48: 446666.52 | Q48: #VALUE!
A49: MAINE | B49: 497245980 | C49: 4.7408145e+08 | D49: 23164530 | E49: 13281730 | F49: 11808636 | G49: 1.96 | H49: 1.12 | I49: 1106810.8 | J49: 9 | K49: 13203232 | L49: on track | M49: on track | N49: 43831 | O49: 45658 | P49: 2437593 | Q49: #VALUE!
A50: WISCONSIN | B50: 1082941284 | C50: 1.0301254e+09 | D50: 52815876 | E50: 29691192 | F50: 27168342 | G50: 1.94 | H50: 1.09 | I50: 2474266 | J50: 0 | K50: 52815876 | L50: on track | M50: on track | N50: 43922 | O50: 45383 | P50: 5285618.4 | Q50: #VALUE!
A51: UTAH | B51: 238203233 | C51: 2.2812608e+08 | D51: 10077156 | E51: 4844119.2 | F51: 5501208 | G51: 1.83 | H51: 0.88 | I51: 403676.6 | J51: 3 | K51: 8866126.2 | L51: on track | M51: on track | N51: 43647 | O51: 45474 | P51: 148356.92 | Q51: #VALUE!
A52: DELAWARE | B52: 75470621 | C52: 71751986 | D52: 3718635 | E52: 2691886.4 | F52: 2752623 | G52: 1.35 | H52: 0.98 | I52: 224323.87 | J52: 3 | K52: 3045663.4 | L52: on track | M52: on track | N52: 43647 | O52: 45474 | P52: 249638.51 | Q52: #VALUE!
A53: TOTALS: | B53: 4.3056918e+10 | C53: 3.9692319e+10 | D53: 3.3645988e+09 | E53: 9.4461307e+08 | F53: 981907757 | G53: 3.43 | H53: 0.96 | I53: 78717756 | P53: 97047108
D56: Number of states with unexpended balance greater than 2.5: | G56: 41
D57: Number of states with expenditure rate less than 1: | H57: 31

Sheet Feb'25
A1: Run Date: 02/28/2025 As of: 02/28/2025 | B1: 02/28/2025
A2: State Name | B2: Amount Of Open Grants | C2: Total Expended from Open Grants | D2: Total Unexpended from Open Grants | E2: Amount Expended Last 12 Months | F2: Most Recent Grant Amount | G2: Ratio Unexpended To Grant | H2: Ratio Expended Last 12 Months to Grant | I2: Avg monthly expenditure last 12 mos | J2: Months remaining to goal | K2: Projected bal 60 days before end of PY | L2: Monthly spending to reach 2x goal | M2: Monthly spending to reach 2.5x goal | N2: PY Start | O2: Current Pgm Yr start | P2: latest month's expenditure | Q2: Most Recent Grant Appeared in LOCCS
A3: FLORIDA | B3: 1.1399759e+09 | C3: 9.8507826e+08 | D3: 1.5489767e+08 | E3: 13352802 | F3: 24778539 | G3: 6.25 | H3: 0.54 | I3: 1112733.5 | J3: 2 | K3: 1.5267221e+08 | L3: 52670298 | M3: 46475663 | N3: 43647 | O3: 45474 | P3: 1135041.2 | Q3: #VALUE!
A4: WEST VIRGINIA | B4: 7.0869638e+08 | C4: 6.3280978e+08 | D4: 75886603 | E4: 11810594 | F4: 13833071 | G4: 5.49 | H4: 0.85 | I4: 984216.21 | J4: 2 | K4: 73918171 | L4: 24110231 | M4: 20651963 | N4: 43647 | O4: 45474 | P4: 175652.13 | Q4: #VALUE!
A5: NORTH CAROLINA | B5: 1.7885959e+09 | C5: 1.5361087e+09 | D5: 2.5248715e+08 | E5: 35700151 | F5: 46272979 | G5: 5.46 | H5: 0.77 | I5: 2975012.6 | J5: 8 | K5: 2.2868705e+08 | L5: 19992649 | M5: 17100587 | N5: 43831 | O5: 45658 | P5: 2117437.4 | Q5: #VALUE!
A6: MICHIGAN | B6: 1.4692429e+09 | C6: 1.2955397e+09 | D6: 173703193 | E6: 18117853 | F6: 33073641 | G6: 5.25 | H6: 0.55 | I6: 1509821.1 | J6: 2 | K6: 1.7068355e+08 | L6: 53777956 | M6: 45509545 | N6: 43647 | O6: 45474 | P6: 555922.87 | Q6: #VALUE!
A7: ILLINOIS | B7: 1.3362735e+09 | C7: 1.1887091e+09 | D7: 1.475644e+08 | E7: 18706923 | F7: 29074134 | G7: 5.08 | H7: 0.64 | I7: 1558910.3 | J7: 8 | K7: 1.3509312e+08 | L7: 11177016 | M7: 9359883.1 | N7: 43831 | O7: 45658 | P7: 2059878 | Q7: #VALUE!
A8: WYOMING | B8: 1.2089976e+08 | C8: 1.0442023e+08 | D8: 16479530 | E8: 1752823.2 | F8: 3521015 | G8: 4.68 | H8: 0.5 | I8: 146068.6 | J8: 8 | K8: 15310981 | L8: 1179687.5 | M8: 959624.06 | N8: 43831 | O8: 45658 | P8: 25360.32 | Q8: #VALUE!
A9: NEW MEXICO | B9: 493558716 | C9: 4.457378e+08 | D9: 47820912 | E9: 6955540 | F9: 11038481 | G9: 4.33 | H9: 0.63 | I9: 579628.33 | J9: 8 | K9: 43183886 | L9: 3217993.8 | M9: 2528088.7 | N9: 43831 | O9: 45658 | P9: 0 | Q9: #VALUE!
A10: MINNESOTA | B10: 853256279 | C10: 7.7476048e+08 | D10: 78495798 | E10: 17940835 | F10: 18836467 | G10: 4.17 | H10: 0.95 | I10: 1495069.6 | J10: 5 | K10: 71020450 | L10: 8164572.9 | M10: 6280926.2 | N10: 43739 | O10: 45566 | P10: 4539.48 | Q10: #VALUE!
A11: MONTANA | B11: 265120500 | C11: 2.3946629e+08 | D11: 25654210 | E11: 8415397.7 | F11: 6172506 | G11: 4.16 | H11: 1.36 | I11: 701283.14 | J11: 0 | K11: 25654210 | L11: NA | M11: NA | N11: 43922 | O11: 45383 | P11: 441289.27 | Q11: #VALUE!
A12: RHODE ISLAND | B12: 2.031847e+08 | C12: 1.7965526e+08 | D12: 23529435 | E12: 6298022.6 | F12: 5655134 | G12: 4.16 | H12: 1.11 | I12: 524835.22 | J12: 2 | K12: 22479765 | L12: 6109583.5 | M12: 4695800 | N12: 43647 | O12: 45474 | P12: 383003.13 | Q12: #VALUE!
A13: PUERTO RICO | B13: 1945106991 | C13: 1.8535726e+09 | D13: 91534437 | E13: 21724266 | F13: 22131554 | G13: 4.14 | H13: 0.98 | I13: 1810355.5 | J13: 2 | K13: 87913726 | L13: 23635665 | M13: 18102776 | N13: 43647 | O13: 45474 | P13: 1701498.1 | Q13: #VALUE!
A14: NORTH DAKOTA | B14: 187480557 | C14: 1.7324424e+08 | D14: 14236319 | E14: 2906394.3 | F14: 3515583 | G14: 4.05 | H14: 0.83 | I14: 242199.52 | J14: 2 | K14: 13751920 | L14: 3602576.3 | M14: 2723680.5 | N14: 43647 | O14: 45474 | P14: 501765.35 | Q14: #VALUE!
A15: KENTUCKY | B15: 1.1681423e+09 | C15: 1.0622e+09 | D15: 1.0594229e+08 | E15: 19650400 | F15: 26355588 | G15: 4.02 | H15: 0.75 | I15: 1637533.3 | J15: 2 | K15: 1.0266722e+08 | L15: 26615555 | M15: 20026658 | N15: 43647 | O15: 45474 | P15: 2281225 | Q15: #VALUE!
A16: CALIFORNIA | B16: 1.4384287e+09 | C16: 1.3190028e+09 | D16: 1.1942597e+08 | E16: 25078653 | F16: 30065955 | G16: 3.97 | H16: 0.83 | I16: 2089887.8 | J16: 2 | K16: 1.1524619e+08 | L16: 29647028 | M16: 22130540 | N16: 43647 | O16: 45474 | P16: 1972955.7 | Q16: #VALUE!
A17: ARKANSAS | B17: 8.0046432e+08 | C17: 7.3199651e+08 | D17: 68467812 | E17: 19580684 | F17: 17480755 | G17: 3.92 | H17: 1.12 | I17: 1631723.7 | J17: 2 | K17: 65204365 | L17: 16753151 | M17: 12382962 | N17: 43647 | O17: 45474 | P17: 1142733.8 | Q17: #VALUE!
A18: VIRGINIA | B18: 794219275 | C18: 7.2003182e+08 | D18: 74187456 | E18: 14606987 | F18: 19107637 | G18: 3.88 | H18: 0.76 | I18: 1217248.9 | J18: 2 | K18: 71752959 | L18: 17986091 | M18: 13209182 | N18: 43647 | O18: 45474 | P18: 925476.32 | Q18: #VALUE!
A19: SOUTH CAROLINA | B19: 1.0224308e+09 | C19: 9.4748333e+08 | D19: 74947465 | E19: 25472915 | F19: 19809810 | G19: 3.78 | H19: 1.29 | I19: 2122742.9 | J19: 0 | K19: 74947465 | L19: NA | M19: NA | N19: 43922 | O19: 45383 | P19: 1560720.8 | Q19: #VALUE!
A20: NEBRASKA | B20: 5.0056523e+08 | C20: 4.608862e+08 | D20: 39679028 | E20: 6394968 | F20: 10539100 | G20: 3.76 | H20: 0.61 | I20: 532914 | J20: 2 | K20: 38613200 | L20: 9300414 | M20: 6665639 | N20: 43647 | O20: 45474 | P20: 251429.02 | Q20: #VALUE!
A21: NEW JERSEY | B21: 3.0055106e+08 | C21: 2.7615102e+08 | D21: 24400048 | E21: 9974924.4 | F21: 6730317 | G21: 3.63 | H21: 1.48 | I21: 831243.7 | J21: 2 | K21: 22737561 | L21: 5469707 | M21: 3787127.8 | N21: 43647 | O21: 45474 | P21: 490435.59 | Q21: #VALUE!
A22: ALASKA | B22: 104394118 | C22: 95218268 | D22: 9175850.4 | E22: 2293247.4 | F22: 2677355 | G22: 3.43 | H22: 0.86 | I22: 191103.95 | J22: 2 | K22: 8793642.5 | L22: 1910570.2 | M22: 1241231.5 | N22: 43647 | O22: 45474 | P22: 99624.39 | Q22: #VALUE!
A23: MISSOURI | B23: 1010324720 | C23: 9.3202902e+08 | D23: 78295698 | E23: 32446649 | F23: 23059848 | G23: 3.4 | H23: 1.41 | I23: 2703887.4 | J23: 0 | K23: 78295698 | L23: NA | M23: NA | N23: 43922 | O23: 45383 | P23: 3299965.2 | Q23: #VALUE!
A24: SOUTH DAKOTA | B24: 254239457 | C24: 2.3510985e+08 | D24: 19129607 | E24: 6606225 | F24: 5680880 | G24: 3.37 | H24: 1.16 | I24: 550518.75 | J24: 8 | K24: 14725457 | L24: 970980.88 | M24: 615925.88 | N24: 43831 | O24: 45658 | P24: 0 | Q24: #VALUE!
A25: PENNSYLVANIA | B25: 2.0010648e+09 | C25: 1.8717348e+09 | D25: 1.2933001e+08 | E25: 38379001 | F25: 40779947 | G25: 3.17 | H25: 0.94 | I25: 3198250.1 | J25: 8 | K25: 1.0374401e+08 | L25: 5971264.4 | M25: 3422517.7 | N25: 43831 | O25: 45658 | P25: 1783541.2 | Q25: #VALUE!
A26: IOWA | B26: 1059732308 | C26: 9.836555e+08 | D26: 76076807 | E26: 16097861 | F26: 24168777 | G26: 3.15 | H26: 0.67 | I26: 1341488.4 | J26: 8 | K26: 65344900 | L26: 3467406.6 | M26: 1956858.1 | N26: 43831 | O26: 45658 | P26: 1131808.5 | Q26: #VALUE!
A27: NEW YORK | B27: 1.2287777e+09 | C27: 1.0830703e+09 | D27: 1.4570738e+08 | E27: 57144061 | F27: 47456120 | G27: 3.07 | H27: 1.2 | I27: 4762005.1 | J27: 8 | K27: 1.0761134e+08 | L27: 6349392.7 | M27: on track | N27: 43831 | O27: 45658 | P27: 1584670.1 | Q27: #VALUE!
A28: MISSISSIPPI | B28: 1.2394723e+09 | C28: 1.1666121e+09 | D28: 72860233 | E28: 21930084 | F28: 24088947 | G28: 3.02 | H28: 0.91 | I28: 1827507 | J28: 2 | K28: 69205219 | L28: 12341169 | M28: 6318932.7 | N28: 43647 | O28: 45474 | P28: 2029324.7 | Q28: #VALUE!
A29: GEORGIA | B29: 1.6422976e+09 | C29: 1.518933e+09 | D29: 1.2336461e+08 | E29: 38721428 | F29: 40984884 | G29: 3.01 | H29: 0.94 | I29: 3226785.6 | J29: 2 | K29: 1.1691104e+08 | L29: 20697423 | M29: 10451202 | N29: 43647 | O29: 45474 | P29: 3715355.4 | Q29: #VALUE!
A30: MARYLAND | B30: 3.1444639e+08 | C30: 2.8924926e+08 | D30: 25197131 | E30: 9312317.7 | F30: 8369791 | G30: 3.01 | H30: 1.11 | I30: 776026.48 | J30: 2 | K30: 23645078 | L30: 4228774.5 | M30: 2136326.7 | N30: 43647 | O30: 45474 | P30: 559196.83 | Q30: #VALUE!
A31: COLORADO | B31: 3.9263422e+08 | C31: 3.6577631e+08 | D31: 26857907 | E31: 16864799 | F31: 9305817 | G31: 2.89 | H31: 1.81 | I31: 1405399.9 | J31: 0 | K31: 26857907 | L31: NA | M31: NA | N31: 43556 | O31: 45383 | P31: 320757.27 | Q31: #VALUE!
A32: KANSAS | B32: 675052951 | C32: 6.3255221e+08 | D32: 42500745 | E32: 10660434 | F32: 14786581 | G32: 2.87 | H32: 0.72 | I32: 888369.51 | J32: 8 | K32: 35393789 | L32: 1615947.9 | M32: on track | N32: 43466 | O32: 45658 | P32: 335609.46 | Q32: #VALUE!
A33: TENNESSEE | B33: 1154905413 | C33: 1.0781869e+09 | D33: 76718562 | E33: 24333207 | F33: 27571438 | G33: 2.78 | H33: 0.88 | I33: 2027767.2 | J33: 2 | K33: 72663028 | L33: 10787843 | M33: 3894983.6 | N33: 43647 | O33: 45474 | P33: 2405753.5 | Q33: #VALUE!
A34: CONNECTICUT | B34: 5.2832884e+08 | C34: 4.9018086e+08 | D34: 38147974 | E34: 21700267 | F34: 13880022 | G34: 2.75 | H34: 1.56 | I34: 1808355.6 | J34: 2 | K34: 34531263 | L34: 5193965.1 | M34: on track | N34: 43647 | O34: 45474 | P34: 5162504.7 | Q34: #VALUE!
A35: TEXAS | B35: 2.8793131e+09 | C35: 2.6940286e+09 | D35: 1.8528453e+08 | E35: 78626299 | F35: 70613641 | G35: 2.62 | H35: 1.11 | I35: 6552191.6 | J35: 4 | K35: 1.5907577e+08 | L35: 11014313 | M35: on track | N35: 44075 | O35: 45536 | P35: 2019074.8 | Q35: #VALUE!
A36: NEW HAMPSHIRE | B36: 346058940 | C36: 3.2170131e+08 | D36: 24357632 | E36: 5257145.9 | F36: 9353201 | G36: 2.6 | H36: 0.56 | I36: 438095.49 | J36: 8 | K36: 20852868 | L36: 706403.78 | M36: on track | N36: 43831 | O36: 45658 | P36: 706510.38 | Q36: #VALUE!
A37: OREGON | B37: 5.4540968e+08 | C37: 5.1535058e+08 | D37: 30059099 | E37: 16339870 | F37: 11656242 | G37: 2.58 | H37: 1.4 | I37: 1361655.8 | J37: 8 | K37: 19165852 | L37: on track | M37: on track | N37: 43831 | O37: 45658 | P37: 1227342 | Q37: #VALUE!
A38: WASHINGTON | B38: 522049097 | C38: 4.8826736e+08 | D38: 33781736 | E38: 15235682 | F38: 13105608 | G38: 2.58 | H38: 1.16 | I38: 1269640.2 | J38: 2 | K38: 31242456 | L38: 3785260.1 | M38: on track | N38: 43647 | O38: 45474 | P38: 850839.18 | Q38: #VALUE!
A39: MASSACHUSETTS | B39: 1.394383e+09 | C39: 1.3058497e+09 | D39: 88533291 | E39: 36726633 | F39: 34869850 | G39: 2.54 | H39: 1.05 | I39: 3060552.8 | J39: 0 | K39: 88533291 | L39: NA | M39: NA | N39: 43922 | O39: 45383 | P39: 3882251.6 | Q39: #VALUE!
A40: ALABAMA | B40: 1.0852751e+09 | C40: 1.0274167e+09 | D40: 57858360 | E40: 21049053 | F40: 22858857 | G40: 2.53 | H40: 0.92 | I40: 1754087.8 | J40: 0 | K40: 57858360 | L40: NA | M40: NA | N40: 43556 | O40: 45383 | P40: 2011971.7 | Q40: #VALUE!
A41: VERMONT | B41: 277600986 | C41: 2.5912918e+08 | D41: 18471808 | E41: 7327907.1 | F41: 7461397 | G41: 2.48 | H41: 0.98 | I41: 610658.93 | J41: 2 | K41: 17250491 | L41: 1774507.2 | M41: on track | N41: 43647 | O41: 45474 | P41: 1168954 | Q41: #VALUE!
A42: INDIANA | B42: 1.3097388e+09 | C42: 1.2343747e+09 | D42: 75364088 | E42: 26461960 | F42: 30738746 | G42: 2.45 | H42: 0.86 | I42: 2205163.3 | J42: 2 | K42: 70953761 | L42: 6943297.9 | M42: on track | N42: 43647 | O42: 45474 | P42: 3062117.2 | Q42: #VALUE!
A43: LOUISIANA | B43: 1205115490 | C43: 1.1509999e+09 | D43: 54115579 | E43: 25455713 | F43: 22499042 | G43: 2.41 | H43: 1.13 | I43: 2121309.4 | J43: 0 | K43: 54115579 | L43: NA | M43: on track | N43: 43922 | O43: 45383 | P43: 2492517.8 | Q43: #VALUE!
A44: IDAHO | B44: 3.4288781e+08 | C44: 3.2346442e+08 | D44: 19423395 | E44: 8394195.7 | F44: 8236180 | G44: 2.36 | H44: 1.02 | I44: 699516.31 | J44: 0 | K44: 19423395 | L44: NA | M44: on track | N44: 43556 | O44: 45383 | P44: 590407.41 | Q44: #VALUE!
A45: NEVADA | B45: 98701064 | C45: 92507439 | D45: 6193625.4 | E45: 4832857.1 | F45: 2898567 | G45: 2.14 | H45: 1.67 | I45: 402738.09 | J45: 2 | K45: 5388149.2 | L45: on track | M45: on track | N45: 43647 | O45: 45474 | P45: 174182.79 | Q45: #VALUE!
A46: OKLAHOMA | B46: 6.8538868e+08 | C46: 6.5627478e+08 | D46: 29113898 | E46: 16769896 | F46: 13963452 | G46: 2.09 | H46: 1.2 | I46: 1397491.4 | J46: 0 | K46: 29113898 | L46: NA | M46: on track | N46: 43922 | O46: 45383 | P46: 1625749.2 | Q46: #VALUE!
A47: OHIO | B47: 1.9401106e+09 | C47: 1.8454674e+09 | D47: 94643226 | E47: 41025769 | F47: 45492764 | G47: 2.08 | H47: 0.9 | I47: 3418814 | J47: 2 | K47: 87805598 | L47: on track | M47: on track | N47: 43647 | O47: 45474 | P47: 3503685.5 | Q47: #VALUE!
A48: ARIZONA | B48: 389160034 | C48: 3.6932022e+08 | D48: 19839813 | E48: 10313651 | F48: 10126728 | G48: 1.96 | H48: 1.02 | I48: 859470.9 | J48: 2 | K48: 18120871 | L48: on track | M48: on track | N48: 43647 | O48: 45474 | P48: 1610157.4 | Q48: #VALUE!
A49: MAINE | B49: 497245980 | C49: 4.7438102e+08 | D49: 22864956 | E49: 12360104 | F49: 11808636 | G49: 1.94 | H49: 1.05 | I49: 1030008.7 | J49: 8 | K49: 14624887 | L49: on track | M49: on track | N49: 43831 | O49: 45658 | P49: 299573.27 | Q49: #VALUE!
A50: WISCONSIN | B50: 1082941284 | C50: 1.0318826e+09 | D50: 51058707 | E50: 29750947 | F50: 27168342 | G50: 1.88 | H50: 1.1 | I50: 2479245.6 | J50: 0 | K50: 51058707 | L50: on track | M50: on track | N50: 43922 | O50: 45383 | P50: 1757168.7 | Q50: #VALUE!
A51: UTAH | B51: 238203233 | C51: 2.2925763e+08 | D51: 8945603.6 | E51: 4844119.2 | F51: 5501208 | G51: 1.63 | H51: 0.88 | I51: 403676.6 | J51: 2 | K51: 8138250.4 | L51: on track | M51: on track | N51: 43647 | O51: 45474 | P51: 1131552.4 | Q51: #VALUE!
A52: DELAWARE | B52: 75470621 | C52: 71819704 | D52: 3650917 | E52: 2121500.8 | F52: 2752623 | G52: 1.33 | H52: 0.77 | I52: 176791.73 | J52: 2 | K52: 3297333.5 | L52: on track | M52: on track | N52: 43647 | O52: 45474 | P52: 67718.04 | Q52: #VALUE!
A53: TOTALS: | B53: 4.3056918e+10 | C53: 3.9760656e+10 | D53: 3.2962625e+09 | E53: 9.4382402e+08 | F53: 981907757 | G53: 3.36 | H53: 0.96 | I53: 78652001 | P53: 68336248
D56: Number of states with unexpended balance greater than 2.5: | G56: 38
D57: Number of states with expenditure rate less than 1: | H57: 28

Sheet Mar'25
A1: Run Date: 03/31/2025 As of: 03/31/2025 | B1: 03/31/2025
A2: State Name | B2: Amount Of Open Grants | C2: Total Expended from Open Grants | D2: Total Unexpended from Open Grants | E2: Amount Expended Last 12 Months | F2: Most Recent Grant Amount | G2: Ratio Unexpended To Grant | H2: Ratio Expended Last 12 Months to Grant | I2: Avg monthly expenditure last 12 mos | J2: Months remaining to goal | K2: Projected bal 60 days before end of PY | L2: Monthly spending to reach 2x goal | M2: Monthly spending to reach 2.5x goal | N2: PY Start | O2: Current Pgm Yr start | P2: latest month's expenditure | Q2: Most Recent Grant Appeared in LOCCS
A3: FLORIDA | B3: 1.1399759e+09 | C3: 9.8533077e+08 | D3: 1.5464517e+08 | E3: 12555136 | F3: 24778539 | G3: 6.24 | H3: 0.51 | I3: 1046261.3 | J3: 1 | K3: 1.5359891e+08 | L3: 1.0508809e+08 | M3: 92698819 | N3: 43647 | O3: 45474 | P3: 252507.44 | Q3: #VALUE!
A4: WEST VIRGINIA | B4: 7.0869638e+08 | C4: 6.3500228e+08 | D4: 73694101 | E4: 13361474 | F4: 13833071 | G4: 5.33 | H4: 0.97 | I4: 1113456.2 | J4: 1 | K4: 72580645 | L4: 46027959 | M4: 39111424 | N4: 43647 | O4: 45474 | P4: 2192502.1 | Q4: #VALUE!
A5: NORTH CAROLINA | B5: 1.7885959e+09 | C5: 1.5423129e+09 | D5: 2.4628297e+08 | E5: 39641688 | F5: 46272979 | G5: 5.32 | H5: 0.86 | I5: 3303474 | J5: 7 | K5: 2.2315865e+08 | L5: 21962430 | M5: 18657217 | N5: 43831 | O5: 45658 | P5: 6204178.1 | Q5: #VALUE!
A6: MICHIGAN | B6: 1.4692429e+09 | C6: 1.2959374e+09 | D6: 1.7330542e+08 | E6: 18515624 | F6: 33073641 | G6: 5.24 | H6: 0.56 | I6: 1542968.7 | J6: 1 | K6: 1.7176245e+08 | L6: 1.0715814e+08 | M6: 90621320 | N6: 43647 | O6: 45474 | P6: 397770.83 | Q6: #VALUE!
A7: ILLINOIS | B7: 1.3362735e+09 | C7: 1.189684e+09 | D7: 1.4658948e+08 | E7: 18425249 | F7: 29074134 | G7: 5.04 | H7: 0.63 | I7: 1535437.4 | J7: 7 | K7: 1.3584142e+08 | L7: 12634459 | M7: 10557735 | N7: 43831 | O7: 45658 | P7: 974918.89 | Q7: #VALUE!
A8: WYOMING | B8: 1.2089976e+08 | C8: 1.0444506e+08 | D8: 16454698 | E8: 1773705.6 | F8: 3521015 | G8: 4.67 | H8: 0.5 | I8: 147808.8 | J8: 7 | K8: 15420037 | L8: 1344666.9 | M8: 1093165.8 | N8: 43831 | O8: 45658 | P8: 24831.85 | Q8: #VALUE!
A9: NEW MEXICO | B9: 493558716 | C9: 4.4711512e+08 | D9: 46443598 | E9: 8332854.2 | F9: 11038481 | G9: 4.21 | H9: 0.75 | I9: 694404.52 | J9: 7 | K9: 41582767 | L9: 3480948 | M9: 2692485.1 | N9: 43831 | O9: 45658 | P9: 1377314.2 | Q9: #VALUE!
A10: RHODE ISLAND | B10: 2.031847e+08 | C10: 1.7976453e+08 | D10: 23420165 | E10: 5843312.5 | F10: 5655134 | G10: 4.14 | H10: 1.03 | I10: 486942.71 | J10: 1 | K10: 22933223 | L10: 12109897 | M10: 9282330.4 | N10: 43647 | O10: 45474 | P10: 109269.6 | Q10: #VALUE!
A11: MONTANA | B11: 265120500 | C11: 2.3977135e+08 | D11: 25349154 | E11: 8536086.4 | F11: 6172506 | G11: 4.11 | H11: 1.38 | I11: 711340.54 | J11: 0 | K11: 25349154 | L11: NA | M11: NA | N11: 43922 | O11: 45383 | P11: 305055.44 | Q11: #VALUE!
A12: MINNESOTA | B12: 853256279 | C12: 7.7595877e+08 | D12: 77297510 | E12: 18506979 | F12: 18836467 | G12: 4.1 | H12: 0.98 | I12: 1542248.2 | J12: 4 | K12: 71128518 | L12: 9906144.1 | M12: 7551585.7 | N12: 43739 | O12: 45566 | P12: 1198287.9 | Q12: #VALUE!
A13: PUERTO RICO | B13: 1945106991 | C13: 1.854699e+09 | D13: 90407961 | E13: 20461045 | F13: 22131554 | G13: 4.09 | H13: 0.92 | I13: 1705087.1 | J13: 1 | K13: 88702874 | L13: 46144853 | M13: 35079076 | N13: 43647 | O13: 45474 | P13: 1126476.5 | Q13: #VALUE!
A14: NORTH DAKOTA | B14: 187480557 | C14: 1.7324424e+08 | D14: 14236319 | E14: 2906394.3 | F14: 3515583 | G14: 4.05 | H14: 0.83 | I14: 242199.52 | J14: 1 | K14: 13994119 | L14: 7205152.6 | M14: 5447361.1 | N14: 43647 | O14: 45474 | P14: 0 | Q14: #VALUE!
A15: KENTUCKY | B15: 1.1681423e+09 | C15: 1.0639257e+09 | D15: 1.0421653e+08 | E15: 20304000 | F15: 26355588 | G15: 3.95 | H15: 0.77 | I15: 1692000 | J15: 1 | K15: 1.0252453e+08 | L15: 51505352 | M15: 38327558 | N15: 43647 | O15: 45474 | P15: 1725758 | Q15: #VALUE!
A16: CALIFORNIA | B16: 1.4384287e+09 | C16: 1.3233885e+09 | D16: 1.1504022e+08 | E16: 27650808 | F16: 30065955 | G16: 3.83 | H16: 0.92 | I16: 2304234 | J16: 1 | K16: 1.1273598e+08 | L16: 54908307 | M16: 39875329 | N16: 43647 | O16: 45474 | P16: 4385750 | Q16: #VALUE!
A17: ARKANSAS | B17: 8.0046432e+08 | C17: 7.3403868e+08 | D17: 66425645 | E17: 20458276 | F17: 17480755 | G17: 3.8 | H17: 1.17 | I17: 1704856.3 | J17: 1 | K17: 64720789 | L17: 31464135 | M17: 22723758 | N17: 43647 | O17: 45474 | P17: 2042166.9 | Q17: #VALUE!
A18: VIRGINIA | B18: 794219275 | C18: 7.2159874e+08 | D18: 72620536 | E18: 14583635 | F18: 19107637 | G18: 3.8 | H18: 0.76 | I18: 1215302.9 | J18: 1 | K18: 71405233 | L18: 34405262 | M18: 24851443 | N18: 43647 | O18: 45474 | P18: 1566920.7 | Q18: #VALUE!
A19: NEBRASKA | B19: 5.0056523e+08 | C19: 4.6113159e+08 | D19: 39433638 | E19: 5991238.2 | F19: 10539100 | G19: 3.74 | H19: 0.57 | I19: 499269.85 | J19: 1 | K19: 38934368 | L19: 18355438 | M19: 13085888 | N19: 43647 | O19: 45474 | P19: 245390.23 | Q19: #VALUE!
A20: SOUTH CAROLINA | B20: 1.0224308e+09 | C20: 9.4972483e+08 | D20: 72705963 | E20: 25123646 | F20: 19809810 | G20: 3.67 | H20: 1.27 | I20: 2093637.2 | J20: 0 | K20: 72705963 | L20: NA | M20: NA | N20: 43922 | O20: 45383 | P20: 2241502 | Q20: #VALUE!
A21: ALASKA | B21: 104394118 | C21: 95319724 | D21: 9074394.2 | E21: 1606592.2 | F21: 2677355 | G21: 3.39 | H21: 0.6 | I21: 133882.69 | J21: 1 | K21: 8940511.5 | L21: 3719684.2 | M21: 2381006.7 | N21: 43647 | O21: 45474 | P21: 101456.26 | Q21: #VALUE!
A22: NEW JERSEY | B22: 3.0055106e+08 | C22: 2.777051e+08 | D22: 22845963 | E22: 10797108 | F22: 6730317 | G22: 3.39 | H22: 1.6 | I22: 899758.97 | J22: 1 | K22: 21946204 | L22: 9385329.4 | M22: 6020170.9 | N22: 43647 | O22: 45474 | P22: 1554084.6 | Q22: #VALUE!
A23: MISSOURI | B23: 1010324720 | C23: 9.3330933e+08 | D23: 77015391 | E23: 31569290 | F23: 23059848 | G23: 3.34 | H23: 1.37 | I23: 2630774.1 | J23: 0 | K23: 77015391 | L23: NA | M23: NA | N23: 43922 | O23: 45383 | P23: 1280307.4 | Q23: #VALUE!
A24: SOUTH DAKOTA | B24: 254239457 | C24: 2.3538233e+08 | D24: 18857130 | E24: 4614705.4 | F24: 5680880 | G24: 3.32 | H24: 0.81 | I24: 384558.78 | J24: 7 | K24: 16165218 | L24: 1070767.1 | M24: 664989.93 | N24: 43831 | O24: 45658 | P24: 272477.54 | Q24: #VALUE!
A25: PENNSYLVANIA | B25: 2.0010648e+09 | C25: 1.8739434e+09 | D25: 1.2712143e+08 | E25: 38461555 | F25: 40779947 | G25: 3.12 | H25: 0.94 | I25: 3205129.6 | J25: 7 | K25: 1.0468552e+08 | L25: 6508790.2 | M25: 3595936.9 | N25: 43831 | O25: 45658 | P25: 2208583.5 | Q25: #VALUE!
A26: IOWA | B26: 1059732308 | C26: 9.852035e+08 | D26: 74528809 | E26: 16573135 | F26: 24168777 | G26: 3.08 | H26: 0.69 | I26: 1381094.6 | J26: 7 | K26: 64861146 | L26: 3741607.8 | M26: 2015266.6 | N26: 43831 | O26: 45658 | P26: 1547998.5 | Q26: #VALUE!
A27: NEW YORK | B27: 1.2287777e+09 | C27: 1.0852051e+09 | D27: 1.4357261e+08 | E27: 54387063 | F27: 47456120 | G27: 3.03 | H27: 1.15 | I27: 4532255.3 | J27: 7 | K27: 1.1184682e+08 | L27: 6951481.5 | M27: on track | N27: 43831 | O27: 45658 | P27: 2134771.2 | Q27: #VALUE!
A28: MARYLAND | B28: 3.1444639e+08 | C28: 2.8946391e+08 | D28: 24982480 | E28: 8418087.5 | F28: 8369791 | G28: 2.98 | H28: 1.01 | I28: 701507.29 | J28: 1 | K28: 24280973 | L28: 8242897.9 | M28: 4058002.4 | N28: 43647 | O28: 45474 | P28: 214651.05 | Q28: #VALUE!
A29: GEORGIA | B29: 1.6422976e+09 | C29: 1.5219661e+09 | D29: 1.2033144e+08 | E29: 37604887 | F29: 40984884 | G29: 2.94 | H29: 0.92 | I29: 3133740.6 | J29: 1 | K29: 1.171977e+08 | L29: 38361671 | M29: 17869229 | N29: 43647 | O29: 45474 | P29: 3033173.8 | Q29: #VALUE!
A30: MISSISSIPPI | B30: 1.2394723e+09 | C30: 1.1686007e+09 | D30: 70871637 | E30: 21456851 | F30: 24088947 | G30: 2.94 | H30: 0.89 | I30: 1788070.9 | J30: 1 | K30: 69083566 | L30: 22693743 | M30: 10649269 | N30: 43647 | O30: 45474 | P30: 1988596.2 | Q30: #VALUE!
A31: KANSAS | B31: 675052951 | C31: 6.331926e+08 | D31: 41860350 | E31: 10031559 | F31: 14786581 | G31: 2.83 | H31: 0.68 | I31: 835963.23 | J31: 7 | K31: 36008607 | L31: 1755312.5 | M31: on track | N31: 43466 | O31: 45658 | P31: 640395.59 | Q31: #VALUE!
A32: COLORADO | B32: 3.9263422e+08 | C32: 3.6638982e+08 | D32: 26244397 | E32: 16882788 | F32: 9305817 | G32: 2.82 | H32: 1.81 | I32: 1406899 | J32: 0 | K32: 26244397 | L32: NA | M32: NA | N32: 43556 | O32: 45383 | P32: 613509.91 | Q32: #VALUE!
A33: CONNECTICUT | B33: 5.2832884e+08 | C33: 4.9018086e+08 | D33: 38147974 | E33: 21700267 | F33: 13880022 | G33: 2.75 | H33: 1.56 | I33: 1808355.6 | J33: 1 | K33: 36339619 | L33: 10387930 | M33: 3447919.3 | N33: 43647 | O33: 45474 | P33: 0 | Q33: #VALUE!
A34: TENNESSEE | B34: 1154905413 | C34: 1.0793921e+09 | D34: 75513338 | E34: 22934866 | F34: 27571438 | G34: 2.74 | H34: 0.83 | I34: 1911238.8 | J34: 1 | K34: 73602099 | L34: 20370462 | M34: 6584742.8 | N34: 43647 | O34: 45474 | P34: 1205224.3 | Q34: #VALUE!
A35: NEW HAMPSHIRE | B35: 346058940 | C35: 3.219051e+08 | D35: 24153841 | E35: 5275579.7 | F35: 9353201 | G35: 2.58 | H35: 0.56 | I35: 439631.64 | J35: 7 | K35: 21076420 | L35: 778205.6 | M35: on track | N35: 43831 | O35: 45658 | P35: 203791.08 | Q35: #VALUE!
A36: TEXAS | B36: 2.8793131e+09 | C36: 2.6986305e+09 | D36: 1.8068264e+08 | E36: 77931486 | F36: 70613641 | G36: 2.56 | H36: 1.1 | I36: 6494290.5 | J36: 3 | K36: 1.6119977e+08 | L36: 13151786 | M36: on track | N36: 44075 | O36: 45536 | P36: 4601892.1 | Q36: #VALUE!
A37: OREGON | B37: 5.4540968e+08 | C37: 5.1563825e+08 | D37: 29771434 | E37: 15411648 | F37: 11656242 | G37: 2.55 | H37: 1.32 | I37: 1284304 | J37: 7 | K37: 20781306 | L37: on track | M37: on track | N37: 43831 | O37: 45658 | P37: 287665 | Q37: #VALUE!
A38: WASHINGTON | B38: 522049097 | C38: 4.8909206e+08 | D38: 32957041 | E38: 15268940 | F38: 13105608 | G38: 2.51 | H38: 1.17 | I38: 1272411.7 | J38: 1 | K38: 31684630 | L38: 6745825.4 | M38: on track | N38: 43647 | O38: 45474 | P38: 824694.91 | Q38: #VALUE!
A39: MASSACHUSETTS | B39: 1.394383e+09 | C39: 1.3080778e+09 | D39: 86305212 | E39: 36145092 | F39: 34869850 | G39: 2.48 | H39: 1.04 | I39: 3012091 | J39: 0 | K39: 86305212 | L39: NA | M39: on track | N39: 43922 | O39: 45383 | P39: 2228079 | Q39: #VALUE!
A40: ALABAMA | B40: 1.0852751e+09 | C40: 1028782385 | D40: 56492720 | E40: 20798357 | F40: 22858857 | G40: 2.47 | H40: 0.91 | I40: 1733196.4 | J40: 0 | K40: 56492720 | L40: NA | M40: on track | N40: 43556 | O40: 45383 | P40: 1365640.7 | Q40: #VALUE!
A41: INDIANA | B41: 1.3097388e+09 | C41: 1.2370227e+09 | D41: 72716042 | E41: 26782843 | F41: 30738746 | G41: 2.37 | H41: 0.87 | I41: 2231903.6 | J41: 1 | K41: 70484138 | L41: 11238550 | M41: on track | N41: 43647 | O41: 45474 | P41: 2648045.9 | Q41: #VALUE!
A42: LOUISIANA | B42: 1205115490 | C42: 1.1525691e+09 | D42: 52546370 | E42: 25394264 | F42: 22499042 | G42: 2.34 | H42: 1.13 | I42: 2116188.6 | J42: 0 | K42: 52546370 | L42: NA | M42: on track | N42: 43922 | O42: 45383 | P42: 1569208.4 | Q42: #VALUE!
A43: IDAHO | B43: 3.4288781e+08 | C43: 3.2399027e+08 | D43: 18897544 | E43: 8664733.9 | F43: 8236180 | G43: 2.29 | H43: 1.05 | I43: 722061.16 | J43: 0 | K43: 18897544 | L43: NA | M43: on track | N43: 43556 | O43: 45383 | P43: 525850.76 | Q43: #VALUE!
A44: VERMONT | B44: 277600986 | C44: 2.6060712e+08 | D44: 16993862 | E44: 8338191.5 | F44: 7461397 | G44: 2.28 | H44: 1.12 | I44: 694849.3 | J44: 1 | K44: 16299013 | L44: 2071068 | M44: on track | N44: 43647 | O44: 45474 | P44: 1477946.4 | Q44: #VALUE!
A45: NEVADA | B45: 98701064 | C45: 92616233 | D45: 6084830.9 | E45: 4894836 | F45: 2898567 | G45: 2.1 | H45: 1.69 | I45: 407903 | J45: 1 | K45: 5676927.9 | L45: on track | M45: on track | N45: 43647 | O45: 45474 | P45: 108794.5 | Q45: #VALUE!
A46: OKLAHOMA | B46: 6.8538868e+08 | C46: 6.569559e+08 | D46: 28432777 | E46: 16804912 | F46: 13963452 | G46: 2.04 | H46: 1.2 | I46: 1400409.4 | J46: 0 | K46: 28432777 | L46: NA | M46: on track | N46: 43922 | O46: 45383 | P46: 681121.09 | Q46: #VALUE!
A47: OHIO | B47: 1.9401106e+09 | C47: 1.8480593e+09 | D47: 92051258 | E47: 41094610 | F47: 45492764 | G47: 2.02 | H47: 0.9 | I47: 3424550.8 | J47: 1 | K47: 88626707 | L47: on track | M47: on track | N47: 43647 | O47: 45474 | P47: 2591967.8 | Q47: #VALUE!
A48: ARIZONA | B48: 389160034 | C48: 3.6998633e+08 | D48: 19173707 | E48: 10458625 | F48: 10126728 | G48: 1.89 | H48: 1.03 | I48: 871552.09 | J48: 1 | K48: 18302155 | L48: on track | M48: on track | N48: 43647 | O48: 45474 | P48: 666106.45 | Q48: #VALUE!
A49: WISCONSIN | B49: 1082941284 | C49: 1.0319323e+09 | D49: 51009016 | E49: 25924294 | F49: 27168342 | G49: 1.88 | H49: 0.95 | I49: 2160357.9 | J49: 0 | K49: 51009016 | L49: on track | M49: on track | N49: 43922 | O49: 45383 | P49: 49690.98 | Q49: #VALUE!
A50: MAINE | B50: 497245980 | C50: 4.7519434e+08 | D50: 22051638 | E50: 11553955 | F50: 11808636 | G50: 1.87 | H50: 0.98 | I50: 962829.59 | J50: 7 | K50: 15311831 | L50: on track | M50: on track | N50: 43831 | O50: 45658 | P50: 813318.52 | Q50: #VALUE!
A51: UTAH | B51: 238203233 | C51: 2.2956936e+08 | D51: 8633876.3 | E51: 5541774.6 | F51: 5501208 | G51: 1.57 | H51: 1.01 | I51: 461814.55 | J51: 1 | K51: 8172061.8 | L51: on track | M51: on track | N51: 43647 | O51: 45474 | P51: 311727.29 | Q51: #VALUE!
A52: DELAWARE | B52: 75470621 | C52: 71849493 | D52: 3621127.9 | E52: 1878111.6 | F52: 2752623 | G52: 1.32 | H52: 0.68 | I52: 156509.3 | J52: 1 | K52: 3464618.6 | L52: on track | M52: on track | N52: 43647 | O52: 45474 | P52: 29789.1 | Q52: #VALUE!
A53: TOTALS: | B53: 4.3056918e+10 | C53: 3.9824807e+10 | D53: 3.2321113e+09 | E53: 9.3817216e+08 | F53: 981907757 | G53: 3.29 | H53: 0.96 | I53: 78181013 | P53: 64151161
D56: Number of states with unexpended balance greater than 2.5: | G56: 36
D57: Number of states with expenditure rate less than 1: | H57: 29

Sheet Apr'25
A1: Run Date: 03/31/2025 As of: 03/31/2025 | B1: 03/31/2025
A2: State Name | B2: Amount Of Open Grants | C2: Total Expended from Open Grants | D2: Total Unexpended from Open Grants | E2: Amount Expended Last 12 Months | F2: Most Recent Grant Amount | G2: Ratio Unexpended To Grant | H2: Ratio Expended Last 12 Months to Grant | I2: Avg monthly expenditure last 12 mos | J2: Months remaining to goal | K2: Projected bal 60 days before end of PY | L2: Monthly spending to reach 2x goal | M2: Monthly spending to reach 2.5x goal | N2: PY Start | O2: Current Pgm Yr start | P2: latest month's expenditure | Q2: Most Recent Grant Appeared in LOCCS
A3: FLORIDA | B3: 1.1399759e+09 | C3: 9.8533077e+08 | D3: 1.5464517e+08 | E3: 12555136 | F3: 24778539 | G3: 6.24 | H3: 0.51 | I3: 1046261.3 | J3: 1 | K3: 1.5359891e+08 | L3: 1.0508809e+08 | M3: 92698819 | N3: 43647 | O3: 45474 | P3: 252507.44 | Q3: #VALUE!
A4: WEST VIRGINIA | B4: 7.0869638e+08 | C4: 6.3500228e+08 | D4: 73694101 | E4: 13361474 | F4: 13833071 | G4: 5.33 | H4: 0.97 | I4: 1113456.2 | J4: 1 | K4: 72580645 | L4: 46027959 | M4: 39111424 | N4: 43647 | O4: 45474 | P4: 2192502.1 | Q4: #VALUE!
A5: NORTH CAROLINA | B5: 1.7885959e+09 | C5: 1.5423129e+09 | D5: 2.4628297e+08 | E5: 39641688 | F5: 46272979 | G5: 5.32 | H5: 0.86 | I5: 3303474 | J5: 7 | K5: 2.2315865e+08 | L5: 21962430 | M5: 18657217 | N5: 43831 | O5: 45658 | P5: 6204178.1 | Q5: #VALUE!
A6: MICHIGAN | B6: 1.4692429e+09 | C6: 1.2959374e+09 | D6: 1.7330542e+08 | E6: 18515624 | F6: 33073641 | G6: 5.24 | H6: 0.56 | I6: 1542968.7 | J6: 1 | K6: 1.7176245e+08 | L6: 1.0715814e+08 | M6: 90621320 | N6: 43647 | O6: 45474 | P6: 397770.83 | Q6: #VALUE!
A7: ILLINOIS | B7: 1.3362735e+09 | C7: 1.189684e+09 | D7: 1.4658948e+08 | E7: 18425249 | F7: 29074134 | G7: 5.04 | H7: 0.63 | I7: 1535437.4 | J7: 7 | K7: 1.3584142e+08 | L7: 12634459 | M7: 10557735 | N7: 43831 | O7: 45658 | P7: 974918.89 | Q7: #VALUE!
A8: WYOMING | B8: 1.2089976e+08 | C8: 1.0444506e+08 | D8: 16454698 | E8: 1773705.6 | F8: 3521015 | G8: 4.67 | H8: 0.5 | I8: 147808.8 | J8: 7 | K8: 15420037 | L8: 1344666.9 | M8: 1093165.8 | N8: 43831 | O8: 45658 | P8: 24831.85 | Q8: #VALUE!
A9: NEW MEXICO | B9: 493558716 | C9: 4.4711512e+08 | D9: 46443598 | E9: 8332854.2 | F9: 11038481 | G9: 4.21 | H9: 0.75 | I9: 694404.52 | J9: 7 | K9: 41582767 | L9: 3480948 | M9: 2692485.1 | N9: 43831 | O9: 45658 | P9: 1377314.2 | Q9: #VALUE!
A10: RHODE ISLAND | B10: 2.031847e+08 | C10: 1.7976453e+08 | D10: 23420165 | E10: 5843312.5 | F10: 5655134 | G10: 4.14 | H10: 1.03 | I10: 486942.71 | J10: 1 | K10: 22933223 | L10: 12109897 | M10: 9282330.4 | N10: 43647 | O10: 45474 | P10: 109269.6 | Q10: #VALUE!
A11: MONTANA | B11: 265120500 | C11: 2.3977135e+08 | D11: 25349154 | E11: 8536086.4 | F11: 6172506 | G11: 4.11 | H11: 1.38 | I11: 711340.54 | J11: 0 | K11: 25349154 | L11: NA | M11: NA | N11: 43922 | O11: 45383 | P11: 305055.44 | Q11: #VALUE!
A12: MINNESOTA | B12: 853256279 | C12: 7.7595877e+08 | D12: 77297510 | E12: 18506979 | F12: 18836467 | G12: 4.1 | H12: 0.98 | I12: 1542248.2 | J12: 4 | K12: 71128518 | L12: 9906144.1 | M12: 7551585.7 | N12: 43739 | O12: 45566 | P12: 1198287.9 | Q12: #VALUE!
A13: PUERTO RICO | B13: 1945106991 | C13: 1.854699e+09 | D13: 90407961 | E13: 20461045 | F13: 22131554 | G13: 4.09 | H13: 0.92 | I13: 1705087.1 | J13: 1 | K13: 88702874 | L13: 46144853 | M13: 35079076 | N13: 43647 | O13: 45474 | P13: 1126476.5 | Q13: #VALUE!
A14: NORTH DAKOTA | B14: 187480557 | C14: 1.7324424e+08 | D14: 14236319 | E14: 2906394.3 | F14: 3515583 | G14: 4.05 | H14: 0.83 | I14: 242199.52 | J14: 1 | K14: 13994119 | L14: 7205152.6 | M14: 5447361.1 | N14: 43647 | O14: 45474 | P14: 0 | Q14: #VALUE!
A15: KENTUCKY | B15: 1.1681423e+09 | C15: 1.0639257e+09 | D15: 1.0421653e+08 | E15: 20304000 | F15: 26355588 | G15: 3.95 | H15: 0.77 | I15: 1692000 | J15: 1 | K15: 1.0252453e+08 | L15: 51505352 | M15: 38327558 | N15: 43647 | O15: 45474 | P15: 1725758 | Q15: #VALUE!
A16: CALIFORNIA | B16: 1.4384287e+09 | C16: 1.3233885e+09 | D16: 1.1504022e+08 | E16: 27650808 | F16: 30065955 | G16: 3.83 | H16: 0.92 | I16: 2304234 | J16: 1 | K16: 1.1273598e+08 | L16: 54908307 | M16: 39875329 | N16: 43647 | O16: 45474 | P16: 4385750 | Q16: #VALUE!
A17: ARKANSAS | B17: 8.0046432e+08 | C17: 7.3403868e+08 | D17: 66425645 | E17: 20458276 | F17: 17480755 | G17: 3.8 | H17: 1.17 | I17: 1704856.3 | J17: 1 | K17: 64720789 | L17: 31464135 | M17: 22723758 | N17: 43647 | O17: 45474 | P17: 2042166.9 | Q17: #VALUE!
A18: VIRGINIA | B18: 794219275 | C18: 7.2159874e+08 | D18: 72620536 | E18: 14583635 | F18: 19107637 | G18: 3.8 | H18: 0.76 | I18: 1215302.9 | J18: 1 | K18: 71405233 | L18: 34405262 | M18: 24851443 | N18: 43647 | O18: 45474 | P18: 1566920.7 | Q18: #VALUE!
A19: NEBRASKA | B19: 5.0056523e+08 | C19: 4.6113159e+08 | D19: 39433638 | E19: 5991238.2 | F19: 10539100 | G19: 3.74 | H19: 0.57 | I19: 499269.85 | J19: 1 | K19: 38934368 | L19: 18355438 | M19: 13085888 | N19: 43647 | O19: 45474 | P19: 245390.23 | Q19: #VALUE!
A20: SOUTH CAROLINA | B20: 1.0224308e+09 | C20: 9.4972483e+08 | D20: 72705963 | E20: 25123646 | F20: 19809810 | G20: 3.67 | H20: 1.27 | I20: 2093637.2 | J20: 0 | K20: 72705963 | L20: NA | M20: NA | N20: 43922 | O20: 45383 | P20: 2241502 | Q20: #VALUE!
A21: ALASKA | B21: 104394118 | C21: 95319724 | D21: 9074394.2 | E21: 1606592.2 | F21: 2677355 | G21: 3.39 | H21: 0.6 | I21: 133882.69 | J21: 1 | K21: 8940511.5 | L21: 3719684.2 | M21: 2381006.7 | N21: 43647 | O21: 45474 | P21: 101456.26 | Q21: #VALUE!
A22: NEW JERSEY | B22: 3.0055106e+08 | C22: 2.777051e+08 | D22: 22845963 | E22: 10797108 | F22: 6730317 | G22: 3.39 | H22: 1.6 | I22: 899758.97 | J22: 1 | K22: 21946204 | L22: 9385329.4 | M22: 6020170.9 | N22: 43647 | O22: 45474 | P22: 1554084.6 | Q22: #VALUE!
A23: MISSOURI | B23: 1010324720 | C23: 9.3330933e+08 | D23: 77015391 | E23: 31569290 | F23: 23059848 | G23: 3.34 | H23: 1.37 | I23: 2630774.1 | J23: 0 | K23: 77015391 | L23: NA | M23: NA | N23: 43922 | O23: 45383 | P23: 1280307.4 | Q23: #VALUE!
A24: SOUTH DAKOTA | B24: 254239457 | C24: 2.3538233e+08 | D24: 18857130 | E24: 4614705.4 | F24: 5680880 | G24: 3.32 | H24: 0.81 | I24: 384558.78 | J24: 7 | K24: 16165218 | L24: 1070767.1 | M24: 664989.93 | N24: 43831 | O24: 45658 | P24: 272477.54 | Q24: #VALUE!
A25: PENNSYLVANIA | B25: 2.0010648e+09 | C25: 1.8739434e+09 | D25: 1.2712143e+08 | E25: 38461555 | F25: 40779947 | G25: 3.12 | H25: 0.94 | I25: 3205129.6 | J25: 7 | K25: 1.0468552e+08 | L25: 6508790.2 | M25: 3595936.9 | N25: 43831 | O25: 45658 | P25: 2208583.5 | Q25: #VALUE!
A26: IOWA | B26: 1059732308 | C26: 9.852035e+08 | D26: 74528809 | E26: 16573135 | F26: 24168777 | G26: 3.08 | H26: 0.69 | I26: 1381094.6 | J26: 7 | K26: 64861146 | L26: 3741607.8 | M26: 2015266.6 | N26: 43831 | O26: 45658 | P26: 1547998.5 | Q26: #VALUE!
A27: NEW YORK | B27: 1.2287777e+09 | C27: 1.0852051e+09 | D27: 1.4357261e+08 | E27: 54387063 | F27: 47456120 | G27: 3.03 | H27: 1.15 | I27: 4532255.3 | J27: 7 | K27: 1.1184682e+08 | L27: 6951481.5 | M27: on track | N27: 43831 | O27: 45658 | P27: 2134771.2 | Q27: #VALUE!
A28: MARYLAND | B28: 3.1444639e+08 | C28: 2.8946391e+08 | D28: 24982480 | E28: 8418087.5 | F28: 8369791 | G28: 2.98 | H28: 1.01 | I28: 701507.29 | J28: 1 | K28: 24280973 | L28: 8242897.9 | M28: 4058002.4 | N28: 43647 | O28: 45474 | P28: 214651.05 | Q28: #VALUE!
A29: GEORGIA | B29: 1.6422976e+09 | C29: 1.5219661e+09 | D29: 1.2033144e+08 | E29: 37604887 | F29: 40984884 | G29: 2.94 | H29: 0.92 | I29: 3133740.6 | J29: 1 | K29: 1.171977e+08 | L29: 38361671 | M29: 17869229 | N29: 43647 | O29: 45474 | P29: 3033173.8 | Q29: #VALUE!
A30: MISSISSIPPI | B30: 1.2394723e+09 | C30: 1.1686007e+09 | D30: 70871637 | E30: 21456851 | F30: 24088947 | G30: 2.94 | H30: 0.89 | I30: 1788070.9 | J30: 1 | K30: 69083566 | L30: 22693743 | M30: 10649269 | N30: 43647 | O30: 45474 | P30: 1988596.2 | Q30: #VALUE!
A31: KANSAS | B31: 675052951 | C31: 6.331926e+08 | D31: 41860350 | E31: 10031559 | F31: 14786581 | G31: 2.83 | H31: 0.68 | I31: 835963.23 | J31: 7 | K31: 36008607 | L31: 1755312.5 | M31: on track | N31: 43466 | O31: 45658 | P31: 640395.59 | Q31: #VALUE!
A32: COLORADO | B32: 3.9263422e+08 | C32: 3.6638982e+08 | D32: 26244397 | E32: 16882788 | F32: 9305817 | G32: 2.82 | H32: 1.81 | I32: 1406899 | J32: 0 | K32: 26244397 | L32: NA | M32: NA | N32: 43556 | O32: 45383 | P32: 613509.91 | Q32: #VALUE!
A33: CONNECTICUT | B33: 5.2832884e+08 | C33: 4.9018086e+08 | D33: 38147974 | E33: 21700267 | F33: 13880022 | G33: 2.75 | H33: 1.56 | I33: 1808355.6 | J33: 1 | K33: 36339619 | L33: 10387930 | M33: 3447919.3 | N33: 43647 | O33: 45474 | P33: 0 | Q33: #VALUE!
A34: TENNESSEE | B34: 1154905413 | C34: 1.0793921e+09 | D34: 75513338 | E34: 22934866 | F34: 27571438 | G34: 2.74 | H34: 0.83 | I34: 1911238.8 | J34: 1 | K34: 73602099 | L34: 20370462 | M34: 6584742.8 | N34: 43647 | O34: 45474 | P34: 1205224.3 | Q34: #VALUE!
A35: NEW HAMPSHIRE | B35: 346058940 | C35: 3.219051e+08 | D35: 24153841 | E35: 5275579.7 | F35: 9353201 | G35: 2.58 | H35: 0.56 | I35: 439631.64 | J35: 7 | K35: 21076420 | L35: 778205.6 | M35: on track | N35: 43831 | O35: 45658 | P35: 203791.08 | Q35: #VALUE!
A36: TEXAS | B36: 2.8793131e+09 | C36: 2.6986305e+09 | D36: 1.8068264e+08 | E36: 77931486 | F36: 70613641 | G36: 2.56 | H36: 1.1 | I36: 6494290.5 | J36: 3 | K36: 1.6119977e+08 | L36: 13151786 | M36: on track | N36: 44075 | O36: 45536 | P36: 4601892.1 | Q36: #VALUE!
A37: OREGON | B37: 5.4540968e+08 | C37: 5.1563825e+08 | D37: 29771434 | E37: 15411648 | F37: 11656242 | G37: 2.55 | H37: 1.32 | I37: 1284304 | J37: 7 | K37: 20781306 | L37: on track | M37: on track | N37: 43831 | O37: 45658 | P37: 287665 | Q37: #VALUE!
A38: WASHINGTON | B38: 522049097 | C38: 4.8909206e+08 | D38: 32957041 | E38: 15268940 | F38: 13105608 | G38: 2.51 | H38: 1.17 | I38: 1272411.7 | J38: 1 | K38: 31684630 | L38: 6745825.4 | M38: on track | N38: 43647 | O38: 45474 | P38: 824694.91 | Q38: #VALUE!
A39: MASSACHUSETTS | B39: 1.394383e+09 | C39: 1.3080778e+09 | D39: 86305212 | E39: 36145092 | F39: 34869850 | G39: 2.48 | H39: 1.04 | I39: 3012091 | J39: 0 | K39: 86305212 | L39: NA | M39: on track | N39: 43922 | O39: 45383 | P39: 2228079 | Q39: #VALUE!
A40: ALABAMA | B40: 1.0852751e+09 | C40: 1028782385 | D40: 56492720 | E40: 20798357 | F40: 22858857 | G40: 2.47 | H40: 0.91 | I40: 1733196.4 | J40: 0 | K40: 56492720 | L40: NA | M40: on track | N40: 43556 | O40: 45383 | P40: 1365640.7 | Q40: #VALUE!
A41: INDIANA | B41: 1.3097388e+09 | C41: 1.2370227e+09 | D41: 72716042 | E41: 26782843 | F41: 30738746 | G41: 2.37 | H41: 0.87 | I41: 2231903.6 | J41: 1 | K41: 70484138 | L41: 11238550 | M41: on track | N41: 43647 | O41: 45474 | P41: 2648045.9 | Q41: #VALUE!
A42: LOUISIANA | B42: 1205115490 | C42: 1.1525691e+09 | D42: 52546370 | E42: 25394264 | F42: 22499042 | G42: 2.34 | H42: 1.13 | I42: 2116188.6 | J42: 0 | K42: 52546370 | L42: NA | M42: on track | N42: 43922 | O42: 45383 | P42: 1569208.4 | Q42: #VALUE!
A43: IDAHO | B43: 3.4288781e+08 | C43: 3.2399027e+08 | D43: 18897544 | E43: 8664733.9 | F43: 8236180 | G43: 2.29 | H43: 1.05 | I43: 722061.16 | J43: 0 | K43: 18897544 | L43: NA | M43: on track | N43: 43556 | O43: 45383 | P43: 525850.76 | Q43: #VALUE!
A44: VERMONT | B44: 277600986 | C44: 2.6060712e+08 | D44: 16993862 | E44: 8338191.5 | F44: 7461397 | G44: 2.28 | H44: 1.12 | I44: 694849.3 | J44: 1 | K44: 16299013 | L44: 2071068 | M44: on track | N44: 43647 | O44: 45474 | P44: 1477946.4 | Q44: #VALUE!
A45: NEVADA | B45: 98701064 | C45: 92616233 | D45: 6084830.9 | E45: 4894836 | F45: 2898567 | G45: 2.1 | H45: 1.69 | I45: 407903 | J45: 1 | K45: 5676927.9 | L45: on track | M45: on track | N45: 43647 | O45: 45474 | P45: 108794.5 | Q45: #VALUE!
A46: OKLAHOMA | B46: 6.8538868e+08 | C46: 6.569559e+08 | D46: 28432777 | E46: 16804912 | F46: 13963452 | G46: 2.04 | H46: 1.2 | I46: 1400409.4 | J46: 0 | K46: 28432777 | L46: NA | M46: on track | N46: 43922 | O46: 45383 | P46: 681121.09 | Q46: #VALUE!
A47: OHIO | B47: 1.9401106e+09 | C47: 1.8480593e+09 | D47: 92051258 | E47: 41094610 | F47: 45492764 | G47: 2.02 | H47: 0.9 | I47: 3424550.8 | J47: 1 | K47: 88626707 | L47: on track | M47: on track | N47: 43647 | O47: 45474 | P47: 2591967.8 | Q47: #VALUE!
A48: ARIZONA | B48: 389160034 | C48: 3.6998633e+08 | D48: 19173707 | E48: 10458625 | F48: 10126728 | G48: 1.89 | H48: 1.03 | I48: 871552.09 | J48: 1 | K48: 18302155 | L48: on track | M48: on track | N48: 43647 | O48: 45474 | P48: 666106.45 | Q48: #VALUE!
A49: WISCONSIN | B49: 1082941284 | C49: 1.0319323e+09 | D49: 51009016 | E49: 25924294 | F49: 27168342 | G49: 1.88 | H49: 0.95 | I49: 2160357.9 | J49: 0 | K49: 51009016 | L49: on track | M49: on track | N49: 43922 | O49: 45383 | P49: 49690.98 | Q49: #VALUE!
A50: MAINE | B50: 497245980 | C50: 4.7519434e+08 | D50: 22051638 | E50: 11553955 | F50: 11808636 | G50: 1.87 | H50: 0.98 | I50: 962829.59 | J50: 7 | K50: 15311831 | L50: on track | M50: on track | N50: 43831 | O50: 45658 | P50: 813318.52 | Q50: #VALUE!
A51: UTAH | B51: 238203233 | C51: 2.2956936e+08 | D51: 8633876.3 | E51: 5541774.6 | F51: 5501208 | G51: 1.57 | H51: 1.01 | I51: 461814.55 | J51: 1 | K51: 8172061.8 | L51: on track | M51: on track | N51: 43647 | O51: 45474 | P51: 311727.29 | Q51: #VALUE!
A52: DELAWARE | B52: 75470621 | C52: 71849493 | D52: 3621127.9 | E52: 1878111.6 | F52: 2752623 | G52: 1.32 | H52: 0.68 | I52: 156509.3 | J52: 1 | K52: 3464618.6 | L52: on track | M52: on track | N52: 43647 | O52: 45474 | P52: 29789.1 | Q52: #VALUE!
A53: TOTALS: | B53: 4.3056918e+10 | C53: 3.9824807e+10 | D53: 3.2321113e+09 | E53: 9.3817216e+08 | F53: 981907757 | G53: 3.29 | H53: 0.96 | I53: 78181013 | P53: 64151161
D56: Number of states with unexpended balance greater than 2.5: | G56: 36
D57: Number of states with expenditure rate less than 1: | H57: 29

Sheet May'25
A1: Run Date: 05/30/2025 As of: 05/31/2025 | B1: 05/31/2025
A2: State Name | B2: Amount Of Open Grants | C2: Total Expended from Open Grants | D2: Total Unexpended from Open Grants | E2: Amount Expended Last 12 Months | F2: Most Recent Grant Amount | G2: Ratio Unexpended To Grant | H2: Ratio Expended Last 12 Months to Grant | I2: Avg monthly expenditure last 12 mos | J2: Months remaining to goal | K2: Projected bal 60 days before end of PY | L2: Monthly spending to reach 2x goal | M2: Monthly spending to reach 2.5x goal | N2: PY Start | O2: Current Pgm Yr start | P2: latest month's expenditure | Q2: Most Recent Grant Appeared in LOCCS
A3: FLORIDA | B3: 1.1399759e+09 | C3: 9.8713757e+08 | D3: 1.5283837e+08 | E3: 12325907 | F3: 24778539 | G3: 6.17 | H3: 0.5 | I3: 1027158.9 | J3: 0 | K3: 1.5283837e+08 | L3: NA | M3: NA | N3: 43647 | O3: 45474 | P3: 1806796.3 | Q3: #VALUE!
A4: WEST VIRGINIA | B4: 7.0869638e+08 | C4: 6.3611183e+08 | D4: 72584557 | E4: 12050253 | F4: 13833071 | G4: 5.25 | H4: 0.87 | I4: 1004187.8 | J4: 0 | K4: 72584557 | L4: NA | M4: NA | N4: 43647 | O4: 45474 | P4: 1109544.6 | Q4: #VALUE!
A5: NORTH CAROLINA | B5: 1.7885959e+09 | C5: 1.5463198e+09 | D5: 2.4227606e+08 | E5: 38728261 | F5: 46272979 | G5: 5.24 | H5: 0.84 | I5: 3227355.1 | J5: 5 | K5: 2.2613929e+08 | L5: 29946021 | M5: 25318723 | N5: 43831 | O5: 45658 | P5: 4006903.6 | Q5: #VALUE!
A6: MICHIGAN | B6: 1.4692429e+09 | C6: 1.2993957e+09 | D6: 1.6984717e+08 | E6: 12083225 | F6: 33073641 | G6: 5.14 | H6: 0.37 | I6: 1006935.4 | J6: 0 | K6: 1.6984717e+08 | L6: NA | M6: NA | N6: 43647 | O6: 45474 | P6: 3458255.6 | Q6: #VALUE!
A7: ILLINOIS | B7: 1.3362735e+09 | C7: 1.1944199e+09 | D7: 1.4185353e+08 | E7: 21984744 | F7: 29074134 | G7: 4.88 | H7: 0.76 | I7: 1832062 | J7: 5 | K7: 1.3269322e+08 | L7: 16741053 | M7: 13833639 | N7: 43831 | O7: 45658 | P7: 4735949.2 | Q7: #VALUE!
A8: WYOMING | B8: 1.2089976e+08 | C8: 1.0451982e+08 | D8: 16379936 | E8: 1213452.2 | F8: 3521015 | G8: 4.65 | H8: 0.34 | I8: 101121.02 | J8: 5 | K8: 15874331 | L8: 1867581.1 | M8: 1515479.6 | N8: 43831 | O8: 45658 | P8: 74762.38 | Q8: #VALUE!
A9: NEW MEXICO | B9: 493558716 | C9: 4.4772202e+08 | D9: 45836698 | E9: 7559331.5 | F9: 11038481 | G9: 4.15 | H9: 0.68 | I9: 629944.29 | J9: 5 | K9: 42686976 | L9: 4751947.1 | M9: 3648099 | N9: 43831 | O9: 45658 | P9: 606900.62 | Q9: #VALUE!
A10: MINNESOTA | B10: 853256279 | C10: 7.7803084e+08 | D10: 75225440 | E10: 18767228 | F10: 18836467 | G10: 3.99 | H10: 1 | I10: 1563935.7 | J10: 2 | K10: 72097568 | L10: 18776253 | M10: 14067136 | N10: 43739 | O10: 45566 | P10: 2072070.8 | Q10: #VALUE!
A11: NORTH DAKOTA | B11: 187480557 | C11: 1.7358477e+08 | D11: 13895788 | E11: 2604447.2 | F11: 3515583 | G11: 3.95 | H11: 0.74 | I11: 217037.27 | J11: 0 | K11: 13895788 | L11: NA | M11: NA | N11: 43647 | O11: 45474 | P11: 340530.55 | Q11: #VALUE!
A12: MONTANA | B12: 265120500 | C12: 2.4083375e+08 | D12: 24286746 | E12: 9352144.5 | F12: 6172506 | G12: 3.93 | H12: 1.52 | I12: 779345.37 | J12: 8 | K12: 18051983 | L12: 1492716.7 | M12: 1106935.1 | N12: 43922 | O12: 45748 | P12: 1062408.3 | Q12: #VALUE!
A13: PUERTO RICO | B13: 1945106991 | C13: 1.8592232e+09 | D13: 85883841 | E13: 21582346 | F13: 22131554 | G13: 3.88 | H13: 0.98 | I13: 1798528.8 | J13: 0 | K13: 85883841 | L13: NA | M13: NA | N13: 43647 | O13: 45474 | P13: 4524120.1 | Q13: #VALUE!
A14: KENTUCKY | B14: 1.1681423e+09 | C14: 1.0670696e+09 | D14: 1.0107266e+08 | E14: 17835564 | F14: 26355588 | G14: 3.83 | H14: 0.68 | I14: 1486297 | J14: 0 | K14: 1.0107266e+08 | L14: NA | M14: NA | N14: 43647 | O14: 45474 | P14: 3143867.7 | Q14: #VALUE!
A15: RHODE ISLAND | B15: 2.031847e+08 | C15: 1.8166075e+08 | D15: 21523944 | E15: 6319892.6 | F15: 5655134 | G15: 3.81 | H15: 1.12 | I15: 526657.71 | J15: 0 | K15: 21523944 | L15: NA | M15: NA | N15: 43647 | O15: 45474 | P15: 1896221.8 | Q15: #VALUE!
A16: VIRGINIA | B16: 794219275 | C16: 7.2379025e+08 | D16: 70429022 | E16: 14860269 | F16: 19107637 | G16: 3.69 | H16: 0.78 | I16: 1238355.7 | J16: 0 | K16: 70429022 | L16: NA | M16: NA | N16: 43647 | O16: 45474 | P16: 2191513.4 | Q16: #VALUE!
A17: CALIFORNIA | B17: 1.4384287e+09 | C17: 1.3278698e+09 | D17: 1.1055892e+08 | E17: 28321729 | F17: 30065955 | G17: 3.68 | H17: 0.94 | I17: 2360144.1 | J17: 0 | K17: 1.1055892e+08 | L17: NA | M17: NA | N17: 43647 | O17: 45474 | P17: 4481298.1 | Q17: #VALUE!
A18: NEBRASKA | B18: 5.0056523e+08 | C18: 4.6198374e+08 | D18: 38581491 | E18: 5750692.3 | F18: 10539100 | G18: 3.66 | H18: 0.55 | I18: 479224.36 | J18: 0 | K18: 38581491 | L18: NA | M18: NA | N18: 43647 | O18: 45474 | P18: 852146.5 | Q18: #VALUE!
A19: SOUTH CAROLINA | B19: 1.0224308e+09 | C19: 9.5284667e+08 | D19: 69584121 | E19: 25436439 | F19: 19809810 | G19: 3.51 | H19: 1.28 | I19: 2119703.3 | J19: 8 | K19: 52626495 | L19: 3745562.7 | M19: 2507449.6 | N19: 43922 | O19: 45748 | P19: 3121842 | Q19: #VALUE!
A20: ARKANSAS | B20: 8.0046432e+08 | C20: 7.3928226e+08 | D20: 61182066 | E20: 24022278 | F20: 17480755 | G20: 3.5 | H20: 1.37 | I20: 2001856.5 | J20: 0 | K20: 61182066 | L20: NA | M20: NA | N20: 43647 | O20: 45474 | P20: 5243579.2 | Q20: #VALUE!
A21: NEW JERSEY | B21: 3.0055106e+08 | C21: 2.7796384e+08 | D21: 22587220 | E21: 10645295 | F21: 6730317 | G21: 3.36 | H21: 1.58 | I21: 887107.91 | J21: 0 | K21: 22587220 | L21: NA | M21: NA | N21: 43647 | O21: 45474 | P21: 258743.51 | Q21: #VALUE!
A22: ALASKA | B22: 104394118 | C22: 95605786 | D22: 8788332.1 | E22: 1636844.8 | F22: 2677355 | G22: 3.28 | H22: 0.61 | I22: 136403.73 | J22: 0 | K22: 8788332.1 | L22: NA | M22: NA | N22: 43647 | O22: 45474 | P22: 286062.01 | Q22: #VALUE!
A23: SOUTH DAKOTA | B23: 254239457 | C23: 2.3572648e+08 | D23: 18512975 | E23: 4473934.1 | F23: 5680880 | G23: 3.26 | H23: 0.79 | I23: 372827.84 | J23: 5 | K23: 16648835 | L23: 1430242.9 | M23: 862154.93 | N23: 43831 | O23: 45658 | P23: 344154.89 | Q23: #VALUE!
A24: MISSOURI | B24: 1010324720 | C24: 9.3553695e+08 | D24: 74787774 | E24: 28993923 | F24: 23059848 | G24: 3.24 | H24: 1.26 | I24: 2416160.2 | J24: 8 | K24: 55458492 | L24: 3583509.8 | M24: on track | N24: 43922 | O24: 45748 | P24: 2227616.5 | Q24: #VALUE!
A25: PENNSYLVANIA | B25: 2.0010648e+09 | C25: 1.878238e+09 | D25: 1.2282689e+08 | E25: 37911895 | F25: 40779947 | G25: 3.01 | H25: 0.93 | I25: 3159324.6 | J25: 5 | K25: 1.0703026e+08 | L25: 8253398.7 | M25: 4175404 | N25: 43831 | O25: 45658 | P25: 4294538 | Q25: #VALUE!
A26: IOWA | B26: 1059732308 | C26: 9.8919065e+08 | D26: 70541655 | E26: 19270479 | F26: 24168777 | G26: 2.92 | H26: 0.8 | I26: 1605873.2 | J26: 5 | K26: 62512289 | L26: 4440820.1 | M26: 2023942.4 | N26: 43831 | O26: 45658 | P26: 3987153.8 | Q26: #VALUE!
A27: NEW YORK | B27: 1.2287777e+09 | C27: 1.0899893e+09 | D27: 1.3878838e+08 | E27: 49901914 | F27: 47456120 | G27: 2.92 | H27: 1.05 | I27: 4158492.8 | J27: 5 | K27: 1.1799592e+08 | L27: 8775228.8 | M27: on track | N27: 43831 | O27: 45658 | P27: 4784226.5 | Q27: #VALUE!
A28: MISSISSIPPI | B28: 1.2394723e+09 | C28: 1.1706974e+09 | D28: 68774933 | E28: 21741708 | F28: 24088947 | G28: 2.86 | H28: 0.9 | I28: 1811809 | J28: 0 | K28: 68774933 | L28: NA | M28: NA | N28: 43647 | O28: 45474 | P28: 2096703.5 | Q28: #VALUE!
A29: GEORGIA | B29: 1.6422976e+09 | C29: 1.527178e+09 | D29: 1.1511958e+08 | E29: 35358889 | F29: 40984884 | G29: 2.81 | H29: 0.86 | I29: 2946574.1 | J29: 0 | K29: 1.1511958e+08 | L29: NA | M29: NA | N29: 43647 | O29: 45474 | P29: 5211854.9 | Q29: #VALUE!
A30: MARYLAND | B30: 3.1444639e+08 | C30: 2.9108966e+08 | D30: 23356728 | E30: 8843373.1 | F30: 8369791 | G30: 2.79 | H30: 1.06 | I30: 736947.76 | J30: 0 | K30: 23356728 | L30: NA | M30: NA | N30: 43647 | O30: 45474 | P30: 1625751.8 | Q30: #VALUE!
A31: COLORADO | B31: 3.9263422e+08 | C31: 3.6685217e+08 | D31: 25782046 | E31: 15461438 | F31: 9305817 | G31: 2.77 | H31: 1.66 | I31: 1288453.2 | J31: 8 | K31: 15474421 | L31: on track | M31: on track | N31: 43556 | O31: 45748 | P31: 462350.98 | Q31: #VALUE!
A32: KANSAS | B32: 675052951 | C32: 6.3417103e+08 | D32: 40881923 | E32: 9666488.6 | F32: 14786581 | G32: 2.76 | H32: 0.65 | I32: 805540.72 | J32: 5 | K32: 36854219 | L32: 2261752.2 | M32: on track | N32: 43466 | O32: 45658 | P32: 978427.03 | Q32: #VALUE!
A33: CONNECTICUT | B33: 5.2832884e+08 | C33: 4.9018086e+08 | D33: 38147974 | E33: 18566202 | F33: 13880022 | G33: 2.75 | H33: 1.34 | I33: 1547183.5 | J33: 0 | K33: 38147974 | L33: NA | M33: NA | N33: 43647 | O33: 45474 | P33: 0 | Q33: #VALUE!
A34: TENNESSEE | B34: 1154905413 | C34: 1.0831056e+09 | D34: 71799814 | E34: 20888840 | F34: 27571438 | G34: 2.6 | H34: 0.76 | I34: 1740736.7 | J34: 0 | K34: 71799814 | L34: NA | M34: NA | N34: 43647 | O34: 45474 | P34: 3713523.4 | Q34: #VALUE!
A35: NEW HAMPSHIRE | B35: 346058940 | C35: 3.2289629e+08 | D35: 23162649 | E35: 5222195.4 | F35: 9353201 | G35: 2.48 | H35: 0.56 | I35: 435182.95 | J35: 5 | K35: 20986735 | L35: 891249.49 | M35: on track | N35: 43831 | O35: 45658 | P35: 991191.76 | Q35: #VALUE!
A36: WASHINGTON | B36: 522049097 | C36: 4.908608e+08 | D36: 31188295 | E36: 14349249 | F36: 13105608 | G36: 2.38 | H36: 1.09 | I36: 1195770.7 | J36: 0 | K36: 31188295 | L36: NA | M36: on track | N36: 43647 | O36: 45474 | P36: 1768746.3 | Q36: #VALUE!
A37: OREGON | B37: 5.4540968e+08 | C37: 5.1791201e+08 | D37: 27497673 | E37: 15810035 | F37: 11656242 | G37: 2.36 | H37: 1.36 | I37: 1317502.9 | J37: 5 | K37: 20910159 | L37: on track | M37: on track | N37: 43831 | O37: 45658 | P37: 2273760.9 | Q37: #VALUE!
A38: TEXAS | B38: 2.8793131e+09 | C38: 2.7125273e+09 | D38: 1.6678584e+08 | E38: 75485181 | F38: 70613641 | G38: 2.36 | H38: 1.07 | I38: 6290431.8 | J38: 1 | K38: 1.6049541e+08 | L38: 25558560 | M38: on track | N38: 44075 | O38: 45536 | P38: 13896800 | Q38: #VALUE!
A39: ALABAMA | B39: 1.0852751e+09 | C39: 1.0336446e+09 | D39: 51630513 | E39: 21958927 | F39: 22858857 | G39: 2.26 | H39: 0.96 | I39: 1829910.6 | J39: 8 | K39: 36991228 | L39: on track | M39: on track | N39: 43556 | O39: 45748 | P39: 4862206.8 | Q39: #VALUE!
A40: MASSACHUSETTS | B40: 1.394383e+09 | C40: 1.315441e+09 | D40: 78941967 | E40: 39862753 | F40: 34869850 | G40: 2.26 | H40: 1.14 | I40: 3321896.1 | J40: 8 | K40: 52366799 | L40: on track | M40: on track | N40: 43922 | O40: 45748 | P40: 7363245 | Q40: #VALUE!
A41: IDAHO | B41: 3.4288781e+08 | C41: 3.2451248e+08 | D41: 18375332 | E41: 8032987 | F41: 8236180 | G41: 2.23 | H41: 0.98 | I41: 669415.58 | J41: 8 | K41: 13020007 | L41: on track | M41: on track | N41: 43556 | O41: 45748 | P41: 522212.04 | Q41: #VALUE!
A42: LOUISIANA | B42: 1205115490 | C42: 1.1557082e+09 | D42: 49407285 | E42: 24722787 | F42: 22499042 | G42: 2.2 | H42: 1.1 | I42: 2060232.3 | J42: 8 | K42: 32925427 | L42: on track | M42: on track | N42: 43922 | O42: 45748 | P42: 3139085.5 | Q42: #VALUE!
A43: INDIANA | B43: 1.3097388e+09 | C43: 1.2423102e+09 | D43: 67428559 | E43: 27030469 | F43: 30738746 | G43: 2.19 | H43: 0.88 | I43: 2252539.1 | J43: 0 | K43: 67428559 | L43: NA | M43: on track | N43: 43647 | O43: 45474 | P43: 5287483.2 | Q43: #VALUE!
A44: NEVADA | B44: 98701064 | C44: 92635619 | D44: 6065445.4 | E44: 3609678 | F44: 2898567 | G44: 2.09 | H44: 1.25 | I44: 300806.5 | J44: 0 | K44: 6065445.4 | L44: NA | M44: on track | N44: 43647 | O44: 45474 | P44: 19385.5 | Q44: #VALUE!
A45: OKLAHOMA | B45: 6.8538868e+08 | C45: 6.5839426e+08 | D45: 26994412 | E45: 17113753 | F45: 13963452 | G45: 1.93 | H45: 1.23 | I45: 1426146.1 | J45: 8 | K45: 15585243 | L45: on track | M45: on track | N45: 43922 | O45: 45748 | P45: 1438365.1 | Q45: #VALUE!
A46: OHIO | B46: 1.9401106e+09 | C46: 1.853763e+09 | D46: 86347563 | E46: 41031460 | F46: 45492764 | G46: 1.9 | H46: 0.9 | I46: 3419288.3 | J46: 0 | K46: 86347563 | L46: on track | M46: on track | N46: 43647 | O46: 45474 | P46: 5703695.5 | Q46: #VALUE!
A47: WISCONSIN | B47: 1082941284 | C47: 1.033522e+09 | D47: 49419317 | E47: 26849535 | F47: 27168342 | G47: 1.82 | H47: 0.99 | I47: 2237461.3 | J47: 8 | K47: 31519627 | L47: on track | M47: on track | N47: 43922 | O47: 45748 | P47: 1589699.6 | Q47: #VALUE!
A48: VERMONT | B48: 277600986 | C48: 2.6425809e+08 | D48: 13342897 | E48: 10769527 | F48: 7461397 | G48: 1.79 | H48: 1.44 | I48: 897460.55 | J48: 0 | K48: 13342897 | L48: on track | M48: on track | N48: 43647 | O48: 45474 | P48: 3650965 | Q48: #VALUE!
A49: MAINE | B49: 497245980 | C49: 4.7681949e+08 | D49: 20426487 | E49: 10458091 | F49: 11808636 | G49: 1.73 | H49: 0.89 | I49: 871507.6 | J49: 5 | K49: 16068949 | L49: on track | M49: on track | N49: 43831 | O49: 45658 | P49: 1625151.4 | Q49: #VALUE!
A50: ARIZONA | B50: 389160034 | C50: 3.7236136e+08 | D50: 16798678 | E50: 11628531 | F50: 10126728 | G50: 1.66 | H50: 1.15 | I50: 969044.27 | J50: 0 | K50: 16798678 | L50: on track | M50: on track | N50: 43647 | O50: 45474 | P50: 2375029.2 | Q50: #VALUE!
... A52: DELAWARE | B52: 75470621 | C52: 72247587 | D52: 3223034 | E52: 1795500.5 | F52: 2752623 | G52: 1.17 | H52: 0.65 | I52: 149625.04 | J52: 0 | K52: 3223034 | L52: on track | M52: on track | N52: 43647 | O52: 45474 | P52: 398093.86 | Q52: #VALUE!
A53: TOTALS: | B53: 4.3056918e+10 | C53: 3.9956712e+10 | D53: 3.1002064e+09 | E53: 9.2450976e+08 | F53: 981907757 | G53: 3.16 | H53: 0.94 | I53: 77042480 | P53: 1.3190493e+08
D56: Number of states with unexpended balance greater than 2.5: | G56: 32
D57: Number of states with expenditure rate less than 1: | H57: 30

Sheet Jun'25
A1: Run Date: 06/30/2025 As of: 06/30/2025 | B1: 06/30/2025
A2: State Name | B2: Amount Of Open Grants | C2: Total Expended from Open Grants | D2: Total Unexpended from Open Grants | E2: Amount Expended Last 12 Months | F2: Most Recent Grant Amount | G2: Ratio Unexpended To Grant | H2: Ratio Expended Last 12 Months to Grant | I2: Avg monthly expenditure last 12 mos | J2: Months remaining to goal | K2: Projected bal 60 days before end of PY | L2: Monthly spending to reach 2x goal | M2: Monthly spending to reach 2.5x goal | N2: PY Start | O2: Current Pgm Yr start | P2: latest month's expenditure | Q2: Most Recent Grant Appeared in LOCCS
A3: FLORIDA | B3: 1.1399759e+09 | C3: 9.8874049e+08 | D3: 1.5123545e+08 | E3: 13130164 | F3: 24778539 | G3: 6.1 | H3: 0.53 | I3: 1094180.3 | J3: 0 | K3: 1.5123545e+08 | L3: NA | M3: NA | N3: 43647 | O3: 45474 | P3: 1602918.5 | Q3: #VALUE!
A4: WEST VIRGINIA | B4: 7.0869638e+08 | C4: 6.3676093e+08 | D4: 71935456 | E4: 11807144 | F4: 13833071 | G4: 5.2 | H4: 0.85 | I4: 983928.66 | J4: 0 | K4: 71935456 | L4: NA | M4: NA | N4: 43647 | O4: 45474 | P4: 649100.4 | Q4: #VALUE!
A5: NORTH CAROLINA | B5: 1.7885959e+09 | C5: 1.5512823e+09 | D5: 2.3731359e+08 | E5: 40561968 | F5: 46272979 | G5: 5.13 | H5: 0.88 | I5: 3380164 | J5: 4 | K5: 2.2379293e+08 | L5: 36191908 | M5: 30407786 | N5: 43831 | O5: 45658 | P5: 4962474.9 | Q5: #VALUE!
A6: MICHIGAN | B6: 1.4692429e+09 | C6: 1.3019328e+09 | D6: 1.6731003e+08 | E6: 13625651 | F6: 33073641 | G6: 5.06 | H6: 0.41 | I6: 1135470.9 | J6: 0 | K6: 1.6731003e+08 | L6: NA | M6: NA | N6: 43647 | O6: 45474 | P6: 2537133.7 | Q6: #VALUE!
A7: ILLINOIS | B7: 1.3362735e+09 | C7: 1.2016087e+09 | D7: 1.3466476e+08 | E7: 27967829 | F7: 29074134 | G7: 4.63 | H7: 0.96 | I7: 2330652.4 | J7: 4 | K7: 1.2534215e+08 | L7: 19129122 | M7: 15494855 | N7: 43831 | O7: 45658 | P7: 7188774.9 | Q7: #VALUE!
A8: WYOMING | B8: 1.2089976e+08 | C8: 1.046008e+08 | D8: 16298956 | E8: 1077058 | F8: 3521015 | G8: 4.63 | H8: 0.31 | I8: 89754.836 | J8: 4 | K8: 15939936 | L8: 2314231.4 | M8: 1874104.6 | N8: 43831 | O8: 45658 | P8: 80979.99 | Q8: #VALUE!
A9: NEW MEXICO | B9: 493558716 | C9: 4.4938462e+08 | D9: 44174096 | E9: 8085135.5 | F9: 11038481 | G9: 4 | H9: 0.73 | I9: 673761.29 | J9: 4 | K9: 41479051 | L9: 5524283.6 | M9: 4144473.5 | N9: 43831 | O9: 45658 | P9: 1662601.1 | Q9: #VALUE!
A10: MINNESOTA | B10: 853256279 | C10: 7.7845221e+08 | D10: 74804067 | E10: 17445935 | F10: 18836467 | G10: 3.97 | H10: 0.93 | I10: 1453827.9 | J10: 1 | K10: 73350239 | L10: 37131133 | M10: 27712900 | N10: 43739 | O10: 45566 | P10: 421372.28 | Q10: #VALUE!
A11: NORTH DAKOTA | B11: 187480557 | C11: 1.7379635e+08 | D11: 13684209 | E11: 2656732.9 | F11: 3515583 | G11: 3.89 | H11: 0.76 | I11: 221394.41 | J11: 0 | K11: 13684209 | L11: NA | M11: NA | N11: 43647 | O11: 45474 | P11: 211579.43 | Q11: #VALUE!
A12: PUERTO RICO | B12: 1945106991 | C12: 1.8602861e+09 | D12: 84820866 | E12: 20360770 | F12: 22131554 | G12: 3.83 | H12: 0.92 | I12: 1696730.9 | J12: 0 | K12: 84820866 | L12: NA | M12: NA | N12: 43647 | O12: 45474 | P12: 1062974.5 | Q12: #VALUE!
A13: KENTUCKY | B13: 1.1681423e+09 | C13: 1.0678183e+09 | D13: 1.0032396e+08 | E13: 16494272 | F13: 26355588 | G13: 3.81 | H13: 0.63 | I13: 1374522.7 | J13: 0 | K13: 1.0032396e+08 | L13: NA | M13: NA | N13: 43647 | O13: 45474 | P13: 748704 | Q13: #VALUE!
A14: RHODE ISLAND | B14: 2.031847e+08 | C14: 1.8174103e+08 | D14: 21443666 | E14: 6400170.6 | F14: 5655134 | G14: 3.79 | H14: 1.13 | I14: 533347.55 | J14: 0 | K14: 21443666 | L14: NA | M14: NA | N14: 43647 | O14: 45474 | P14: 80278.03 | Q14: #VALUE!
A15: MONTANA | B15: 265120500 | C15: 2.425763e+08 | D15: 22544195 | E15: 10950235 | F15: 6172506 | G15: 3.65 | H15: 1.77 | I15: 912519.58 | J15: 7 | K15: 16156558 | L15: 1457026.2 | M15: 1016132.9 | N15: 43922 | O15: 45748 | P15: 1742550.5 | Q15: #VALUE!
A16: CALIFORNIA | B16: 1.4384287e+09 | C16: 1.3289468e+09 | D16: 1.0948197e+08 | E16: 29056588 | F16: 30065955 | G16: 3.64 | H16: 0.97 | I16: 2421382.3 | J16: 0 | K16: 1.0948197e+08 | L16: NA | M16: NA | N16: 43647 | O16: 45474 | P16: 1076944 | Q16: #VALUE!
A17: NEBRASKA | B17: 5.0056523e+08 | C17: 4.6230018e+08 | D17: 38265045 | E17: 5521083 | F17: 10539100 | G17: 3.63 | H17: 0.52 | I17: 460090.25 | J17: 0 | K17: 38265045 | L17: NA | M17: NA | N17: 43647 | O17: 45474 | P17: 316445.81 | Q17: #VALUE!
A18: VIRGINIA | B18: 794219275 | C18: 7.2482287e+08 | D18: 69396402 | E18: 13213975 | F18: 19107637 | G18: 3.63 | H18: 0.69 | I18: 1101164.6 | J18: 0 | K18: 69396402 | L18: NA | M18: NA | N18: 43647 | O18: 45474 | P18: 1032620.7 | Q18: #VALUE!
A19: ARKANSAS | B19: 8.0046432e+08 | C19: 7.4043398e+08 | D19: 60030344 | E19: 23556610 | F19: 17480755 | G19: 3.43 | H19: 1.35 | I19: 1963050.8 | J19: 0 | K19: 60030344 | L19: NA | M19: NA | N19: 43647 | O19: 45474 | P19: 1151722.4 | Q19: #VALUE!
A20: SOUTH CAROLINA | B20: 1.0224308e+09 | C20: 9.5546832e+08 | D20: 66962473 | E20: 25142184 | F20: 19809810 | G20: 3.38 | H20: 1.27 | I20: 2095182 | J20: 7 | K20: 52296199 | L20: 3906121.9 | M20: 2491135.5 | N20: 43922 | O20: 45748 | P20: 2621648.2 | Q20: #VALUE!
A21: NEW JERSEY | B21: 3.0055106e+08 | C21: 2.7810543e+08 | D21: 22445636 | E21: 7089002.2 | F21: 6730317 | G21: 3.34 | H21: 1.05 | I21: 590750.18 | J21: 0 | K21: 22445636 | L21: NA | M21: NA | N21: 43647 | O21: 45474 | P21: 141583.5 | Q21: #VALUE!
A22: ALASKA | B22: 104394118 | C22: 95624069 | D22: 8770049 | E22: 1438228.8 | F22: 2677355 | G22: 3.28 | H22: 0.54 | I22: 119852.4 | J22: 0 | K22: 8770049 | L22: NA | M22: NA | N22: 43647 | O22: 45474 | P22: 18283.12 | Q22: #VALUE!
A23: MISSOURI | B23: 1010324720 | C23: 9.3724326e+08 | D23: 73081461 | E23: 28593540 | F23: 23059848 | G23: 3.17 | H23: 1.24 | I23: 2382795 | J23: 7 | K23: 56401896 | L23: 3851680.7 | M23: on track | N23: 43922 | O23: 45748 | P23: 1706313 | Q23: #VALUE!
A24: SOUTH DAKOTA | B24: 254239457 | C24: 2.366122e+08 | D24: 17627253 | E24: 4886404.6 | F24: 5680880 | G24: 3.1 | H24: 0.86 | I24: 407200.38 | J24: 4 | K24: 15998452 | L24: 1566373.3 | M24: 856263.33 | N24: 43831 | O24: 45658 | P24: 885721.33 | Q24: #VALUE!
A25: PENNSYLVANIA | B25: 2.0010648e+09 | C25: 1.8812797e+09 | D25: 1.1978511e+08 | E25: 38346663 | F25: 40779947 | G25: 2.94 | H25: 0.94 | I25: 3195555.3 | J25: 4 | K25: 1.0700289e+08 | L25: 9556304.9 | M25: 4458811.6 | N25: 43831 | O25: 45658 | P25: 3041773.9 | Q25: #VALUE!
A26: NEW YORK | B26: 1.2287777e+09 | C26: 1.0922102e+09 | D26: 1.3656751e+08 | E26: 43525065 | F26: 47456120 | G26: 2.88 | H26: 0.92 | I26: 3627088.8 | J26: 4 | K26: 1.2205915e+08 | L26: 10413817 | M26: 4481801.6 | N26: 43831 | O26: 45658 | P26: 2220877.4 | Q26: #VALUE!
A27: IOWA | B27: 1059732308 | C27: 9.915753e+08 | D27: 68157008 | E27: 19556757 | F27: 24168777 | G27: 2.82 | H27: 0.81 | I27: 1629729.7 | J27: 4 | K27: 61638089 | L27: 4954863.4 | M27: 1933766.3 | N27: 43831 | O27: 45658 | P27: 2384647 | Q27: #VALUE!
A28: COLORADO | B28: 3.9263422e+08 | C28: 3.6685217e+08 | D28: 25782046 | E28: 13921196 | F28: 9305817 | G28: 2.77 | H28: 1.5 | I28: 1160099.7 | J28: 7 | K28: 17661348 | L28: on track | M28: on track | N28: 43556 | O28: 45748 | P28: 0 | Q28: #VALUE!
A29: MISSISSIPPI | B29: 1.2394723e+09 | C29: 1.1728319e+09 | D29: 66640412 | E29: 19264882 | F29: 24088947 | G29: 2.77 | H29: 0.8 | I29: 1605406.8 | J29: 0 | K29: 66640412 | L29: NA | M29: NA | N29: 43647 | O29: 45474 | P29: 2134521.6 | Q29: #VALUE!
A30: KANSAS | B30: 675052951 | C30: 6.3417103e+08 | D30: 40881923 | E30: 8400941.9 | F30: 14786581 | G30: 2.76 | H30: 0.57 | I30: 700078.49 | J30: 4 | K30: 38081609 | L30: 2827190.2 | M30: 978867.56 | N30: 43466 | O30: 45658 | P30: 0 | Q30: #VALUE!
A31: GEORGIA | B31: 1.6422976e+09 | C31: 1.5313873e+09 | D31: 1.1091029e+08 | E31: 34518514 | F31: 40984884 | G31: 2.71 | H31: 0.84 | I31: 2876542.8 | J31: 0 | K31: 1.1091029e+08 | L31: NA | M31: NA | N31: 43647 | O31: 45474 | P31: 4209298.1 | Q31: #VALUE!
A32: MARYLAND | B32: 3.1444639e+08 | C32: 2.9198233e+08 | D32: 22464059 | E32: 9482162.6 | F32: 8369791 | G32: 2.68 | H32: 1.13 | I32: 790180.22 | J32: 0 | K32: 22464059 | L32: NA | M32: NA | N32: 43647 | O32: 45474 | P32: 892669.57 | Q32: #VALUE!
A33: CONNECTICUT | B33: 5.2832884e+08 | C33: 4.9198017e+08 | D33: 36348669 | E33: 14511099 | F33: 13880022 | G33: 2.62 | H33: 1.05 | I33: 1209258.2 | J33: 0 | K33: 36348669 | L33: NA | M33: NA | N33: 43647 | O33: 45474 | P33: 1799305.2 | Q33: #VALUE!
A34: TENNESSEE | B34: 1154905413 | C34: 1.0849995e+09 | D34: 69905883 | E34: 21800085 | F34: 27571438 | G34: 2.54 | H34: 0.79 | I34: 1816673.7 | J34: 0 | K34: 69905883 | L34: NA | M34: NA | N34: 43647 | O34: 45474 | P34: 1893931.5 | Q34: #VALUE!
A35: NEW HAMPSHIRE | B35: 346058940 | C35: 3.2311366e+08 | D35: 22945281 | E35: 5280533.4 | F35: 9353201 | G35: 2.45 | H35: 0.56 | I35: 440044.45 | J35: 4 | K35: 21185104 | L35: 1059719.9 | M35: on track | N35: 43831 | O35: 45658 | P35: 217368.03 | Q35: #VALUE!
A36: WASHINGTON | B36: 522049097 | C36: 4.9153959e+08 | D36: 30509508 | E36: 13771523 | F36: 13105608 | G36: 2.33 | H36: 1.05 | I36: 1147626.9 | J36: 0 | K36: 30509508 | L36: NA | M36: on track | N36: 43647 | O36: 45474 | P36: 678787.21 | Q36: #VALUE!
A37: OREGON | B37: 5.4540968e+08 | C37: 5.1859556e+08 | D37: 26814119 | E37: 13485536 | F37: 11656242 | G37: 2.3 | H37: 1.16 | I37: 1123794.7 | J37: 4 | K37: 22318940 | L37: on track | M37: on track | N37: 43831 | O37: 45658 | P37: 683554 | Q37: #VALUE!
A38: TEXAS | B38: 2.8793131e+09 | C38: 2.7187204e+09 | D38: 1.6059274e+08 | E38: 75837286 | F38: 70613641 | G38: 2.27 | H38: 1.07 | I38: 6319773.8 | J38: 0 | K38: 1.6059274e+08 | L38: NA | M38: on track | N38: 44075 | O38: 45536 | P38: 6193105.5 | Q38: #VALUE!
A39: ALABAMA | B39: 1.0852751e+09 | C39: 1.0352809e+09 | D39: 49994211 | E39: 22616364 | F39: 22858857 | G39: 2.19 | H39: 0.99 | I39: 1884697 | J39: 7 | K39: 36801332 | L39: on track | M39: on track | N39: 43556 | O39: 45748 | P39: 1636301.9 | Q39: #VALUE!
A40: LOUISIANA | B40: 1205115490 | C40: 1.1566751e+09 | D40: 48440429 | E40: 25025715 | F40: 22499042 | G40: 2.15 | H40: 1.11 | I40: 2085476.2 | J40: 7 | K40: 33842095 | L40: on track | M40: on track | N40: 43922 | O40: 45748 | P40: 966856.26 | Q40: #VALUE!
A41: IDAHO | B41: 3.4288781e+08 | C41: 3.2525349e+08 | D41: 17634323 | E41: 7727607.9 | F41: 8236180 | G41: 2.14 | H41: 0.94 | I41: 643967.32 | J41: 7 | K41: 13126552 | L41: on track | M41: on track | N41: 43556 | O41: 45748 | P41: 741009.06 | Q41: #VALUE!
A42: MASSACHUSETTS | B42: 1.394383e+09 | C42: 1.3199467e+09 | D42: 74436258 | E42: 39721467 | F42: 34869850 | G42: 2.13 | H42: 1.14 | I42: 3310122.2 | J42: 7 | K42: 51265403 | L42: on track | M42: on track | N42: 43922 | O42: 45748 | P42: 4505709 | Q42: #VALUE!
A43: INDIANA | B43: 1.3097388e+09 | C43: 1.2450448e+09 | D43: 64693947 | E43: 26643363 | F43: 30738746 | G43: 2.1 | H43: 0.87 | I43: 2220280.2 | J43: 0 | K43: 64693947 | L43: NA | M43: on track | N43: 43647 | O43: 45474 | P43: 2734612.2 | Q43: #VALUE!
A44: NEVADA | B44: 98701064 | C44: 92876792 | D44: 5824272.1 | E44: 3182869.6 | F44: 2898567 | G44: 2.01 | H44: 1.1 | I44: 265239.14 | J44: 0 | K44: 5824272.1 | L44: NA | M44: on track | N44: 43647 | O44: 45474 | P44: 241173.3 | Q44: #VALUE!
A45: OHIO | B45: 1.9401106e+09 | C45: 1.8557007e+09 | D45: 84409916 | E45: 41478362 | F45: 45492764 | G45: 1.86 | H45: 0.91 | I45: 3456530.2 | J45: 0 | K45: 84409916 | L45: on track | M45: on track | N45: 43647 | O45: 45474 | P45: 1937646.4 | Q45: #VALUE!
A46: OKLAHOMA | B46: 6.8538868e+08 | C46: 6.5964709e+08 | D46: 25741589 | E46: 17221744 | F46: 13963452 | G46: 1.84 | H46: 1.23 | I46: 1435145.4 | J46: 7 | K46: 15695571 | L46: on track | M46: on track | N46: 43922 | O46: 45748 | P46: 1252822.9 | Q46: #VALUE!
A47: WISCONSIN | B47: 1082941284 | C47: 1.033522e+09 | D47: 49419317 | E47: 23888876 | F47: 27168342 | G47: 1.82 | H47: 0.88 | I47: 1990739.7 | J47: 7 | K47: 35484139 | L47: on track | M47: on track | N47: 43922 | O47: 45748 | P47: 0 | Q47: #VALUE!
... A52: DELAWARE | B52: 75470621 | C52: 72956158 | D52: 2514462.8 | E52: 2450323.1 | F52: 2752623 | G52: 0.91 | H52: 0.89 | I52: 204193.59 | J52: 0 | K52: 2514462.8 | L52: on track | M52: on track | N52: 43647 | O52: 45474 | P52: 708571.28 | Q52: #VALUE!
A53: TOTALS: | B53: 4.3056918e+10 | C53: 4.0033313e+10 | D53: 3.0236047e+09 | E53: 9.0914852e+08 | F53: 981907757 | G53: 3.08 | H53: 0.93 | I53: 75762376 | P53: 76601742
D56: Number of states with unexpended balance greater than 2.5: | G56: 32
D57: Number of states with expenditure rate less than 1: | H57: 31

Sheet Jul'25
A1: Run Date: 07/31/2025 As of: 07/31/2025 | B1: 07/31/2025
A2: State Name | B2: Amount Of Open Grants | C2: Total Expended from Open Grants | D2: Total Unexpended from Open Grants | E2: Amount Expended Last 12 Months | F2: Most Recent Grant Amount | G2: Ratio Unexpended To Grant | H2: Ratio Expended Last 12 Months to Grant | I2: Avg monthly expenditure last 12 mos | J2: Months remaining to goal | K2: Projected bal 60 days before end of PY | L2: Monthly spending to reach 2x goal | M2: Monthly spending to reach 2.5x goal | N2: PY Start | O2: Current Pgm Yr start | P2: latest month's expenditure | Q2: Most Recent Grant Appeared in LOCCS
A3: FLORIDA | B3: 1.1399759e+09 | C3: 9.8955239e+08 | D3: 1.5042354e+08 | E3: 12657106 | F3: 24778539 | G3: 6.07 | H3: 0.51 | I3: 1054758.8 | J3: 9 | K3: 1.4093071e+08 | L3: 11207385 | M3: 9830799.6 | N3: 43647 | O3: 45839 | P3: 811907.21 | Q3: #VALUE!
A4: WEST VIRGINIA | B4: 7.0869638e+08 | C4: 6.3897799e+08 | D4: 69718392 | E4: 12280601 | F4: 13833071 | G4: 5.04 | H4: 0.89 | I4: 1023383.4 | J4: 9 | K4: 60507941 | L4: 4672472.3 | M4: 3903968.3 | N4: 43647 | O4: 45839 | P4: 2217063.9 | Q4: #VALUE!
A5: MICHIGAN | B5: 1.4692429e+09 | C5: 1.3037076e+09 | D5: 1.6553522e+08 | E5: 12407952 | F5: 33073641 | G5: 5.01 | H5: 0.38 | I5: 1033996 | J5: 9 | K5: 1.5622926e+08 | L5: 11043105 | M5: 9205680 | N5: 43647 | O5: 45839 | P5: 1774810 | Q5: #VALUE!
A6: NORTH CAROLINA | B6: 1.7885959e+09 | C6: 1.5567838e+09 | D6: 2.318121e+08 | E6: 43467327 | F6: 46272979 | G6: 5.01 | H6: 0.94 | I6: 3622277.3 | J6: 3 | K6: 2.2094527e+08 | L6: 46422048 | M6: 38709885 | N6: 43831 | O6: 45658 | P6: 5501487.4 | Q6: #VALUE!
A7: ILLINOIS | B7: 1.3362735e+09 | C7: 1.2032903e+09 | D7: 1.3298319e+08 | E7: 28067388 | F7: 29074134 | G7: 4.57 | H7: 0.97 | I7: 2338949 | J7: 3 | K7: 1.2596634e+08 | L7: 24944974 | M7: 20099285 | N7: 43831 | O7: 45658 | P7: 1681565.5 | Q7: #VALUE!
A8: WYOMING | B8: 1.2089976e+08 | C8: 1.0517551e+08 | D8: 15724248 | E8: 1412406.8 | F8: 3521015 | G8: 4.47 | H8: 0.4 | I8: 117700.56 | J8: 3 | K8: 15371146 | L8: 2894072.6 | M8: 2307236.8 | N8: 43831 | O8: 45658 | P8: 574707.97 | Q8: #VALUE!
A9: MINNESOTA | B9: 853256279 | C9: 7.7923023e+08 | D9: 74026046 | E9: 15834276 | F9: 18836467 | G9: 3.93 | H9: 0.84 | I9: 1319523 | J9: 0 | K9: 74026046 | L9: NA | M9: NA | N9: 43739 | O9: 45566 | P9: 778021.6 | Q9: #VALUE!
A10: NEW MEXICO | B10: 493558716 | C10: 4.5059221e+08 | D10: 42966508 | E10: 9210594.2 | F10: 11038481 | G10: 3.89 | H10: 0.83 | I10: 767549.52 | J10: 3 | K10: 40663859 | L10: 6963181.9 | M10: 5123435.1 | N10: 43831 | O10: 45658 | P10: 1207588.7 | Q10: #VALUE!
A11: NORTH DAKOTA | B11: 187480557 | C11: 1.7385097e+08 | D11: 13629585 | E11: 2427489.4 | F11: 3515583 | G11: 3.88 | H11: 0.69 | I11: 202290.79 | J11: 9 | K11: 11808967 | L11: 733157.62 | M11: 537847.45 | N11: 43647 | O11: 45839 | P11: 54624.06 | Q11: #VALUE!
A12: KENTUCKY | B12: 1.1681423e+09 | C12: 1.0704867e+09 | D12: 97655572 | E12: 18108154 | F12: 26355588 | G12: 3.71 | H12: 0.69 | I12: 1509012.8 | J12: 9 | K12: 84074456 | L12: 4993821.7 | M12: 3529622.4 | N12: 43647 | O12: 45839 | P12: 2668384.4 | Q12: #VALUE!
A13: PUERTO RICO | B13: 1945106991 | C13: 1.8630482e+09 | D13: 82058773 | E13: 20231995 | F13: 22131554 | G13: 3.71 | H13: 0.91 | I13: 1685999.6 | J13: 9 | K13: 66884777 | L13: 4199518.4 | M13: 2969987.6 | N13: 43647 | O13: 45839 | P13: 2762093 | Q13: #VALUE!
A14: MONTANA | B14: 265120500 | C14: 2.4275658e+08 | D14: 22363923 | E14: 10930363 | F14: 6172506 | G14: 3.62 | H14: 1.77 | I14: 910863.59 | J14: 6 | K14: 16898742 | L14: 1669818.6 | M14: 1155443.1 | N14: 43922 | O14: 45748 | P14: 180272.09 | Q14: #VALUE!
A15: VIRGINIA | B15: 794219275 | C15: 7.2573786e+08 | D15: 68481410 | E15: 13443572 | F15: 19107637 | G15: 3.58 | H15: 0.7 | I15: 1120297.6 | J15: 9 | K15: 58398732 | L15: 3362904 | M15: 2301368.7 | N15: 43647 | O15: 45839 | P15: 914991.18 | Q15: #VALUE!
A16: NEBRASKA | B16: 5.0056523e+08 | C16: 4.6292884e+08 | D16: 37636386 | E16: 5532802.7 | F16: 10539100 | G16: 3.57 | H16: 0.52 | I16: 461066.9 | J16: 9 | K16: 33486784 | L16: 1839798.4 | M16: 1254292.8 | N16: 43647 | O16: 45839 | P16: 628659.82 | Q16: #VALUE!
A17: CALIFORNIA | B17: 1.4384287e+09 | C17: 1.3317577e+09 | D17: 1.0667108e+08 | E17: 30285128 | F17: 30065955 | G17: 3.55 | H17: 1.01 | I17: 2523760.7 | J17: 9 | K17: 83957236 | L17: 5171019.1 | M17: 3500688.3 | N17: 43647 | O17: 45839 | P17: 2810892.6 | Q17: #VALUE!
A18: RHODE ISLAND | B18: 2.031847e+08 | C18: 1.8338162e+08 | D18: 19803075 | E18: 7558040.5 | F18: 5655134 | G18: 3.5 | H18: 1.34 | I18: 629836.71 | J18: 9 | K18: 14134545 | L18: 943645.22 | M18: on track | N18: 43647 | O18: 45839 | P18: 1640590.6 | Q18: #VALUE!
A19: ARKANSAS | B19: 8.0046432e+08 | C19: 7.423722e+08 | D19: 58092126 | E19: 24349302 | F19: 17480755 | G19: 3.32 | H19: 1.39 | I19: 2029108.5 | J19: 9 | K19: 39830149 | L19: 2570068.4 | M19: on track | N19: 43647 | O19: 45839 | P19: 1938217.9 | Q19: #VALUE!
A20: NEW JERSEY | B20: 3.0055106e+08 | C20: 2.7826566e+08 | D20: 22285407 | E20: 6647060.1 | F20: 6730317 | G20: 3.31 | H20: 0.99 | I20: 553921.68 | J20: 9 | K20: 17300112 | L20: 980530.29 | M20: 606623.79 | N20: 43647 | O20: 45839 | P20: 160229.78 | Q20: #VALUE!
A21: SOUTH CAROLINA | B21: 1.0224308e+09 | C21: 9.5676194e+08 | D21: 65668852 | E21: 23503188 | F21: 19809810 | G21: 3.31 | H21: 1.19 | I21: 1958599 | J21: 6 | K21: 53917258 | L21: 4341538.7 | M21: 2690721.2 | N21: 43922 | O21: 45748 | P21: 1293621 | Q21: #VALUE!
A22: ALASKA | B22: 104394118 | C22: 95626190 | D22: 8767928.3 | E22: 1160080.1 | F22: 2677355 | G22: 3.27 | H22: 0.43 | I22: 96673.343 | J22: 9 | K22: 7897868.2 | L22: 379246.48 | M22: 230504.53 | N22: 43647 | O22: 45839 | P22: 2120.72 | Q22: #VALUE!
A23: MISSOURI | B23: 1010324720 | C23: 9.3809034e+08 | D23: 72234381 | E23: 24318516 | F23: 23059848 | G23: 3.13 | H23: 1.05 | I23: 2026543 | J23: 6 | K23: 60075123 | L23: 4352447.4 | M23: 2430793.4 | N23: 43922 | O23: 45748 | P23: 847080.47 | Q23: #VALUE!
A24: SOUTH DAKOTA | B24: 254239457 | C24: 2.366122e+08 | D24: 17627253 | E24: 4886404.6 | F24: 5680880 | G24: 3.1 | H24: 0.86 | I24: 407200.38 | J24: 3 | K24: 16405652 | L24: 2088497.8 | M24: 1141684.4 | N24: 43831 | O24: 45658 | P24: 0 | Q24: #VALUE!
A25: PENNSYLVANIA | B25: 2.0010648e+09 | C25: 1.8845976e+09 | D25: 1.1646724e+08 | E25: 38752618 | F25: 40779947 | G25: 2.86 | H25: 0.95 | I25: 3229384.9 | J25: 3 | K25: 1.0677909e+08 | L25: 11635782 | M25: 4839124.5 | N25: 43831 | O25: 45658 | P25: 3317872.7 | Q25: #VALUE!
A26: COLORADO | B26: 3.9263422e+08 | C26: 3.6606715e+08 | D26: 26567066 | E26: 14547238 | F26: 9305817 | G26: 2.85 | H26: 1.56 | I26: 1212269.8 | J26: 6 | K26: 19293447 | L26: 1325905.4 | M26: on track | N26: 43556 | O26: 45748 | P26: -785020.26 | Q26: #VALUE!
A27: NEW YORK | B27: 1.2287777e+09 | C27: 1.0961767e+09 | D27: 1.3260098e+08 | E27: 45167962 | F27: 47456120 | G27: 2.79 | H27: 0.95 | I27: 3763996.8 | J27: 3 | K27: 1.2130899e+08 | L27: 12562914 | M27: 4653561.1 | N27: 43831 | O27: 45658 | P27: 3966523 | Q27: #VALUE!
A28: KANSAS | B28: 675052951 | C28: 6.3417103e+08 | D28: 40881923 | E28: 8304408 | F28: 14786581 | G28: 2.76 | H28: 0.56 | I28: 692034 | J28: 3 | K28: 38805821 | L28: 3769586.9 | M28: 1305156.8 | N28: 43466 | O28: 45658 | P28: 0 | Q28: #VALUE!
A29: IOWA | B29: 1059732308 | C29: 9.9317529e+08 | D29: 66557020 | E29: 20608980 | F29: 24168777 | G29: 2.75 | H29: 0.85 | I29: 1717415 | J29: 3 | K29: 61404775 | L29: 6073155.5 | M29: 2045026 | N29: 43831 | O29: 45658 | P29: 1599987.4 | Q29: #VALUE!
A30: MISSISSIPPI | B30: 1.2394723e+09 | C30: 1.1734513e+09 | D30: 66021076 | E30: 19075944 | F30: 24088947 | G30: 2.74 | H30: 0.79 | I30: 1589662 | J30: 9 | K30: 51714118 | L30: 1982575.7 | M30: on track | N30: 43647 | O30: 45839 | P30: 619335.79 | Q30: #VALUE!
A31: GEORGIA | B31: 1.6422976e+09 | C31: 1.5346289e+09 | D31: 1.0766869e+08 | E31: 33895038 | F31: 40984884 | G31: 2.63 | H31: 0.83 | I31: 2824586.5 | J31: 9 | K31: 82247407 | L31: 2855435.3 | M31: on track | N31: 43647 | O31: 45839 | P31: 3241600.9 | Q31: #VALUE!
A32: MARYLAND | B32: 3.1444639e+08 | C32: 2.9263094e+08 | D32: 21815452 | E32: 9784275.3 | F32: 8369791 | G32: 2.61 | H32: 1.17 | I32: 815356.28 | J32: 9 | K32: 14477245 | L32: on track | M32: on track | N32: 43647 | O32: 45839 | P32: 648606.59 | Q32: #VALUE!
A33: CONNECTICUT | B33: 5.2832884e+08 | C33: 4.9244085e+08 | D33: 35887987 | E33: 14971781 | F33: 13880022 | G33: 2.59 | H33: 1.08 | I33: 1247648.4 | J33: 9 | K33: 24659151 | L33: on track | M33: on track | N33: 43647 | O33: 45839 | P33: 460682 | Q33: #VALUE!
A34: TENNESSEE | B34: 1154905413 | C34: 1.0870783e+09 | D34: 67827096 | E34: 23210517 | F34: 27571438 | G34: 2.46 | H34: 0.84 | I34: 1934209.8 | J34: 9 | K34: 50419209 | L34: on track | M34: on track | N34: 43647 | O34: 45839 | P34: 2078786.5 | Q34: #VALUE!
A35: NEW HAMPSHIRE | B35: 346058940 | C35: 3.2393458e+08 | D35: 22124359 | E35: 5975084.9 | F35: 9353201 | G35: 2.37 | H35: 0.64 | I35: 497923.75 | J35: 3 | K35: 20630587 | L35: 1139318.9 | M35: on track | N35: 43831 | O35: 45658 | P35: 820922.76 | Q35: #VALUE!
A36: WASHINGTON | B36: 522049097 | C36: 4.9285892e+08 | D36: 29190179 | E36: 13021897 | F36: 13105608 | G36: 2.23 | H36: 0.99 | I36: 1085158.1 | J36: 9 | K36: 19423756 | L36: on track | M36: on track | N36: 43647 | O36: 45839 | P36: 1319329.1 | Q36: #VALUE!
A37: TEXAS | B37: 2.8793131e+09 | C37: 2.7256569e+09 | D37: 1.5365617e+08 | E37: 74851123 | F37: 70613641 | G37: 2.18 | H37: 1.06 | I37: 6237593.6 | J37: 0 | K37: 1.5365617e+08 | L37: NA | M37: on track | N37: 44075 | O37: 45536 | P37: 6936567.3 | Q37: #VALUE!
A38: IDAHO | B38: 3.4288781e+08 | C38: 3.2525349e+08 | D38: 17634323 | E38: 7400473.8 | F38: 8236180 | G38: 2.14 | H38: 0.9 | I38: 616706.15 | J38: 6 | K38: 13934086 | L38: on track | M38: on track | N38: 43556 | O38: 45748 | P38: 0 | Q38: #VALUE!
A39: ALABAMA | B39: 1.0852751e+09 | C39: 1.0365568e+09 | D39: 48718317 | E39: 22937564 | F39: 22858857 | G39: 2.13 | H39: 1 | I39: 1911463.7 | J39: 6 | K39: 37249535 | L39: on track | M39: on track | N39: 43556 | O39: 45748 | P39: 1275894.2 | Q39: #VALUE!
A40: OREGON | B40: 5.4540968e+08 | C40: 5.2057165e+08 | D40: 24838031 | E40: 15461624 | F40: 11656242 | G40: 2.13 | H40: 1.33 | I40: 1288468.7 | J40: 3 | K40: 20972625 | L40: on track | M40: on track | N40: 43831 | O40: 45658 | P40: 1976088.1 | Q40: #VALUE!
A41: INDIANA | B41: 1.3097388e+09 | C41: 1.2455592e+09 | D41: 64179576 | E41: 27157733 | F41: 30738746 | G41: 2.09 | H41: 0.88 | I41: 2263144.4 | J41: 9 | K41: 43811276 | L41: on track | M41: on track | N41: 43647 | O41: 45839 | P41: 514370.53 | Q41: #VALUE!
A42: LOUISIANA | B42: 1205115490 | C42: 1.1580846e+09 | D42: 47030887 | E42: 24731826 | F42: 22499042 | G42: 2.09 | H42: 1.1 | I42: 2060985.5 | J42: 6 | K42: 34664974 | L42: on track | M42: on track | N42: 43922 | O42: 45748 | P42: 1409542.1 | Q42: #VALUE!
A43: NEVADA | B43: 98701064 | C43: 93146745 | D43: 5554318.8 | E43: 3452823 | F43: 2898567 | G43: 1.92 | H43: 1.19 | I43: 287735.25 | J43: 9 | K43: 2964701.6 | L43: on track | M43: on track | N43: 43647 | O43: 45839 | P43: 269953.31 | Q43: #VALUE!
A44: MASSACHUSETTS | B44: 1.394383e+09 | C44: 1.330022e+09 | D44: 64360961 | E44: 47580047 | F44: 34869850 | G44: 1.85 | H44: 1.36 | I44: 3965003.9 | J44: 6 | K44: 40570937 | L44: on track | M44: on track | N44: 43922 | O44: 45748 | P44: 10075298 | Q44: #VALUE!
A45: WISCONSIN | B45: 1082941284 | C45: 1.0341159e+09 | D45: 48825352 | E45: 22503027 | F45: 27168342 | G45: 1.8 | H45: 0.83 | I45: 1875252.3 | J45: 6 | K45: 37573838 | L45: on track | M45: on track | N45: 43922 | O45: 45748 | P45: 593964.69 | Q45: #VALUE!
A46: OHIO | B46: 1.9401106e+09 | C46: 1.8606696e+09 | D46: 79440982 | E46: 43010546 | F46: 45492764 | G46: 1.75 | H46: 0.95 | I46: 3584212.2 | J46: 9 | K46: 47183072 | L46: on track | M46: on track | N46: 43647 | O46: 45839 | P46: 4968934.8 | Q46: #VALUE!
A47: OKLAHOMA | B47: 6.8538868e+08 | C47: 6.6126956e+08 | D47: 24119112 | E47: 18218721 | F47: 13963452 | G47: 1.73 | H47: 1.3 | I47: 1518226.7 | J47: 6 | K47: 15009751 | L47: on track | M47: on track | N47: 43922 | O47: 45748 | P47: 1622477.2 | Q47: #VALUE!
... A52: DELAWARE | B52: 75470621 | C52: 73178619 | D52: 2292001.9 | E52: 2570721.5 | F52: 2752623 | G52: 0.83 | H52: 0.93 | I52: 214226.8 | J52: 9 | K52: 363960.73 | L52: on track | M52: on track | N52: 43647 | O52: 45839 | P52: 222460.87 | Q52: #VALUE!
A53: TOTALS: | B53: 4.3056918e+10 | C53: 4.0115148e+10 | D53: 2.94177e+09 | E53: 9.2514865e+08 | F53: 981907757 | G53: 3 | H53: 0.94 | I53: 77095721 | P53: 81834720
D56: Number of states with unexpended balance greater than 2.5: | G56: 31
D57: Number of states with expenditure rate less than 1: | H57: 31

Sheet Aug'25
A1: Run Date: 08/29/2025 As of: 08/31/2025 | B1: 08/31/2025
A2: State Name | B2: Amount Of Open Grants | C2: Total Expended from Open Grants | D2: Total Unexpended from Open Grants | E2: Amount Expended Last 12 Months | F2: Most Recent Grant Amount | G2: Ratio Unexpended To Grant | H2: Ratio Expended Last 12 Months to Grant | I2: Avg monthly expenditure last 12 mos | J2: Months remaining to goal | K2: Projected bal 60 days before end of PY | L2: Monthly spending to reach 2x goal | M2: Monthly spending to reach 2.5x goal | N2: PY Start | O2: Current Pgm Yr start | P2: latest month's expenditure | Q2: Most Recent Grant Appeared in LOCCS
A3: FLORIDA | B3: 1.1399759e+09 | C3: 9.9195319e+08 | D3: 1.4802275e+08 | E3: 14628857 | F3: 24778539 | G3: 5.97 | H3: 0.59 | I3: 1219071.5 | J3: 8 | K3: 1.3827018e+08 | L3: 12308209 | M3: 10759550 | N3: 43647 | O3: 45839 | P3: 2400797.4 | Q3: #VALUE!
A4: MICHIGAN | B4: 1.4692429e+09 | C4: 1.3065706e+09 | D4: 1.6267223e+08 | E4: 14085310 | F4: 33073641 | G4: 4.92 | H4: 0.43 | I4: 1173775.8 | J4: 8 | K4: 1.5328202e+08 | L4: 12065619 | M4: 9998516.1 | N4: 43647 | O4: 45839 | P4: 2862991.9 | Q4: #VALUE!
A5: WEST VIRGINIA | B5: 7.0869638e+08 | C5: 6.4088812e+08 | D5: 67808260 | E5: 13365926 | F5: 13833071 | G5: 4.9 | H5: 0.97 | I5: 1113827.1 | J5: 8 | K5: 58897643 | L5: 5017764.7 | M5: 4153197.8 | N5: 43647 | O5: 45839 | P5: 1910132.3 | Q5: #VALUE!
A6: NORTH CAROLINA | B6: 1.7885959e+09 | C6: 1.5627172e+09 | D6: 2.2587866e+08 | E6: 43904500 | F6: 46272979 | G6: 4.88 | H6: 0.95 | I6: 3658708.3 | J6: 2 | K6: 2.1856124e+08 | L6: 66666351 | M6: 55098106 | N6: 43831 | O6: 45658 | P6: 5933442.9 | Q6: #VALUE!
A7: WYOMING | B7: 1.2089976e+08 | C7: 1.0519209e+08 | D7: 15707671 | E7: 1162955.9 | F7: 3521015 | G7: 4.46 | H7: 0.33 | I7: 96912.988 | J7: 2 | K7: 15513845 | L7: 4332820.7 | M7: 3452567 | N7: 43831 | O7: 45658 | P7: 16576.34 | Q7: #VALUE!
A8: ILLINOIS | B8: 1.3362735e+09 | C8: 1.2147401e+09 | D8: 1.2153333e+08 | E8: 35871063 | F8: 29074134 | G8: 4.18 | H8: 1.23 | I8: 2989255.2 | J8: 2 | K8: 1.1555482e+08 | L8: 31692533 | M8: 24423999 | N8: 43831 | O8: 45658 | P8: 11449858 | Q8: #VALUE!
A9: NEW MEXICO | B9: 493558716 | C9: 4.5059221e+08 | D9: 42966508 | E9: 8002572.3 | F9: 11038481 | G9: 3.89 | H9: 0.72 | I9: 666881.03 | J9: 2 | K9: 41632746 | L9: 10444773 | M9: 7685152.6 | N9: 43831 | O9: 45658 | P9: 0 | Q9: #VALUE!
A10: NORTH DAKOTA | B10: 187480557 | C10: 1.7385097e+08 | D10: 13629585 | E10: 2370697.9 | F10: 3515583 | G10: 3.88 | H10: 0.67 | I10: 197558.16 | J10: 8 | K10: 12049119 | L10: 824802.32 | M10: 605078.38 | N10: 43647 | O10: 45839 | P10: 0 | Q10: #VALUE!
A11: MINNESOTA | B11: 853256279 | C11: 7.8318658e+08 | D11: 70069703 | E11: 17723736 | F11: 18836467 | G11: 3.72 | H11: 0.94 | I11: 1476978 | J11: 0 | K11: 70069703 | L11: NA | M11: NA | N11: 43739 | O11: 45566 | P11: 3956343.2 | Q11: #VALUE!
A12: KENTUCKY | B12: 1.1681423e+09 | C12: 1.0721125e+09 | D12: 96029795 | E12: 19263325 | F12: 26355588 | G12: 3.64 | H12: 0.73 | I12: 1605277.1 | J12: 8 | K12: 83187578 | L12: 5414827.3 | M12: 3767603.1 | N12: 43647 | O12: 45839 | P12: 1625777 | Q12: #VALUE!
A13: PUERTO RICO | B13: 1945106991 | C13: 1.8653077e+09 | D13: 79799331 | E13: 20124910 | F13: 22131554 | G13: 3.61 | H13: 0.91 | I13: 1677075.8 | J13: 8 | K13: 66382724 | L13: 4442027.9 | M13: 3058805.7 | N13: 43647 | O13: 45839 | P13: 2259442.3 | Q13: #VALUE!
A14: VIRGINIA | B14: 794219275 | C14: 7.2659779e+08 | D14: 67621480 | E14: 13089194 | F14: 19107637 | G14: 3.54 | H14: 0.69 | I14: 1090766.1 | J14: 8 | K14: 58895351 | L14: 3675775.8 | M14: 2481548.5 | N14: 43647 | O14: 45839 | P14: 859930.17 | Q14: #VALUE!
A15: MONTANA | B15: 265120500 | C15: 2.4331325e+08 | D15: 21807254 | E15: 9431535.3 | F15: 6172506 | G15: 3.53 | H15: 1.53 | I15: 785961.27 | J15: 5 | K15: 17877448 | L15: 1892448.4 | M15: 1275197.8 | N15: 43922 | O15: 45748 | P15: 556669.29 | Q15: #VALUE!
A16: NEBRASKA | B16: 5.0056523e+08 | C16: 4.6356701e+08 | D16: 36998219 | E16: 5367707.1 | F16: 10539100 | G16: 3.51 | H16: 0.51 | I16: 447308.93 | J16: 8 | K16: 33419748 | L16: 1990002.4 | M16: 1331308.6 | N16: 43647 | O16: 45839 | P16: 638166.47 | Q16: #VALUE!
A17: RHODE ISLAND | B17: 2.031847e+08 | C17: 1.8338162e+08 | D17: 19803075 | E17: 7558040.5 | F17: 5655134 | G17: 3.5 | H17: 1.34 | I17: 629836.71 | J17: 8 | K17: 14764381 | L17: 1061600.9 | M17: 708155 | N17: 43647 | O17: 45839 | P17: 0 | Q17: #VALUE!
A18: CALIFORNIA | B18: 1.4384287e+09 | C18: 1.3350146e+09 | D18: 1.0341411e+08 | E18: 29676759 | F18: 30065955 | G18: 3.44 | H18: 0.99 | I18: 2473063.3 | J18: 8 | K18: 83629602 | L18: 5410274.8 | M18: 3531152.6 | N18: 43647 | O18: 45839 | P18: 3256973.9 | Q18: #VALUE!
A19: ALASKA | B19: 104394118 | C19: 95629751 | D19: 8764366.8 | E19: 1163641.6 | F19: 2677355 | G19: 3.27 | H19: 0.43 | I19: 96970.136 | J19: 8 | K19: 7988605.7 | L19: 426207.1 | M19: 258872.41 | N19: 43647 | O19: 45839 | P19: 3561.52 | Q19: #VALUE!
A20: ARKANSAS | B20: 8.0046432e+08 | C20: 7.441661e+08 | D20: 56298223 | E20: 23935462 | F20: 17480755 | G20: 3.22 | H20: 1.37 | I20: 1994621.8 | J20: 8 | K20: 40341248 | L20: 2667089.1 | M20: on track | N20: 43647 | O20: 45839 | P20: 1793902.8 | Q20: #VALUE!
A21: NEW JERSEY | B21: 3.0055106e+08 | C21: 2.7929581e+08 | D21: 21255257 | E21: 7291473.1 | F21: 6730317 | G21: 3.16 | H21: 1.08 | I21: 607622.76 | J21: 8 | K21: 16394275 | L21: 974327.84 | M21: on track | N21: 43647 | O21: 45839 | P21: 1030149.9 | Q21: #VALUE!
A22: SOUTH CAROLINA | B22: 1.0224308e+09 | C22: 9.5983343e+08 | D22: 62597359 | E22: 26574681 | F22: 19809810 | G22: 3.16 | H22: 1.34 | I22: 2214556.8 | J22: 5 | K22: 51524575 | L22: 4595547.8 | M22: 2614566.9 | N22: 43922 | O22: 45748 | P22: 3071493 | Q22: #VALUE!
A23: MISSOURI | B23: 1010324720 | C23: 9.410419e+08 | D23: 69282823 | E23: 24445253 | F23: 23059848 | G23: 3 | H23: 1.06 | I23: 2037104.4 | J23: 5 | K23: 59097301 | L23: 4632625.4 | M23: 2326640.6 | N23: 43922 | O23: 45748 | P23: 2951557.6 | Q23: #VALUE!
A24: SOUTH DAKOTA | B24: 254239457 | C24: 2.3791234e+08 | D24: 16327120 | E24: 5862622 | F24: 5680880 | G24: 2.87 | H24: 1.03 | I24: 488551.83 | J24: 2 | K24: 15350016 | L24: 2482679.8 | M24: 1062459.8 | N24: 43831 | O24: 45658 | P24: 1300133.8 | Q24: #VALUE!
A25: PENNSYLVANIA | B25: 2.0010648e+09 | C25: 1.8871704e+09 | D25: 1.138944e+08 | E25: 37538742 | F25: 40779947 | G25: 2.79 | H25: 0.92 | I25: 3128228.5 | J25: 2 | K25: 1.0763794e+08 | L25: 16167254 | M25: 5972267.2 | N25: 43831 | O25: 45658 | P25: 2572839.2 | Q25: #VALUE!
A26: COLORADO | B26: 3.9263422e+08 | C26: 3.6705568e+08 | D26: 25578540 | E26: 15408537 | F26: 9305817 | G26: 2.75 | H26: 1.66 | I26: 1284044.8 | J26: 5 | K26: 19158316 | L26: 1393381.2 | M26: on track | N26: 43556 | O26: 45748 | P26: 988526.22 | Q26: #VALUE!
A27: NEW YORK | B27: 1.2287777e+09 | C27: 1.0992746e+09 | D27: 1.2950304e+08 | E27: 38636859 | F27: 47456120 | G27: 2.73 | H27: 0.81 | I27: 3219738.2 | J27: 2 | K27: 1.2306357e+08 | L27: 17295401 | M27: 5431370.8 | N27: 43831 | O27: 45658 | P27: 3097941.8 | Q27: #VALUE!
A28: IOWA | B28: 1059732308 | C28: 9.9519755e+08 | D28: 64534762 | E28: 20297489 | F28: 24168777 | G28: 2.67 | H28: 0.84 | I28: 1691457.4 | J28: 2 | K28: 61151848 | L28: 8098604.2 | M28: 2056409.9 | N28: 43831 | O28: 45658 | P28: 2022258.1 | Q28: #VALUE!
A29: MISSISSIPPI | B29: 1.2394723e+09 | C29: 1.1753612e+09 | D29: 64111098 | E29: 18382013 | F29: 24088947 | G29: 2.66 | H29: 0.76 | I29: 1531834.4 | J29: 8 | K29: 51856423 | L29: 1991650.5 | M29: on track | N29: 43647 | O29: 45839 | P29: 1909977.6 | Q29: #VALUE!
A30: KANSAS | B30: 675052951 | C30: 6.3739253e+08 | D30: 37660424 | E30: 10539307 | F30: 14786581 | G30: 2.55 | H30: 0.71 | I30: 878275.62 | J30: 2 | K30: 35903872 | L30: 4043630.8 | M30: on track | N30: 43466 | O30: 45658 | P30: 3221499.1 | Q30: #VALUE!
A31: CONNECTICUT | B31: 5.2832884e+08 | C31: 4.9315373e+08 | D31: 35175109 | E31: 15100809 | F31: 13880022 | G31: 2.53 | H31: 1.09 | I31: 1258400.7 | J31: 8 | K31: 25107903 | L31: on track | M31: on track | N31: 43647 | O31: 45839 | P31: 712878 | Q31: #VALUE!
A32: GEORGIA | B32: 1.6422976e+09 | C32: 1.5398301e+09 | D32: 1.0246748e+08 | E32: 36202327 | F32: 40984884 | G32: 2.5 | H32: 0.88 | I32: 3016860.6 | J32: 8 | K32: 78332596 | L32: on track | M32: on track | N32: 43647 | O32: 45839 | P32: 5201204.8 | Q32: #VALUE!
A33: MARYLAND | B33: 3.1444639e+08 | C33: 2.9364734e+08 | D33: 20799045 | E33: 9697497.1 | F33: 8369791 | G33: 2.49 | H33: 1.16 | I33: 808124.76 | J33: 8 | K33: 14334046 | L33: on track | M33: on track | N33: 43647 | O33: 45839 | P33: 1016407.4 | Q33: #VALUE!
A34: TENNESSEE | B34: 1154905413 | C34: 1.0888523e+09 | D34: 66053095 | E34: 24085245 | F34: 27571438 | G34: 2.4 | H34: 0.87 | I34: 2007103.8 | J34: 8 | K34: 49996265 | L34: on track | M34: on track | N34: 43647 | O34: 45839 | P34: 1774001.1 | Q34: #VALUE!
A35: NEW HAMPSHIRE | B35: 346058940 | C35: 3.2449704e+08 | D35: 21561902 | E35: 5914663.5 | F35: 9353201 | G35: 2.31 | H35: 0.63 | I35: 492888.62 | J35: 2 | K35: 20576125 | L35: 1427750.1 | M35: on track | N35: 43831 | O35: 45658 | P35: 562456.43 | Q35: #VALUE!
A36: WASHINGTON | B36: 522049097 | C36: 4.9333034e+08 | D36: 28718756 | E36: 12277866 | F36: 13105608 | G36: 2.19 | H36: 0.94 | I36: 1023155.5 | J36: 8 | K36: 20533511 | L36: on track | M36: on track | N36: 43647 | O36: 45839 | P36: 471423.2 | Q36: #VALUE!
A37: TEXAS | B37: 2.8793131e+09 | C37: 2.7336814e+09 | D37: 1.456317e+08 | E37: 79292576 | F37: 70613641 | G37: 2.06 | H37: 1.12 | I37: 6607714.7 | J37: 0 | K37: 1.456317e+08 | L37: NA | M37: on track | N37: 44075 | O37: 45536 | P37: 8024463.7 | Q37: #VALUE!
A38: IDAHO | B38: 3.4288781e+08 | C38: 3.2602832e+08 | D38: 16859489 | E38: 7826587.7 | F38: 8236180 | G38: 2.05 | H38: 0.95 | I38: 652215.64 | J38: 5 | K38: 13598411 | L38: on track | M38: on track | N38: 43556 | O38: 45748 | P38: 774834.09 | Q38: #VALUE!
A39: ALABAMA | B39: 1.0852751e+09 | C39: 1.0390337e+09 | D39: 46241440 | E39: 22153909 | F39: 22858857 | G39: 2.02 | H39: 0.97 | I39: 1846159.1 | J39: 5 | K39: 37010645 | L39: on track | M39: on track | N39: 43556 | O39: 45748 | P39: 2476876.7 | Q39: #VALUE!
A40: LOUISIANA | B40: 1205115490 | C40: 1.1601091e+09 | D40: 45006351 | E40: 22935563 | F40: 22499042 | G40: 2 | H40: 1.02 | I40: 1911297 | J40: 5 | K40: 35449866 | L40: on track | M40: on track | N40: 43922 | O40: 45748 | P40: 2024535.4 | Q40: #VALUE!
A41: INDIANA | B41: 1.3097388e+09 | C41: 1.2487277e+09 | D41: 61011102 | E41: 26558193 | F41: 30738746 | G41: 1.98 | H41: 0.86 | I41: 2213182.8 | J41: 8 | K41: 43305640 | L41: on track | M41: on track | N41: 43647 | O41: 45839 | P41: 3168474.2 | Q41: #VALUE!
A42: OREGON | B42: 5.4540968e+08 | C42: 5.2280533e+08 | D42: 22604346 | E42: 14064195 | F42: 11656242 | G42: 1.94 | H42: 1.21 | I42: 1172016.2 | J42: 2 | K42: 20260314 | L42: on track | M42: on track | N42: 43831 | O42: 45658 | P42: 2233685 | Q42: #VALUE!
A43: NEVADA | B43: 98701064 | C43: 93172844 | D43: 5528219.9 | E43: 3356175.2 | F43: 2898567 | G43: 1.91 | H43: 1.16 | I43: 279681.27 | J43: 8 | K43: 3290769.8 | L43: on track | M43: on track | N43: 43647 | O43: 45839 | P43: 26098.9 | Q43: #VALUE!
A44: MASSACHUSETTS | B44: 1.394383e+09 | C44: 1.3318929e+09 | D44: 62490037 | E44: 44670838 | F44: 34869850 | G44: 1.79 | H44: 1.28 | I44: 3722569.8 | J44: 5 | K44: 43877188 | L44: on track | M44: on track | N44: 43922 | O44: 45748 | P44: 1870923.9 | Q44: #VALUE!
A45: WISCONSIN | B45: 1082941284 | C45: 1.0349806e+09 | D45: 47960731 | E45: 23089091 | F45: 27168342 | G45: 1.77 | H45: 0.85 | I45: 1924090.9 | J45: 5 | K45: 38340276 | L45: on track | M45: on track | N45: 43922 | O45: 45748 | P45: 864621.15 | Q45: #VALUE!
A46: VERMONT | B46: 277600986 | C46: 2.6493274e+08 | D46: 12668244 | E46: 9682308.6 | F46: 7461397 | G46: 1.7 | H46: 1.3 | I46: 806859.05 | J46: 8 | K46: 6213371.6 | L46: on track | M46: on track | N46: 43647 | O46: 45839 | P46: 234601 | Q46: #VALUE!
A47: OKLAHOMA | B47: 6.8538868e+08 | C47: 6.6248942e+08 | D47: 22899259 | E47: 16483290 | F47: 13963452 | G47: 1.64 | H47: 1.18 | I47: 1373607.5 | J47: 5 | K47: 16031222 | L47: on track | M47: on track | N47: 43922 | O47: 45748 | P47: 1219852.7 | Q47: #VALUE!
... A52: DELAWARE | B52: 75470621 | C52: 73471996 | D52: 1998625 | E52: 2841296.1 | F52: 2752623 | G52: 0.73 | H52: 1.03 | I52: 236774.67 | J52: 8 | K52: 104427.57 | L52: on track | M52: on track | N52: 43647 | O52: 45839 | P52: 293376.93 | Q52: #VALUE!
A53: TOTALS: | B53: 4.3056918e+10 | C53: 4.0217182e+10 | D53: 2.8397359e+09 | E53: 9.3301157e+08 | F53: 981907757 | G53: 2.89 | H53: 0.95 | I53: 77750964 | P53: 1.0203401e+08
D56: Number of states with unexpended balance greater than 2.5: | G56: 29
D57: Number of states with expenditure rate less than 1: | H57: 29

Sheet Sep'25
A1: Run Date: 09/30/2025 As of: 09/30/2025 | B1: 09/30/2025
A2: State Name | B2: Amount Of Open Grants | C2: Total Expended from Open Grants | D2: Total Unexpended from Open Grants | E2: Amount Expended Last 12 Months | F2: Most Recent Grant Amount | G2: Ratio Unexpended To Grant | H2: Ratio Expended Last 12 Months to Grant | I2: Avg monthly expenditure last 12 mos | J2: Months remaining to goal | K2: Projected bal 60 days before end of PY | L2: Monthly spending to reach 2x goal | M2: Monthly spending to reach 2.5x goal | N2: PY Start | O2: Current Pgm Yr start | P2: latest month's expenditure | Q2: Most Recent Grant Appeared in LOCCS
A3: WEST VIRGINIA | B3: 7.2247938e+08 | C3: 6.4175247e+08 | D3: 80726913 | E3: 12998962 | F3: 13783001 | G3: 5.86 | H3: 0.94 | I3: 1083246.8 | J3: 7 | K3: 73144186 | L3: 7594415.9 | M3: 6609915.8 | N3: 43647 | O3: 45839 | P3: 864347.56 | Q3: #VALUE!
A4: NORTH CAROLINA | B4: 1.8347583e+09 | C4: 1.567577e+09 | D4: 2.671813e+08 | E4: 44088710 | F4: 46162390 | G4: 5.79 | H4: 0.96 | I4: 3674059.2 | J4: 1 | K4: 2.6350725e+08 | L4: 1.7485652e+08 | M4: 1.5177533e+08 | N4: 43831 | O4: 45658 | P4: 4859744.7 | Q4: #VALUE!
A5: MICHIGAN | B5: 1.5033333e+09 | C5: 1.3067477e+09 | D5: 1.9658569e+08 | E5: 14248870 | F5: 34090474 | G5: 5.77 | H5: 0.42 | I5: 1187405.9 | J5: 7 | K5: 1.8827385e+08 | L5: 18343534 | M5: 15908500 | N5: 43647 | O5: 45839 | P5: 177017.27 | Q5: #VALUE!
A6: FLORIDA | B6: 1.1373904e+09 | C6: 1.0052542e+09 | D6: 1.3213621e+08 | E6: 24079574 | F6: 24778539 | G6: 5.33 | H6: 0.97 | I6: 2006631.2 | J6: 7 | K6: 1.1808979e+08 | L6: 11797019 | M6: 10027123 | N6: 43647 | O6: 45839 | P6: 13301038 | Q6: #VALUE!
A7: WYOMING | B7: 1.2444569e+08 | C7: 1.0595637e+08 | D7: 18489324 | E7: 1790964.2 | F7: 3545933 | G7: 5.21 | H7: 0.51 | I7: 149247.01 | J7: 1 | K7: 18340077 | L7: 11397458 | M7: 9624491.3 | N7: 43831 | O7: 45658 | P7: 764280.63 | Q7: #VALUE!
A8: NORTH DAKOTA | B8: 1.9099904e+08 | C8: 1.7397455e+08 | D8: 17024492 | E8: 2511931.5 | F8: 3551615 | G8: 4.79 | H8: 0.71 | I8: 209327.63 | J8: 7 | K8: 15559199 | L8: 1417323.2 | M8: 1163636.4 | N8: 43647 | O8: 45839 | P8: 123573.57 | Q8: #VALUE!
A9: MINNESOTA | B9: 872347192 | C9: 7.8318658e+08 | D9: 89160616 | E9: 15867008 | F9: 19090913 | G9: 4.67 | H9: 0.83 | I9: 1322250.7 | J9: 0 | K9: 89160616 | L9: NA | M9: NA | N9: 43739 | O9: 45566 | P9: 0 | Q9: #VALUE!
A10: PUERTO RICO | B10: 1966895481 | C10: 1.8664733e+09 | D10: 1.0042214e+08 | E10: 19733876 | F10: 21788490 | G10: 4.61 | H10: 0.91 | I10: 1644489.7 | J10: 7 | K10: 88910711 | L10: 8120737 | M10: 6564416.3 | N10: 43647 | O10: 45839 | P10: 1165682.1 | Q10: #VALUE!
A11: KENTUCKY | B11: 1.1941308e+09 | C11: 1.0745296e+09 | D11: 1.196012e+08 | E11: 20625032 | F11: 25988523 | G11: 4.6 | H11: 0.79 | I11: 1718752.6 | J11: 7 | K11: 1.0756993e+08 | L11: 9660592.7 | M11: 7804269.7 | N11: 43647 | O11: 45839 | P11: 2417121.6 | Q11: #VALUE!
A12: NEBRASKA | B12: 5.1116332e+08 | C12: 4.6404338e+08 | D12: 47119934 | E12: 5035092.2 | F12: 10598087 | G12: 4.45 | H12: 0.48 | I12: 419591.01 | J12: 7 | K12: 44182797 | L12: 3703394.3 | M12: 2946388.1 | N12: 43647 | O12: 45839 | P12: 476372.02 | Q12: #VALUE!
A13: CALIFORNIA | B13: 1.4681773e+09 | C13: 1.3370291e+09 | D13: 1.3114819e+08 | E13: 30243768 | F13: 29748591 | G13: 4.41 | H13: 1.02 | I13: 2520314 | J13: 7 | K13: 1.1350599e+08 | L13: 10235858 | M13: 8110958.8 | N13: 43647 | O13: 45839 | P13: 2014510.2 | Q13: #VALUE!
A14: VIRGINIA | B14: 813673223 | C14: 7.2833577e+08 | D14: 85337449 | E14: 14199146 | F14: 19453948 | G14: 4.39 | H14: 0.73 | I14: 1183262.2 | J14: 7 | K14: 77054614 | L14: 6632793.3 | M14: 5243225.6 | N14: 43647 | O14: 45839 | P14: 1737979.3 | Q14: #VALUE!
A15: ALASKA | B15: 107063879 | C15: 95629751 | D15: 11434128 | E15: 1405624.6 | F15: 2669761 | G15: 4.28 | H15: 0.53 | I15: 117135.39 | J15: 7 | K15: 10614180 | L15: 870657.97 | M15: 679960.75 | N15: 43647 | O15: 45839 | P15: 0 | Q15: #VALUE!
A16: ILLINOIS | B16: 1.3362691e+09 | C16: 1.2180419e+09 | D16: 1.1822718e+08 | E16: 40469979 | F16: 29074134 | G16: 4.07 | H16: 1.39 | I16: 3372498.2 | J16: 1 | K16: 1.1485469e+08 | L16: 60078917 | M16: 45541850 | N16: 43831 | O16: 45658 | P16: 3301801 | Q16: #VALUE!
A17: SOUTH CAROLINA | B17: 1.0425892e+09 | C17: 9.6149744e+08 | D17: 81091719 | E17: 24277339 | F17: 20158365 | G17: 4.02 | H17: 1.2 | I17: 2023111.6 | J17: 4 | K17: 72999273 | L17: 10193747 | M17: 7673951.7 | N17: 43922 | O17: 45748 | P17: 1664005 | Q17: #VALUE!
A18: MISSOURI | B18: 1033187132 | C18: 9.4238824e+08 | D18: 90798897 | E18: 23636558 | F18: 22862412 | G18: 3.97 | H18: 1.03 | I18: 1969713.2 | J18: 4 | K18: 82920044 | L18: 11268518 | M18: 8410716.7 | N18: 43922 | O18: 45748 | P18: 1346338.3 | Q18: #VALUE!
A19: NEW MEXICO | B19: 493558716 | C19: 4.5231477e+08 | D19: 41243950 | E19: 9139061.7 | F19: 11038481 | G19: 3.74 | H19: 0.83 | I19: 761588.47 | J19: 1 | K19: 40482361 | L19: 19166988 | M19: 13647747 | N19: 43831 | O19: 45658 | P19: 1722557.9 | Q19: #VALUE!
A20: PENNSYLVANIA | B20: 2.0418936e+09 | C20: 1.8905169e+09 | D20: 1.5137667e+08 | E20: 37416692 | F20: 40828727 | G20: 3.71 | H20: 0.92 | I20: 3118057.7 | J20: 1 | K20: 1.4825861e+08 | L20: 69719212 | M20: 49304848 | N20: 43831 | O20: 45658 | P20: 3346462.9 | Q20: #VALUE!
A21: NEW YORK | B21: 1.2764225e+09 | C21: 1.1029322e+09 | D21: 1.7349036e+08 | E21: 41661655 | F21: 47644860 | G21: 3.64 | H21: 0.87 | I21: 3471804.6 | J21: 1 | K21: 1.7001855e+08 | L21: 78200636 | M21: 54378206 | N21: 43831 | O21: 45658 | P21: 3657546 | Q21: #VALUE!
... A27: NEW HAMPSHIRE | B27: 355494147 | C27: 3.2511823e+08 | D27: 30375914 | E27: 5470788.6 | F27: 9435207 | G27: 3.22 | H27: 0.58 | I27: 455899.05 | J27: 1 | K27: 29920015 | L27: 11505500 | M27: 6787896.6 | N27: 43831 | O27: 45658 | P27: 621195.17 | Q27: #VALUE!
A28: RHODE ISLAND | B28: 2.0318464e+08 | C28: 1.8531647e+08 | D28: 17868168 | E28: 9492893.9 | F28: 5655134 | G28: 3.16 | H28: 1.68 | I28: 791074.5 | J28: 7 | K28: 12330646 | L28: 936842.8 | M28: on track | N28: 43647 | O28: 45839 | P28: 1934853.4 | Q28: #VALUE!
A29: WASHINGTON | B29: 535148479 | C29: 4.9400213e+08 | D29: 41146347 | E29: 11941494 | F29: 13099382 | G29: 3.14 | H29: 0.91 | I29: 995124.52 | J29: 7 | K29: 34180476 | L29: 2135369.1 | M29: 1199698.9 | N29: 43647 | O29: 45839 | P29: 671790.11 | Q29: #VALUE!
A30: NEW JERSEY | B30: 3.0053106e+08 | C30: 2.801052e+08 | D30: 20425865 | E30: 7154799.3 | F30: 6730317 | G30: 3.03 | H30: 1.06 | I30: 596233.28 | J30: 7 | K30: 16252232 | L30: 995033.06 | M30: on track | N30: 43647 | O30: 45839 | P30: 809391.24 | Q30: #VALUE!
A31: ARKANSAS | B31: 7.9940642e+08 | C31: 7.4724373e+08 | D31: 52162685 | E31: 24452877 | F31: 17480755 | G31: 2.98 | H31: 1.4 | I31: 2037739.8 | J31: 7 | K31: 37898507 | L31: 2457310.7 | M31: on track | N31: 43647 | O31: 45839 | P31: 3077629.8 | Q31: #VALUE!
A32: INDIANA | B32: 1.3404282e+09 | C32: 1.2492739e+09 | D32: 91154302 | E32: 23431464 | F32: 30689455 | G32: 2.97 | H32: 0.76 | I32: 1952622 | J32: 7 | K32: 77485948 | L32: 4253627.5 | M32: 2061523.5 | N32: 43647 | O32: 45839 | P32: 546254.68 | Q32: #VALUE!
A33: TEXAS | B33: 2.9504914e+09 | C33: 2.7390346e+09 | D33: 2.1145686e+08 | E33: 77804111 | F33: 71178309 | G33: 2.97 | H33: 1.09 | I33: 6483675.9 | J33: 9 | K33: 1.5310377e+08 | L33: 7677804.3 | M33: on track | N33: 44075 | O33: 45901 | P33: 5353157.2 | Q33: #VALUE!
A34: IDAHO | B34: 3.5154319e+08 | C34: 3.2615424e+08 | D34: 25388942 | E34: 7108781.8 | F34: 8658249 | G34: 2.93 | H34: 0.82 | I34: 592398.48 | J34: 4 | K34: 23019348 | L34: 2018111 | M34: 935829.88 | N34: 43556 | O34: 45748 | P34: 125923.01 | Q34: #VALUE!
A35: NEVADA | B35: 101611843 | C35: 93172844 | D35: 8438998.9 | E35: 3356175.2 | F35: 2910779 | G35: 2.9 | H35: 1.15 | I35: 279681.27 | J35: 7 | K35: 6481230 | L35: 373920.13 | M35: on track | N35: 43647 | O35: 45839 | P35: 0 | Q35: #VALUE!
A36: COLORADO | B36: 3.9259617e+08 | C36: 3.6656648e+08 | D36: 26029686 | E36: 16086104 | F36: 9305817 | G36: 2.8 | H36: 1.73 | I36: 1340508.6 | J36: 4 | K36: 20667652 | L36: 1854513 | M36: on track | N36: 43556 | O36: 45748 | P36: -489196.21 | Q36: #VALUE!
A37: MASSACHUSETTS | B37: 1.4288078e+09 | C37: 1.3342075e+09 | D37: 94600265 | E37: 45636434 | F37: 34424780 | G37: 2.75 | H37: 1.33 | I37: 3803036.2 | J37: 4 | K37: 79388120 | L37: 6437676.2 | M37: on track | N37: 43922 | O37: 45748 | P37: 2314551.9 | Q37: #VALUE!
A38: VERMONT | B38: 285086766 | C38: 265213043 | D38: 19873723 | E38: 9165906.5 | F38: 7485780 | G38: 2.65 | H38: 1.22 | I38: 763825.54 | J38: 7 | K38: 14526944 | L38: on track | M38: on track | N38: 43647 | O38: 45839 | P38: 280300.97 | Q38: #VALUE!
A39: MISSISSIPPI | B39: 1.2393881e+09 | C39: 1.1771754e+09 | D39: 62212707 | E39: 19633291 | F39: 24088947 | G39: 2.58 | H39: 0.82 | I39: 1636107.6 | J39: 7 | K39: 50759954 | L39: 2004973.3 | M39: on track | N39: 43647 | O39: 45839 | P39: 1814194.5 | Q39: #VALUE!
A40: OKLAHOMA | B40: 6.9932804e+08 | C40: 6.6359926e+08 | D40: 35728780 | E40: 16549722 | F40: 14024709 | G40: 2.55 | H40: 1.18 | I40: 1379143.5 | J40: 4 | K40: 30212206 | L40: 1919840.6 | M40: on track | N40: 43922 | O40: 45748 | P40: 1109838.2 | Q40: #VALUE!
A41: CONNECTICUT | B41: 5.2832884e+08 | C41: 4.9315373e+08 | D41: 35175109 | E41: 15100809 | F41: 13880022 | G41: 2.53 | H41: 1.09 | I41: 1258400.7 | J41: 7 | K41: 26366304 | L41: on track | M41: on track | N41: 43647 | O41: 45839 | P41: 0 | Q41: #VALUE!
A42: OHIO | B42: 1.9853362e+09 | C42: 1.8701589e+09 | D42: 1.1517728e+08 | E42: 41154030 | F42: 45588088 | G42: 2.53 | H42: 0.9 | I42: 3429502.5 | J42: 7 | K42: 91170763 | L42: on track | M42: on track | N42: 43647 | O42: 45839 | P42: 4316420.3 | Q42: #VALUE!
A43: SOUTH DAKOTA | B43: 254239457 | C43: 2.4005225e+08 | D43: 14187208 | E43: 6432888 | F43: 5680880 | G43: 2.5 | H43: 1.13 | I43: 536074 | J43: 1 | K43: 13651134 | L43: 2825447.8 | M43: on track | N43: 43831 | O43: 45658 | P43: 2139911.8 | Q43: #VALUE!
A44: WISCONSIN | B44: 1110426785 | C44: 1.0418035e+09 | D44: 68623242 | E44: 25201748 | F44: 27485501 | G44: 2.5 | H44: 0.92 | I44: 2100145.6 | J44: 4 | K44: 60222659 | L44: 3413059.9 | M44: on track | N44: 43922 | O44: 45748 | P44: 6822990.2 | Q44: #VALUE!
A45: MARYLAND | B45: 3.1444639e+08 | C45: 2.940929e+08 | D45: 20353491 | E45: 8910377.3 | F45: 8369791 | G45: 2.43 | H45: 1.06 | I45: 742531.44 | J45: 7 | K45: 15155771 | L45: on track | M45: on track | N45: 43647 | O45: 45839 | P45: 445553.34 | Q45: #VALUE!
A46: ARIZONA | B46: 398824318 | C46: 3.7616502e+08 | D46: 22659294 | E46: 11646344 | F46: 9664284 | G46: 2.34 | H46: 1.21 | I46: 970528.71 | J46: 7 | K46: 15865593 | L46: on track | M46: on track | N46: 43647 | O46: 45839 | P46: 848285.7 | Q46: #VALUE!
A47: MAINE | B47: 509113932 | C47: 4.8168102e+08 | D47: 27432911 | E47: 12213034 | F47: 11867952 | G47: 2.31 | H47: 1.03 | I47: 1017752.8 | J47: 1 | K47: 26415159 | L47: 3697007.4 | M47: on track | N47: 43831 | O47: 45658 | P47: 2022519.4 | Q47: #VALUE!
A48: ALABAMA | B48: 1.0852751e+09 | C48: 1.0392476e+09 | D48: 46027530 | E48: 22180536 | F48: 22858857 | G48: 2.01 | H48: 0.97 | I48: 1848378 | J48: 4 | K48: 38634019 | L48: on track | M48: on track | N48: 43556 | O48: 45748 | P48: 213909.58 | Q48: #VALUE!
A49: LOUISIANA | B49: 1205115490 | C49: 1.1608629e+09 | D49: 44252627 | E49: 21136436 | F49: 22499042 | G49: 1.97 | H49: 0.94 | I49: 1761369.7 | J49: 4 | K49: 37207149 | L49: on track | M49: on track | N49: 43922 | O49: 45748 | P49: 753723.92 | Q49: #VALUE!
A50: OREGON | B50: 5.4540968e+08 | C50: 5.2376908e+08 | D50: 21640600 | E50: 13763199 | F50: 11656242 | G50: 1.86 | H50: 1.18 | I50: 1146933.3 | J50: 1 | K50: 20493666 | L50: on track | M50: on track | N50: 43831 | O50: 45658 | P50: 963746.46 | Q50: #VALUE!
A51: UTAH | B51: 238203233 | C51: 2.3344379e+08 | D51: 4759446.8 | E51: 6962652.5 | F51: 5501208 | G51: 0.87 | H51: 1.27 | I51: 580221.04 | J51: 7 | K51: 697899.49 | L51: on track | M51: on track | N51: 43647 | O51: 45839 | P51: 33335.81 | Q51: #VALUE!
A52: DELAWARE | B52: 75470621 | C52: 73604522 | D52: 1866099.4 | E52: 2625165.4 | F52: 2752623 | G52: 0.68 | H52: 0.95 | I52: 218763.78 | J52: 7 | K52: 334752.89 | L52: on track | M52: on track | N52: 43647 | O52: 45839 | P52: 132525.58 | Q52: #VALUE!
A53: TOTALS: | B53: 4.3808641e+10 | C53: 4.0306642e+10 | D53: 3.5019988e+09 | E53: 9.5132867e+08 | F53: 983528971 | G53: 3.56 | H53: 0.97 | I53: 79277389 | P53: 89460376
D56: Number of states with unexpended balance greater than 2.5: | G56: 40
D57: Number of states with expenditure rate less than 1: | H57: 29

Sheet Oct'25
A1: Run Date: 10/31/2025 As of: 10/31/2025 | B1: 10/31/2025
A2: State Name | B2: Amount Of Open Grants | C2: Total Expended from Open Grants | D2: Total Unexpended from Open Grants | E2: Amount Expended Last 12 Months | F2: Most Recent Grant Amount | G2: Ratio Unexpended To Grant | H2: Ratio Expended Last 12 Months to Grant | I2: Avg monthly expenditure last 12 mos | J2: Months remaining to goal | K2: Projected bal 60 days before end of PY | L2: Monthly spending to reach 2x goal | M2: Monthly spending to reach 2.5x goal | N2: PY Start | O2: Current Pgm Yr start | P2: latest month's expenditure | Q2: Most Recent Grant Appeared in LOCCS
A3: WEST VIRGINIA | B3: 7.2247938e+08 | C3: 6.4286143e+08 | D3: 79617958 | E3: 12436108 | F3: 13783001 | G3: 5.78 | H3: 0.9 | I3: 1036342.3 | J3: 6 | K3: 73399904 | L3: 8675326 | M3: 7526742.5 | N3: 43647 | O3: 45839 | P3: 1108955.6 | Q3: #VALUE!
A4: NORTH CAROLINA | B4: 1.8347583e+09 | C4: 1.5695992e+09 | D4: 2.6515912e+08 | E4: 44884117 | F4: 46162390 | G4: 5.74 | H4: 0.97 | I4: 3740343 | J4: 0 | K4: 2.6515912e+08 | L4: NA | M4: NA | N4: 43831 | O4: 45658 | P4: 2022189.1 | Q4: #VALUE!
A5: MICHIGAN | B5: 1.5033333e+09 | C5: 1.3126406e+09 | D5: 1.9069279e+08 | E5: 19826291 | F5: 34090474 | G5: 5.59 | H5: 0.58 | I5: 1652190.9 | J5: 6 | K5: 1.8077964e+08 | L5: 20418640 | M5: 17577767 | N5: 43647 | O5: 45839 | P5: 5892902.2 | Q5: #VALUE!
A6: FLORIDA | B6: 1.1373904e+09 | C6: 1.0059777e+09 | D6: 1.3141269e+08 | E6: 24534908 | F6: 24778539 | G6: 5.3 | H6: 0.99 | I6: 2044575.7 | J6: 6 | K6: 1.1914524e+08 | L6: 13642602 | M6: 11577724 | N6: 43647 | O6: 45839 | P6: 723519.45 | Q6: #VALUE!
A7: WYOMING | B7: 1.2444569e+08 | C7: 1.066075e+08 | D7: 17838189 | E7: 2301259.2 | F7: 3545933 | G7: 5.03 | H7: 0.65 | I7: 191771.6 | J7: 0 | K7: 17838189 | L7: NA | M7: NA | N7: 43831 | O7: 45658 | P7: 651135.25 | Q7: #VALUE!
A8: KENTUCKY | B8: 1.1941308e+09 | C8: 1.0756642e+09 | D8: 1.184666e+08 | E8: 20648001 | F8: 25988523 | G8: 4.56 | H8: 0.79 | I8: 1720666.7 | J8: 6 | K8: 1.081426e+08 | L8: 11081592 | M8: 8915882.1 | N8: 43647 | O8: 45839 | P8: 1134595 | Q8: #VALUE!
A9: MINNESOTA | B9: 872347192 | C9: 7.8581787e+08 | D9: 86529319 | E9: 17410558 | F9: 19090913 | G9: 4.53 | H9: 0.91 | I9: 1450879.8 | J9: 9 | K9: 73471400 | L9: 5371943.6 | M9: 4311337.4 | N9: 43739 | O9: 45931 | P9: 2631296.9 | Q9: #VALUE!
A10: NORTH DAKOTA | B10: 1.9099904e+08 | C10: 1.7521267e+08 | D10: 15786366 | E10: 3459160.5 | F10: 3551615 | G10: 4.44 | H10: 0.97 | I10: 288263.37 | J10: 6 | K10: 14056785 | L10: 1447189.3 | M10: 1151221.3 | N10: 43647 | O10: 45839 | P10: 1238126.8 | Q10: #VALUE!
A11: PUERTO RICO | B11: 1966895481 | C11: 1.8700505e+09 | D11: 96844941 | E11: 22090969 | F11: 21788490 | G11: 4.44 | H11: 1.01 | I11: 1840914.1 | J11: 6 | K11: 85799456 | L11: 8877993.4 | M11: 7062285.9 | N11: 43647 | O11: 45839 | P11: 3577198.2 | Q11: #VALUE!
A12: NEBRASKA | B12: 5.1116332e+08 | C12: 4.6426581e+08 | D12: 46897504 | E12: 4433427.8 | F12: 10598087 | G12: 4.43 | H12: 0.42 | I12: 369452.32 | J12: 6 | K12: 44680790 | L12: 4283555 | M12: 3400381 | N12: 43647 | O12: 45839 | P12: 222430.37 | Q12: #VALUE!
A13: VIRGINIA | B13: 813673223 | C13: 7.2949181e+08 | D13: 84181414 | E13: 14081266 | F13: 19453948 | G13: 4.33 | H13: 0.72 | I13: 1173438.8 | J13: 6 | K13: 77140781 | L13: 7545586.3 | M13: 5924424 | N13: 43647 | O13: 45839 | P13: 1156035 | Q13: #VALUE!
A14: CALIFORNIA | B14: 1.4681773e+09 | C14: 1.3405721e+09 | D14: 1.2760523e+08 | E14: 32441153 | F14: 29748591 | G14: 4.29 | H14: 1.09 | I14: 2703429.4 | J14: 6 | K14: 1.1138465e+08 | L14: 11351341 | M14: 8872291.6 | N14: 43647 | O14: 45839 | P14: 3542961.8 | Q14: #VALUE!
A15: ALASKA | B15: 107063879 | C15: 95677443 | D15: 11386436 | E15: 1453315.9 | F15: 2669761 | G15: 4.26 | H15: 0.54 | I15: 121109.66 | J15: 6 | K15: 10659778 | L15: 1007819.1 | M15: 785338.99 | N15: 43647 | O15: 45839 | P15: 47691.33 | Q15: #VALUE!
A16: SOUTH CAROLINA | B16: 1.0425892e+09 | C16: 9.6359507e+08 | D16: 78994089 | E16: 23374053 | F16: 20158365 | G16: 3.92 | H16: 1.16 | I16: 1947837.8 | J16: 3 | K16: 73150576 | L16: 12892453 | M16: 9532725.6 | N16: 43922 | O16: 45748 | P16: 2097630 | Q16: #VALUE!
A17: MISSOURI | B17: 1033187132 | C17: 9.4664338e+08 | D17: 86543752 | E17: 24838431 | F17: 22862412 | G17: 3.79 | H17: 1.09 | I17: 2069869.2 | J17: 3 | K17: 80334144 | L17: 13606309 | M17: 9795907.3 | N17: 43922 | O17: 45748 | P17: 4255144.6 | Q17: #VALUE!
A18: ILLINOIS | B18: 1.3362691e+09 | C18: 1.2276809e+09 | D18: 1.0858822e+08 | E18: 48586224 | F18: 29074134 | G18: 3.73 | H18: 1.67 | I18: 4048852 | J18: 0 | K18: 1.0858822e+08 | L18: NA | M18: NA | N18: 43831 | O18: 45658 | P18: 9638965.8 | Q18: #VALUE!
A19: NEW MEXICO | B19: 493558716 | C19: 4.532885e+08 | D19: 40270215 | E19: 9537032.5 | F19: 11038481 | G19: 3.65 | H19: 0.86 | I19: 794752.71 | J19: 0 | K19: 40270215 | L19: NA | M19: NA | N19: 43831 | O19: 45658 | P19: 973734.64 | Q19: #VALUE!
A20: PENNSYLVANIA | B20: 2.0418936e+09 | C20: 1.8939779e+09 | D20: 1.4791569e+08 | E20: 35280513 | F20: 40828727 | G20: 3.62 | H20: 0.86 | I20: 2940042.8 | J20: 0 | K20: 1.4791569e+08 | L20: NA | M20: NA | N20: 43831 | O20: 45658 | P20: 3460973.1 | Q20: #VALUE!
A21: NEW YORK | B21: 1.2764225e+09 | C21: 1.1074071e+09 | D21: 1.690154e+08 | E21: 41510165 | F21: 47644860 | G21: 3.55 | H21: 0.87 | I21: 3459180.4 | J21: 0 | K21: 1.690154e+08 | L21: NA | M21: NA | N21: 43831 | O21: 45658 | P21: 4474957.2 | Q21: #VALUE!
A22: IOWA | B22: 1083940953 | C22: 9.9952723e+08 | D22: 84413722 | E22: 21812926 | F22: 24208645 | G22: 3.49 | H22: 0.9 | I22: 1817743.8 | J22: 0 | K22: 84413722 | L22: NA | M22: NA | N22: 43831 | O22: 45658 | P22: 2769887.5 | Q22: #VALUE!
A23: KANSAS | B23: 689945660 | C23: 6.3858881e+08 | D23: 51356847 | E23: 9870695.4 | F23: 14901309 | G23: 3.45 | H23: 0.66 | I23: 822557.95 | J23: 0 | K23: 51356847 | L23: NA | M23: NA | N23: 43466 | O23: 45658 | P23: 249777.39 | Q23: #VALUE!
A24: MONTANA | B24: 265120500 | C24: 2.4441056e+08 | D24: 20709945 | E24: 8613502.8 | F24: 6172506 | G24: 3.36 | H24: 1.4 | I24: 717791.9 | J24: 3 | K24: 18556569 | L24: 2788311 | M24: 1759560 | N24: 43922 | O24: 45748 | P24: 653062.82 | Q24: #VALUE!
A25: GEORGIA | B25: 1.6832427e+09 | C25: 1.5471922e+09 | D25: 1.3605042e+08 | E25: 39967294 | F25: 40945091 | G25: 3.32 | H25: 0.98 | I25: 3330607.9 | J25: 6 | K25: 1.1606677e+08 | L25: 9026706.1 | M25: 5614615.2 | N25: 43647 | O25: 45839 | P25: 3601266.6 | Q25: #VALUE!
A26: TENNESSEE | B26: 1182377479 | C26: 1.0925955e+09 | D26: 89781969 | E26: 22904724 | F26: 27472066 | G26: 3.27 | H26: 0.83 | I26: 1908727 | J26: 6 | K26: 78329607 | L26: 5806306.1 | M26: 3516967.3 | N26: 43647 | O26: 45839 | P26: 797438.9 | Q26: #VALUE!
A27: RHODE ISLAND | B27: 2.0318464e+08 | C27: 1.85336e+08 | D27: 17848638 | E27: 9512423.4 | F27: 5655134 | G27: 3.16 | H27: 1.68 | I27: 792701.95 | J27: 6 | K27: 13092426 | L27: 1089728.4 | M27: on track | N27: 43647 | O27: 45839 | P27: 19529.43 | Q27: #VALUE!
A28: NEW HAMPSHIRE | B28: 355494147 | C28: 3.2594227e+08 | D28: 29551876 | E28: 6410195.9 | F28: 9435207 | G28: 3.13 | H28: 0.68 | I28: 534182.99 | J28: 0 | K28: 29551876 | L28: NA | M28: NA | N28: 43831 | O28: 45658 | P28: 824038.24 | Q28: #VALUE!
A29: WASHINGTON | B29: 535148479 | C29: 4.9487118e+08 | D29: 40277304 | E29: 11291480 | F29: 13099382 | G29: 3.07 | H29: 0.86 | I29: 940956.67 | J29: 6 | K29: 34631564 | L29: 2346423.3 | M29: 1254808.1 | N29: 43647 | O29: 45839 | P29: 869043.9 | Q29: #VALUE!
A30: NEW JERSEY | B30: 3.0053106e+08 | C30: 2.8019954e+08 | D30: 20331522 | E30: 7553611.9 | F30: 6730317 | G30: 3.02 | H30: 1.12 | I30: 629467.66 | J30: 6 | K30: 16554716 | L30: 1145148.1 | M30: on track | N30: 43647 | O30: 45839 | P30: 94343.1 | Q30: #VALUE!
A31: INDIANA | B31: 1.3404282e+09 | C31: 1.2508479e+09 | D31: 89580274 | E31: 23581487 | F31: 30689455 | G31: 2.92 | H31: 0.77 | I31: 1965123.9 | J31: 6 | K31: 77789531 | L31: 4700227.3 | M31: 2142772.7 | N31: 43647 | O31: 45839 | P31: 1574028.3 | Q31: #VALUE!
A32: ARKANSAS | B32: 7.9940642e+08 | C32: 7.487365e+08 | D32: 50669920 | E32: 24840684 | F32: 17480755 | G32: 2.9 | H32: 1.42 | I32: 2070057 | J32: 6 | K32: 38249578 | L32: 2618068.4 | M32: on track | N32: 43647 | O32: 45839 | P32: 1492765 | Q32: #VALUE!
A33: TEXAS | B33: 2.9504914e+09 | C33: 2.7438803e+09 | D33: 2.0661111e+08 | E33: 76251399 | F33: 71178309 | G33: 2.9 | H33: 1.07 | I33: 6354283.2 | J33: 8 | K33: 1.5577685e+08 | L33: 8031811.6 | M33: on track | N33: 44075 | O33: 45901 | P33: 4845745.8 | Q33: #VALUE!
A34: NEVADA | B34: 101611843 | C34: 93468779 | D34: 8143064.1 | E34: 2200757 | F34: 2910779 | G34: 2.8 | H34: 0.76 | I34: 183396.42 | J34: 6 | K34: 7042685.6 | L34: 386917.68 | M34: on track | N34: 43647 | O34: 45839 | P34: 295934.81 | Q34: #VALUE!
A35: COLORADO | B35: 3.9259617e+08 | C35: 3.6683475e+08 | D35: 25761417 | E35: 12853127 | F35: 9305817 | G35: 2.77 | H35: 1.38 | I35: 1071093.9 | J35: 3 | K35: 22548135 | L35: 2383260.9 | M35: on track | N35: 43556 | O35: 45748 | P35: 268269.61 | Q35: #VALUE!
A36: IDAHO | B36: 3.5154319e+08 | C36: 3.2759722e+08 | D36: 23945963 | E36: 7695879.7 | F36: 8658249 | G36: 2.77 | H36: 0.89 | I36: 641323.31 | J36: 3 | K36: 22021993 | L36: 2209821.5 | M36: 766780.05 | N36: 43556 | O36: 45748 | P36: 1442979.4 | Q36: #VALUE!
A37: MASSACHUSETTS | B37: 1.4288078e+09 | C37: 1.3373318e+09 | D37: 91475998 | E37: 45571020 | F37: 34424780 | G37: 2.66 | H37: 1.32 | I37: 3797585 | J37: 3 | K37: 80083243 | L37: 7542145.9 | M37: on track | N37: 43922 | O37: 45748 | P37: 3124267.1 | Q37: #VALUE!
A38: VERMONT | B38: 285086766 | C38: 265519456 | D38: 19567310 | E38: 8450243.9 | F38: 7485780 | G38: 2.61 | H38: 1.13 | I38: 704186.99 | J38: 6 | K38: 15342188 | L38: 765958.33 | M38: on track | N38: 43647 | O38: 45839 | P38: 306413 | Q38: #VALUE!
A39: MISSISSIPPI | B39: 1.2393881e+09 | C39: 1.1790994e+09 | D39: 60288693 | E39: 19213539 | F39: 24088947 | G39: 2.5 | H39: 0.8 | I39: 1601128.3 | J39: 6 | K39: 50681923 | L39: 2018466.5 | M39: on track | N39: 43647 | O39: 45839 | P39: 1924014.2 | Q39: #VALUE!
A40: WISCONSIN | B40: 1110426785 | C40: 1.0418035e+09 | D40: 68623242 | E40: 21312215 | F40: 27485501 | G40: 2.5 | H40: 0.78 | I40: 1776017.9 | J40: 3 | K40: 63295188 | L40: 4550746.6 | M40: on track | N40: 43922 | O40: 45748 | P40: 0 | Q40: #VALUE!
A41: OKLAHOMA | B41: 6.9932804e+08 | C41: 6.645889e+08 | D41: 34739134 | E41: 13720646 | F41: 14024709 | G41: 2.48 | H41: 0.98 | I41: 1143387.2 | J41: 3 | K41: 31308972 | L41: 2229905.3 | M41: on track | N41: 43922 | O41: 45748 | P41: 989646.44 | Q41: #VALUE!
A42: OHIO | B42: 1.9853362e+09 | C42: 1.8748386e+09 | D42: 1.104976e+08 | E42: 41444506 | F42: 45588088 | G42: 2.42 | H42: 0.91 | I42: 3453708.8 | J42: 6 | K42: 89775352 | L42: on track | M42: on track | N42: 43647 | O42: 45839 | P42: 4679675.4 | Q42: #VALUE!
A43: CONNECTICUT | B43: 5.2832884e+08 | C43: 4.9482161e+08 | D43: 33507230 | E43: 12678019 | F43: 13880022 | G43: 2.41 | H43: 0.91 | I43: 1056501.6 | J43: 6 | K43: 27168221 | L43: on track | M43: on track | N43: 43647 | O43: 45839 | P43: 1667878.7 | Q43: #VALUE!
A44: MARYLAND | B44: 3.1444639e+08 | C44: 2.9512839e+08 | D44: 19317996 | E44: 9890319.3 | F44: 8369791 | G44: 2.31 | H44: 1.18 | I44: 824193.28 | J44: 6 | K44: 14372837 | L44: on track | M44: on track | N44: 43647 | O44: 45839 | P44: 1035494.9 | Q44: #VALUE!
A45: ARIZONA | B45: 398824318 | C45: 3.7687482e+08 | D45: 21949494 | E45: 11464836 | F45: 9664284 | G45: 2.27 | H45: 1.19 | I45: 955402.99 | J45: 6 | K45: 16217076 | L45: on track | M45: on track | N45: 43647 | O45: 45839 | P45: 709799.36 | Q45: #VALUE!
A46: MAINE | B46: 509113932 | C46: 4.8238031e+08 | D46: 26733622 | E46: 12248109 | F46: 11867952 | G46: 2.25 | H46: 1.03 | I46: 1020675.8 | J46: 0 | K46: 26733622 | L46: NA | M46: on track | N46: 43831 | O46: 45658 | P46: 699289.44 | Q46: #VALUE!
A47: SOUTH DAKOTA | B47: 254239457 | C47: 2.4150573e+08 | D47: 12733728 | E47: 9140722.9 | F47: 5680880 | G47: 2.24 | H47: 1.61 | I47: 761726.91 | J47: 0 | K47: 12733728 | L47: NA | M47: on track | N47: 43831 | O47: 45658 | P47: 1453479.9 | Q47: #VALUE!
A48: ALABAMA | B48: 1.0852751e+09 | C48: 1.0418886e+09 | D48: 43386459 | E48: 21829764 | F48: 22858857 | G48: 1.9 | H48: 0.95 | I48: 1819147 | J48: 3 | K48: 37929018 | L48: on track | M48: on track | N48: 43556 | O48: 45748 | P48: 2641071.1 | Q48: #VALUE!
A49: LOUISIANA | B49: 1205115490 | C49: 1.164147e+09 | D49: 40968450 | E49: 22542858 | F49: 22499042 | G49: 1.82 | H49: 1 | I49: 1878571.5 | J49: 3 | K49: 35332736 | L49: on track | M49: on track | N49: 43922 | O49: 45748 | P49: 3284177.2 | Q49: #VALUE!
A50: OREGON | B50: 5.4540968e+08 | C50: 5.2755961e+08 | D50: 17850067 | E50: 15486388 | F50: 11656242 | G50: 1.53 | H50: 1.33 | I50: 1290532.3 | J50: 0 | K50: 17850067 | L50: on track | M50: on track | N50: 43831 | O50: 45658 | P50: 3790532.2 | Q50: #VALUE!
A51: UTAH | B51: 238203233 | C51: 2.3344379e+08 | D51: 4759446.8 | E51: 6678767.4 | F51: 5501208 | G51: 0.87 | H51: 1.21 | I51: 556563.95 | J51: 6 | K51: 1420063.1 | L51: on track | M51: on track | N51: 43647 | O51: 45839 | P51: 0 | Q51: #VALUE!
A52: DELAWARE | B52: 75470621 | C52: 73606520 | D52: 1864101.2 | E52: 2488748.9 | F52: 2752623 | G52: 0.68 | H52: 0.9 | I52: 207395.74 | J52: 6 | K52: 619726.73 | L52: on track | M52: on track | N52: 43647 | O52: 45839 | P52: 1998.21 | Q52: #VALUE!
A53: TOTALS: | B53: 4.3808641e+10 | C53: 4.0401599e+10 | D53: 3.4070425e+09 | E53: 9.6264784e+08 | F53: 983528971 | G53: 3.46 | H53: 0.98 | I53: 80220654 | P53: 94956290
D56: Number of states with unexpended balance greater than 2.5: | G56: 36
D57: Number of states with expenditure rate less than 1: | H57: 30

Sheet Nov'25
A1: Run Date: 11/28/2025 As of: 11/30/2025 | B1: 11/30/2025
A2: State Name | B2: Amount Of Open Grants | C2: Total Expended from Open Grants | D2: Total Unexpended from Open Grants | E2: Amount Expended Last 12 Months | F2: Most Recent Grant Amount | G2: Ratio Unexpended To Grant | H2: Ratio Expended Last 12 Months to Grant | I2: Avg monthly expenditure last 12 mos | J2: Months remaining to goal | K2: Projected bal 60 days before end of PY | L2: Monthly spending to reach 2x goal | M2: Monthly spending to reach 2.5x goal | N2: PY Start | O2: Current Pgm Yr start | P2: latest month's expenditure | Q2: Most Recent Grant Appeared in LOCCS
A3: WEST VIRGINIA | B3: 7.2247938e+08 | C3: 6.4346316e+08 | D3: 79016226 | E3: 12711213 | F3: 13783001 | G3: 5.73 | H3: 0.92 | I3: 1059267.7 | J3: 5 | K3: 73719888 | L3: 10290045 | M3: 8911744.8 | N3: 43647 | O3: 45839 | P3: 601731.28 | Q3: #VALUE!
A4: NORTH CAROLINA | B4: 1.8347583e+09 | C4: 1.5722859e+09 | D4: 2.6247237e+08 | E4: 45287669 | F4: 46162390 | G4: 5.69 | H4: 0.98 | I4: 3773972.4 | J4: -1 | K4: NA | L4: NA | M4: NA | N4: 43831 | O4: 45658 | P4: 2686741.8 | Q4: #VALUE!
A5: MICHIGAN | B5: 1.5033333e+09 | C5: 1.3126666e+09 | D5: 1.9066679e+08 | E5: 19852283 | F5: 34090474 | G5: 5.59 | H5: 0.58 | I5: 1654356.9 | J5: 5 | K5: 1.8239501e+08 | L5: 24497169 | M5: 21088122 | N5: 43647 | O5: 45839 | P5: 25991.71 | Q5: #VALUE!
A6: FLORIDA | B6: 1.1373904e+09 | C6: 1.0073121e+09 | D6: 1.3007838e+08 | E6: 25355082 | F6: 24778539 | G6: 5.25 | H6: 1.02 | I6: 2112923.5 | J6: 5 | K6: 1.1951377e+08 | L6: 16104261 | M6: 13626407 | N6: 43647 | O6: 45839 | P6: 1334304.3 | Q6: #VALUE!
A7: WYOMING | B7: 1.2444569e+08 | C7: 1.076731e+08 | D7: 16772596 | E7: 3348623.6 | F7: 3545933 | G7: 4.73 | H7: 0.94 | I7: 279051.97 | J7: -1 | K7: NA | L7: NA | M7: NA | N7: 43831 | O7: 45658 | P7: 1065592.3 | Q7: #VALUE!
A8: KENTUCKY | B8: 1.1941308e+09 | C8: 1.0782855e+09 | D8: 1.1584534e+08 | E8: 21237885 | F8: 25988523 | G8: 4.46 | H8: 0.82 | I8: 1769823.7 | J8: 5 | K8: 1.0699622e+08 | L8: 12773659 | M8: 10174807 | N8: 43647 | O8: 45839 | P8: 2621259 | Q8: #VALUE!
A9: NORTH DAKOTA | B9: 1.9099904e+08 | C9: 1.7521267e+08 | D9: 15786366 | E9: 3459160.5 | F9: 3551615 | G9: 4.44 | H9: 0.97 | I9: 288263.37 | J9: 5 | K9: 14345049 | L9: 1736627.1 | M9: 1381465.6 | N9: 43647 | O9: 45839 | P9: 0 | Q9: #VALUE!
A10: MINNESOTA | B10: 872347192 | C10: 7.8815872e+08 | D10: 84188474 | E10: 16072389 | F10: 19090913 | G10: 4.41 | H10: 0.84 | I10: 1339365.8 | J10: 8 | K10: 73473548 | L10: 5750831 | M10: 4557649 | N10: 43739 | O10: 45931 | P10: 2340844.4 | Q10: #VALUE!
A11: PUERTO RICO | B11: 1966895481 | C11: 1.8711411e+09 | D11: 95754386 | E11: 21910997 | F11: 21788490 | G11: 4.39 | H11: 1.01 | I11: 1825916.4 | J11: 5 | K11: 86624804 | L11: 10435481 | M11: 8256632.2 | N11: 43647 | O11: 45839 | P11: 1090554.5 | Q11: #VALUE!
A12: NEBRASKA | B12: 5.1116332e+08 | C12: 4.6479636e+08 | D12: 46366953 | E12: 4795025.4 | F12: 10598087 | G12: 4.38 | H12: 0.45 | I12: 399585.45 | J12: 5 | K12: 44369026 | L12: 5034155.8 | M12: 3974347.1 | N12: 43647 | O12: 45839 | P12: 530550.91 | Q12: #VALUE!
A13: VIRGINIA | B13: 813673223 | C13: 7.2995141e+08 | D13: 83721810 | E13: 13173012 | F13: 19453948 | G13: 4.3 | H13: 0.68 | I13: 1097751 | J13: 5 | K13: 78233055 | L13: 8962782.9 | M13: 7017388.1 | N13: 43647 | O13: 45839 | P13: 459603.63 | Q13: #VALUE!
A14: ALASKA | B14: 107063879 | C14: 95688010 | D14: 11375869 | E14: 1111309.4 | F14: 2669761 | G14: 4.26 | H14: 0.42 | I14: 92609.117 | J14: 5 | K14: 10912823 | L14: 1207269.3 | M14: 940293.23 | N14: 43647 | O14: 45839 | P14: 10567.8 | Q14: #VALUE!
A15: CALIFORNIA | B15: 1.4681773e+09 | C15: 1.3460498e+09 | D15: 1.2212753e+08 | E15: 36031544 | F15: 29748591 | G15: 4.11 | H15: 1.21 | I15: 3002628.6 | J15: 5 | K15: 1.0711438e+08 | L15: 12526069 | M15: 9551209.5 | N15: 43647 | O15: 45839 | P15: 5477702.3 | Q15: #VALUE!
A16: SOUTH CAROLINA | B16: 1.0425892e+09 | C16: 9.647157e+08 | D16: 77873456 | E16: 23442037 | F16: 20158365 | G16: 3.86 | H16: 1.16 | I16: 1953503.1 | J16: 2 | K16: 73966450 | L16: 18778363 | M16: 13738772 | N16: 43922 | O16: 45748 | P16: 1120633 | Q16: #VALUE!
A17: MISSOURI | B17: 1033187132 | C17: 9.4887213e+08 | D17: 84315001 | E17: 24391240 | F17: 22862412 | G17: 3.69 | H17: 1.07 | I17: 2032603.3 | J17: 2 | K17: 80249795 | L17: 19295089 | M17: 13579486 | N17: 43922 | O17: 45748 | P17: 2228750.8 | Q17: #VALUE!
A18: ILLINOIS | B18: 1.3362691e+09 | C18: 1.2297717e+09 | D18: 1.0649747e+08 | E18: 48682922 | F18: 29074134 | G18: 3.66 | H18: 1.67 | I18: 4056910.1 | J18: -1 | K18: NA | L18: NA | M18: NA | N18: 43831 | O18: 45658 | P18: 2090750.2 | Q18: #VALUE!
A19: PENNSYLVANIA | B19: 2.0418936e+09 | C19: 1.8972731e+09 | D19: 1.4462048e+08 | E19: 34615860 | F19: 40828727 | G19: 3.54 | H19: 0.85 | I19: 2884655 | J19: -1 | K19: NA | L19: NA | M19: NA | N19: 43831 | O19: 45658 | P19: 3295216.4 | Q19: #VALUE!
A20: NEW MEXICO | B20: 493558716 | C20: 4.5472547e+08 | D20: 38833249 | E20: 10973998 | F20: 11038481 | G20: 3.52 | H20: 0.99 | I20: 914499.86 | J20: -1 | K20: NA | L20: NA | M20: NA | N20: 43831 | O20: 45658 | P20: 1436965.8 | Q20: #VALUE!
A21: NEW YORK | B21: 1.2764225e+09 | C21: 1.1112808e+09 | D21: 1.6514177e+08 | E21: 38187517 | F21: 47644860 | G21: 3.47 | H21: 0.8 | I21: 3182293.1 | J21: -1 | K21: NA | L21: NA | M21: NA | N21: 43831 | O21: 45658 | P21: 3873628.9 | Q21: #VALUE!
A22: IOWA | B22: 1083940953 | C22: 1.0004238e+09 | D22: 83517187 | E22: 21407024 | F22: 24208645 | G22: 3.45 | H22: 0.88 | I22: 1783918.6 | J22: -1 | K22: NA | L22: NA | M22: NA | N22: 43831 | O22: 45658 | P22: 896535.67 | Q22: #VALUE!
A23: KANSAS | B23: 689945660 | C23: 6.3947122e+08 | D23: 50474439 | E23: 9771457.9 | F23: 14901309 | G23: 3.39 | H23: 0.66 | I23: 814288.16 | J23: -1 | K23: NA | L23: NA | M23: NA | N23: 43466 | O23: 45658 | P23: 882408.49 | Q23: #VALUE!
A24: MONTANA | B24: 265120500 | C24: 2.4470545e+08 | D24: 20415055 | E24: 7900326.8 | F24: 6172506 | G24: 3.31 | H24: 1.28 | I24: 658360.56 | J24: 2 | K24: 19098333 | L24: 4035021.3 | M24: 2491894.8 | N24: 43922 | O24: 45748 | P24: 294890.41 | Q24: #VALUE!
A25: GEORGIA | B25: 1.6832427e+09 | C25: 1.5485797e+09 | D25: 1.3466299e+08 | E25: 39968803 | F25: 40945091 | G25: 3.29 | H25: 0.98 | I25: 3330733.6 | J25: 5 | K25: 1.1800932e+08 | L25: 10554562 | M25: 6460052.9 | N25: 43647 | O25: 45839 | P25: 1387426.8 | Q25: #VALUE!
A26: TENNESSEE | B26: 1182377479 | C26: 1.0942989e+09 | D26: 88078614 | E26: 22548782 | F26: 27472066 | G26: 3.21 | H26: 0.82 | I26: 1879065.1 | J26: 5 | K26: 78683288 | L26: 6626896.4 | M26: 3879689.8 | N26: 43647 | O26: 45839 | P26: 1703354.4 | Q26: #VALUE!
A27: NEW HAMPSHIRE | B27: 355494147 | C27: 3.2678571e+08 | D27: 28708442 | E27: 6819597.3 | F27: 9435207 | G27: 3.04 | H27: 0.72 | I27: 568299.78 | J27: -1 | K27: NA | L27: NA | M27: NA | N27: 43831 | O27: 45658 | P27: 843433.92 | Q27: #VALUE!
A28: NEW JERSEY | B28: 3.0053106e+08 | C28: 2.8019954e+08 | D28: 20331522 | E28: 7281673.8 | F28: 6730317 | G28: 3.02 | H28: 1.08 | I28: 606806.15 | J28: 5 | K28: 17297492 | L28: 1374177.7 | M28: 701145.96 | N28: 43647 | O28: 45839 | P28: 0 | Q28: #VALUE!
A29: WASHINGTON | B29: 535148479 | C29: 4.9648381e+08 | D29: 38664669 | E29: 11323254 | F29: 13099382 | G29: 2.95 | H29: 0.86 | I29: 943604.53 | J29: 5 | K29: 33946646 | L29: 2493181 | M29: 1183242.8 | N29: 43647 | O29: 45839 | P29: 1612634.5 | Q29: #VALUE!
A30: RHODE ISLAND | B30: 2.0318464e+08 | C30: 1.8660075e+08 | D30: 16583891 | E30: 10770321 | F30: 5655134 | G30: 2.93 | H30: 1.9 | I30: 897526.74 | J30: 5 | K30: 12096257 | L30: 1054724.5 | M30: on track | N30: 43647 | O30: 45839 | P30: 1264747.5 | Q30: #VALUE!
A31: INDIANA | B31: 1.3404282e+09 | C31: 1.2521528e+09 | D31: 88275461 | E31: 24886300 | F31: 30689455 | G31: 2.88 | H31: 0.81 | I31: 2073858.3 | J31: 5 | K31: 77906169 | L31: 5379310.1 | M31: 2310364.6 | N31: 43647 | O31: 45839 | P31: 1304813.3 | Q31: #VALUE!
A32: TEXAS | B32: 2.9504914e+09 | C32: 2.7466542e+09 | D32: 2.0383725e+08 | E32: 74390088 | F32: 71178309 | G32: 2.86 | H32: 1.05 | I32: 6199174 | J32: 7 | K32: 1.6044303e+08 | L32: 8782947.5 | M32: on track | N32: 44075 | O32: 45901 | P32: 2773860.3 | Q32: #VALUE!
A33: IDAHO | B33: 3.5154319e+08 | C33: 3.2759722e+08 | D33: 23945963 | E33: 7078730.8 | F33: 8658249 | G33: 2.77 | H33: 0.82 | I33: 589894.24 | J33: 2 | K33: 22766174 | L33: 3314732.3 | M33: 1150170.1 | N33: 43556 | O33: 45748 | P33: 0 | Q33: #VALUE!
A34: COLORADO | B34: 3.9259617e+08 | C34: 3.6692302e+08 | D34: 25673150 | E34: 12646538 | F34: 9305817 | G34: 2.76 | H34: 1.36 | I34: 1053878.2 | J34: 2 | K34: 23565394 | L34: 3530757.9 | M34: 1204303.7 | N34: 43556 | O34: 45748 | P34: 88266.71 | Q34: #VALUE!
A35: VERMONT | B35: 285086766 | C35: 265691214 | D35: 19395552 | E35: 8266096.4 | F35: 7485780 | G35: 2.59 | H35: 1.1 | I35: 688841.37 | J35: 5 | K35: 15951345 | L35: 884798.4 | M35: on track | N35: 43647 | O35: 45839 | P35: 171758 | Q35: #VALUE!
A36: NEVADA | B36: 101611843 | C36: 94259564 | D36: 7352278.7 | E36: 2991542.4 | F36: 2910779 | G36: 2.53 | H36: 1.03 | I36: 249295.2 | J36: 5 | K36: 6105802.7 | L36: 306144.14 | M36: on track | N36: 43647 | O36: 45839 | P36: 790785.38 | Q36: #VALUE!
A37: MASSACHUSETTS | B37: 1.4288078e+09 | C37: 1.3434309e+09 | D37: 85376860 | E37: 47906257 | F37: 34424780 | G37: 2.48 | H37: 1.39 | I37: 3992188.1 | J37: 2 | K37: 77392484 | L37: 8263650.2 | M37: on track | N37: 43922 | O37: 45748 | P37: 6099137.3 | Q37: #VALUE!
A38: MISSISSIPPI | B38: 1.2393881e+09 | C38: 1.1802791e+09 | D38: 59109033 | E38: 20321116 | F38: 24088947 | G38: 2.45 | H38: 0.84 | I38: 1693426.3 | J38: 5 | K38: 50641902 | L38: 2186227.8 | M38: on track | N38: 43647 | O38: 45839 | P38: 1179660 | Q38: #VALUE!
A39: OKLAHOMA | B39: 6.9932804e+08 | C39: 6.6511553e+08 | D39: 34212503 | E39: 13469110 | F39: 14024709 | G39: 2.44 | H39: 0.96 | I39: 1122425.8 | J39: 2 | K39: 31967652 | L39: 3081542.7 | M39: on track | N39: 43922 | O39: 45748 | P39: 526630.55 | Q39: #VALUE!
A40: ARKANSAS | B40: 7.9940642e+08 | C40: 7.5699867e+08 | D40: 42407745 | E40: 29047926 | F40: 17480755 | G40: 2.43 | H40: 1.66 | I40: 2420660.5 | J40: 5 | K40: 30304443 | L40: on track | M40: on track | N40: 43647 | O40: 45839 | P40: 8262174.9 | Q40: #VALUE!
